{"text_format":"1","workbook":"xlsx","n_sheets":5,"sheets":["様式2_入学志願票（入学試験面接カード）","「志願先」欄  選択一覧","志願先選択一覧（リスト検索用）","科目選択","その他入力規則"],"not_rendered":{"charts":0,"images":0,"macros":1,"external_links":0,"defined_names":1,"comments":0,"pivot_tables":0},"unopened":[],"bounds":{"document_bytes":16777216,"sheet_cells":100000,"rows_first":2000,"rows_last":500,"rows_between":2000,"halvings":0,"cell_chars":16384,"cell_head_chars":4096},"cells_cut":0,"cells_raw":0,"read":"whole","date_system":"1900"}

{"sheet":"様式2_入学志願票（入学試験面接カード）","index":0,"n_rows":81,"n_cols":33,"rows_kept":81,"cut":false,"hidden":false,"merged":[[80,0,80,3],[80,4,80,18],[2,1,2,2],[2,3,2,4],[2,5,2,6],[2,7,2,10],[2,11,2,12],[2,13,2,15],[3,1,3,2],[76,1,76,2],[76,6,77,18],[77,1,77,2],[77,4,77,5],[78,1,79,3],[78,4,79,18],[72,1,72,2],[72,6,73,18],[73,1,73,2],[74,1,74,2],[74,6,75,18],[75,1,75,2],[66,6,67,18],[67,1,67,2],[68,1,68,2],[68,6,69,18],[69,1,69,2],[70,1,70,2],[70,6,71,18],[71,1,71,2],[61,0,79,0],[61,1,61,5],[61,6,61,18],[62,1,62,2],[62,6,63,18],[63,1,63,2],[64,1,64,2],[64,6,65,18],[65,1,65,2],[66,1,66,2],[58,0,58,1],[58,2,58,18],[59,0,60,0],[59,1,59,2],[59,3,59,9],[59,10,59,11],[59,12,59,18],[60,1,60,2],[60,3,60,18],[49,2,55,2],[56,0,56,18],[57,0,57,18],[46,0,46,1],[46,10,46,11],[46,2,46,3],[46,4,46,9],[46,12,46,18],[47,0,47,6],[47,7,47,18],[48,0,55,1],[48,3,48,18],[49,3,55,18],[44,0,44,1],[44,5,44,7],[44,8,44,11],[44,12,44,18],[45,0,45,1],[45,5,45,7],[45,8,45,11],[45,12,45,18],[40,0,40,6],[40,7,40,18],[41,0,41,6],[41,7,41,18],[42,0,42,18],[43,0,43,4],[43,5,43,7],[43,8,43,11],[43,12,43,18],[38,0,39,2],[38,3,39,11],[38,12,38,13],[38,17,38,18],[39,12,39,13],[39,17,39,18],[36,0,37,2],[36,3,37,11],[36,12,36,13],[36,17,36,18],[37,12,37,13],[37,17,37,18],[34,0,35,2],[34,3,35,11],[34,12,34,13],[34,17,34,18],[35,12,35,13],[35,17,35,18],[32,0,33,2],[32,3,33,11],[32,12,32,13],[32,17,32,18],[33,12,33,13],[33,17,33,18],[30,0,31,2],[30,3,31,11],[30,12,30,13],[30,17,30,18],[31,12,31,13],[31,17,31,18],[28,0,29,2],[28,3,29,11],[28,12,28,13],[28,17,28,18],[29,12,29,13],[29,17,29,18],[26,0,27,2],[26,3,27,11],[26,12,26,13],[26,17,26,18],[27,12,27,13],[27,17,27,18],[24,0,25,2],[24,3,25,11],[24,12,24,13],[24,17,24,18],[25,12,25,13],[25,17,25,18],[22,0,23,2],[22,3,23,11],[22,12,22,13],[22,17,22,18],[23,12,23,13],[23,17,23,18],[20,0,21,2],[20,3,21,11],[20,12,20,13],[20,17,20,18],[21,12,21,13],[21,17,21,18],[18,0,19,2],[18,3,19,11],[18,12,18,13],[18,17,18,18],[19,12,19,13],[19,17,19,18],[16,0,17,2],[16,3,17,11],[16,12,16,13],[16,17,16,18],[17,12,17,13],[17,17,17,18],[14,0,15,2],[14,3,15,11],[14,12,14,13],[14,17,14,18],[15,12,15,13],[15,17,15,18],[12,0,13,2],[12,3,13,11],[12,12,12,13],[12,17,12,18],[13,12,13,13],[13,17,13,18],[0,20,1,31],[0,32,1,61],[9,3,9,4],[9,10,9,13],[10,0,10,18],[11,0,11,2],[11,3,11,11],[11,12,11,18],[7,1,7,3],[7,4,7,9],[7,10,7,15],[7,17,7,18],[8,1,8,3],[8,4,8,9],[8,10,8,15],[8,16,9,16],[8,17,9,18],[9,0,9,2],[5,1,5,3],[5,4,5,9],[5,10,5,15],[6,1,6,3],[6,4,6,9],[6,10,6,15],[0,0,0,11],[0,12,0,13],[0,14,0,18],[1,0,1,18],[2,16,6,18],[5,0,8,0],[3,3,3,7],[3,8,3,10],[3,11,3,15],[2,0,4,0],[4,11,4,15],[4,1,4,10]]}
["2023年度法政大学大学院（様式２）　※全専攻提出",null,null,null,null,null,null,null,null,null,null,null,"受験番号",null,null,null,null,null,null,null,"＜入力に関する注意事項＞",null,null,null,null,null,null,null,null,null,null,null,"※このExcelファイルにはマクロが使用されています。\n  「マクロを有効にする」もしくは「コンテンツの有効化」ボタン等を押して作成を開始してください。"]
["入学志願票（入学試験面接カード）"]
["志願先","①課程",null,null,null,"②研究科",null,null,null,null,null,"③専攻",null,null,null,null,"写真貼付枠\n（3×4㎝）\n\n３か月以内撮影のもの。スナップ写真不可。写真裏面に志望専攻名と氏名を記入",null,null,null,null,"◆「志願先」欄の入力  ※①〜⑥を順番に全て入力してください。"]
[null,"④入試経路",null,null,null,null,null,null,{"$f":"IFERROR(IF(VLOOKUP(D3&H3&N3&D4,'志願先選択一覧（リスト検索用）'!$P:$Q,2,0)=\"なし\",\"⑤その他選択：なし\",\"⑤その他選択\"),\"⑤その他選択\")","v":"⑤その他選択"},null,null,null,null,null,null,null,null,null,null,null,null,null,"・",{"$f":"IF(X5<>\"\",\"以下が未入力です。\",\"入力OK\")","v":"以下が未入力です。"}]
[null,{"$f":"IFERROR(\n  IF(VLOOKUP(D3&H3&N3&D4,その他入力規則!G:H,2,0)=\"併願可\",\n       \"⑥修士課程と研修生の併願\",\n  IF(OR(VLOOKUP(D3&H3&N3&D4,その他入力規則!G:H,2,0)=\"併願不可\",VLOOKUP(D3&H3&N3&D4,その他入力規則!G:H,2,0)=\"該当なし\"),\n       \"⑥この志願先は修士課程と研修生の併願制度はありません\",\"\")),\n  \"⑥修士課程と研修生の併願\")","v":"⑥修士課程と研修生の併願"},null,null,null,null,null,null,null,null,null,null,null,null,null,null,null,null,null,null,null,null,null,{"$f":"IF(D3=\"\",\"①課程：入力欄右下の「▼」マークをクリックして、受験する課程を選択してください。\",\nIF(AND(D3<>\"\",H3=\"\"),\n     \"②研究科：入力欄右下の「▼」マークをクリックして、受験する研究科を選択してください。\",\nIF(AND(D3<>\"\",H3<>\"\",N3=\"\"),\n     \"③専攻：入力欄右下の「▼」マークをクリックして、受験する専攻を選択してください。\",\nIF(AND(D3<>\"\",H3<>\"\",N3<>\"\",D4=\"\"),\n     \"④入試経路：入力欄右下の「▼」マークをクリックして、受験する入試経路を選択してください。\",\nIF(AND(D3<>\"\",H3<>\"\",N3<>\"\",D4<>\"\",L4=\"\",I4=\"⑤その他選択\"),\n     \"⑤その他選択：入力欄右下の「▼」マークをクリックして、必要事項を選択してください。\",\nIF(AND(D3<>\"\",H3<>\"\",N3<>\"\",D4<>\"\",OR(L4<>\"\",AND(L4=\"\",I4=\"⑤その他選択：なし\")),L5=\"\",B5=\"⑥修士課程と研修生の併願\"),\n     \"⑥修士課程と研修生の併願：入力欄右下の「▼」マークをクリックして、修士課程と研修生との併願有無を選択してください。\",\nIF(AND(D3<>\"\",H3<>\"\",N3<>\"\",D4<>\"\",OR(L4<>\"\",AND(L4=\"\",I4=\"⑤その他選択：なし\")),L5<>\"\",B5=\"⑥修士課程と研修生の併願\"),\n     \"\",\nIF(AND(D3<>\"\",H3<>\"\",N3<>\"\",D4<>\"\",OR(L4<>\"\",AND(L4=\"\",I4=\"⑤その他選択：なし\")),L5=\"\",B5=\"⑥この志願先は修士課程と研修生の併願制度はありません\"),\n     \"\",\n))))))))","v":"①課程：入力欄右下の「▼」マークをクリックして、受験する課程を選択してください。"}]
["氏名",null,null,null,"姓（Family Name）",null,null,null,null,null,"名（First Name）"]
[null,"フリガナ"]
[null,"漢字表記",null,null,null,null,null,null,null,null,null,null,null,null,null,null,"性別",null,null,null,null,"◆「氏名」「性別」「国籍」「生年月日」欄の入力"]
[null,"英語表記",null,null,null,null,null,null,null,null,null,null,null,null,null,null,"国籍",null,null,null,null,null,"・",{"$f":"IF(OR(E7=\"\",K7=\"\"),\"「フリガナ」欄が未入力となっています。姓名の両方とも入力してください。\",\"「フリガナ」：入力OK\")","v":"「フリガナ」欄が未入力となっています。姓名の両方とも入力してください。"}]
["生年月日（西暦）",null,null,null,null,"年",null,"月",null,"日生","2023年4月1日時点、満",null,null,null,{"$f":"IF(OR(D10=\"\",G10=\"\",I10=\"\"),\"\",DATEDIF(DATE(D10,G10,I10),\"2023/4/1\",\"Y\"))","v":""},"才",null,null,null,null,null,null,"・",{"$f":"IF(OR(E8=\"\",K8=\"\"),\"「漢字表記」欄が未入力となっています。姓名の両方とも入力してください。※漢字表記がない国出身の志願者は、自国語で入力してください。\",\"「漢字表記」：入力OK\")","v":"「漢字表記」欄が未入力となっています。姓名の両方とも入力してください。※漢字表記がない国出身の志願者は、自国語で入力してください。"}]
["学歴",null,null,null,null,null,null,null,null,null,null,null,null,null,null,null,null,null,null,null,null,null,"・",{"$f":"IF(OR(E9=\"\",K9=\"\"),\"「英語表記」欄が未入力となっています。姓名の両方とも入力してください。※パスポートの記載と同じものを入力してください。\",\"「英語表記」：入力OK\")","v":"「英語表記」欄が未入力となっています。姓名の両方とも入力してください。※パスポートの記載と同じものを入力してください。"}]
["学校区分",null,null,"学校名（学部・学科名 / 研究科・専攻名は省略せず記入）",null,null,null,null,null,null,null,null,"在学期間（西暦で記入）",null,null,null,null,null,null,null,null,null,"・",{"$f":"IF(R8=\"\",\"「性別」欄が未入力となっています。右下の「▼」マークをクリックして、性別を選択してください。\",\"「　性別　」：入力OK\")","v":"「性別」欄が未入力となっています。右下の「▼」マークをクリックして、性別を選択してください。"}]
[null,null,null,null,null,null,null,null,null,null,null,null,null,null,"年",null,"月",null,null,null,null,null,"・",{"$f":"IF(R9=\"\",\"「国籍」欄が未入力となっています。右下の「▼」マークをクリックして、国籍を選択してください。\",\"「　国籍　」：入力OK\")","v":"「国籍」欄が未入力となっています。右下の「▼」マークをクリックして、国籍を選択してください。"}]
[null,null,null,null,null,null,null,null,null,null,null,null,null,null,"年",null,"月",null,null,null,null,null,"・",{"$f":"IF(OR(D10=\"\",G10=\"\",I10=\"\"),\"「生年月日」が未入力となっています。※年齢は入力後に自動で算出されます。\",\"「生年月日」：入力OK\")","v":"「生年月日」が未入力となっています。※年齢は入力後に自動で算出されます。"}]
[null,null,null,null,null,null,null,null,null,null,null,null,null,null,"年",null,"月"]
[null,null,null,null,null,null,null,null,null,null,null,null,null,null,"年",null,"月",null,null,null,null,"◆「学歴」欄の入力"]
[null,null,null,null,null,null,null,null,null,null,null,null,null,null,"年",null,"月"]
[null,null,null,null,null,null,null,null,null,null,null,null,null,null,"年",null,"月",null,null,null,null,null,"＜日本国籍志願者＞"]
[null,null,null,null,null,null,null,null,null,null,null,null,null,null,"年",null,"月",null,null,null,null,null,null,"・","小学校～中学校の学歴は記入不要です。"]
[null,null,null,null,null,null,null,null,null,null,null,null,null,null,"年",null,"月",null,null,null,null,null,null,"・","高等学校以降の学歴を全て記入してください。"]
[null,null,null,null,null,null,null,null,null,null,null,null,null,null,"年",null,"月"]
[null,null,null,null,null,null,null,null,null,null,null,null,null,null,"年",null,"月",null,null,null,null,null,"＜外国人志願者＞"]
[null,null,null,null,null,null,null,null,null,null,null,null,null,null,"年",null,"月",null,null,null,null,null,null,"・","小学校の学歴から記入し、日本語学校の学歴も記入してください。"]
[null,null,null,null,null,null,null,null,null,null,null,null,null,null,"年",null,"月"]
[null,null,null,null,null,null,null,null,null,null,null,null,null,null,"年",null,"月",null,null,null,null,null,"＜非正規学生について＞"]
[null,null,null,null,null,null,null,null,null,null,null,null,null,null,"年",null,"月",null,null,null,null,null,null,"・","「研修生」「研究生」「科目等履修生」「交換留学生」などの非正規学生としての学歴も記入してください。"]
[null,null,null,null,null,null,null,null,null,null,null,null,null,null,"年",null,"月",null,null,null,null,null,null,"・","その際、学生区分（研修生・研究生・科目等履修生・交換留学生など）が分かるように記入してください。"]
[null,null,null,null,null,null,null,null,null,null,null,null,null,null,"年",null,"月",null,null,null,null,null,null,"・","なお、非正規学生の場合、卒業証明書や在籍期間証明書，成績証明書など各種証明書の提出は不要です。"]
[null,null,null,null,null,null,null,null,null,null,null,null,null,null,"年",null,"月"]
[null,null,null,null,null,null,null,null,null,null,null,null,null,null,"年",null,"月",null,null,null,null,null,"＜学校区分＞"]
[null,null,null,null,null,null,null,null,null,null,null,null,null,null,"年",null,"月",null,null,null,null,null,null,"・","日本国の学校の場合：「日本（国立）」「日本（公立）」「日本（私立）」「日本（その他）」から選択してください。"]
[null,null,null,null,null,null,null,null,null,null,null,null,null,null,"年",null,"月",null,null,null,null,null,null,"・","日本国外の学校の場合：「日本国外の学校」を選択してください。"]
[null,null,null,null,null,null,null,null,null,null,null,null,null,null,"年",null,"月",null,null,null,null,null,null,"・","日本語学校の場合 ：「日本語学校」を選択してください。"]
[null,null,null,null,null,null,null,null,null,null,null,null,null,null,"年",null,"月"]
[null,null,null,null,null,null,null,null,null,null,null,null,null,null,"年",null,"月",null,null,null,null,null,"＜在学期間＞"]
[null,null,null,null,null,null,null,null,null,null,null,null,null,null,"年",null,"月",null,null,null,null,null,null,"・","「入学」「卒業」などの区分はプルダウンから該当するものを選択してください。該当するものがない場合はお問い合せください。"]
[null,null,null,null,null,null,null,null,null,null,null,null,null,null,"年",null,"月"]
[null,null,null,null,null,null,null,null,null,null,null,null,null,null,"年",null,"月"]
[null,null,null,null,null,null,null,null,null,null,null,null,null,null,"年",null,"月",null,null,null,null,"◆「これまでのゼミ担当教員・指導教員名（大学学部時代など）」欄の入力"]
[null,null,null,null,null,null,null,null,null,null,null,null,null,null,"年",null,"月",null,null,null,null,null,"・",{"$f":"IF(H41=\"\",\"未入力となっています。該当するものがない場合は「なし」と入力してください。\",\"入力OK\")","v":"未入力となっています。該当するものがない場合は「なし」と入力してください。"}]
["これまでのゼミ担当教員・指導教員名（大学学部時代など）"]
["卒業論文・ゼミ論文・修士論文名\n（いずれかを記入）",null,null,null,null,null,null,null,null,null,null,null,null,null,null,null,null,null,null,null,null,"◆「卒業論文・ゼミ論文・修士論文名」欄の入力"]
["学位（修士以上を記入。学士の学位については記入不要）　※見込みは記入不要",null,null,null,null,null,null,null,null,null,null,null,null,null,null,null,null,null,null,null,null,null,"・",{"$f":"IF(H42=\"\",\"未入力となっています。該当するものがない場合は「なし」と入力してください。\",\"入力OK\")","v":"未入力となっています。該当するものがない場合は「なし」と入力してください。"}]
["取得年月（西暦）",null,null,null,null,"学位名",null,null,"大学院名",null,null,null,"論文題目"]
[null,null,"年",null,"月",null,null,null,null,null,null,null,null,null,null,null,null,null,null,null,null,"◆「受験科目」の入力"]
[null,null,"年",null,"月",null,null,null,null,null,null,null,null,null,null,null,null,null,null,null,null,null,"・","上記「志願先」欄の入力後に各欄右下の「▼」マークをクリックして、科目を選択してください。"]
["受験科目",null,"専門科目／\n外国語科目",null,null,null,null,null,null,null,"外国語科目",null,null,null,null,null,null,null,null,null,null,null,null,"※「志願先」欄入力前には科目を選択できません。"]
[{"$f":"IF(H3=\"経済学研究科\",\"希望指導教員名（経済学研究科志願者は入力不要）\",\nIF(D3&H3=\"修士課程経営学研究科\",\"希望指導教員名（経営学研究科修士課程志願者は入力不要）\",\nIF(D3&H3=\"研修生経営学研究科\",\"希望指導教員名（経営学研究科研修生志願者は入力不要）\",\nIF(H3=\"キャリアデザイン学研究科\",\"希望指導教員名（キャリアデザイン学研究科志願者は入力不要）\",\n\"希望指導教員名\"))))","v":"希望指導教員名"},null,null,null,null,null,null,null,null,null,null,null,null,null,null,null,null,null,null,null,null,null,"・",{"$f":"IF(OR(E47=\"\",M47=\"\"),\"未入力となっています。「専門科目」「外国語科目」の両方を入力してください。\",\"入力OK\")","v":"未入力となっています。「専門科目」「外国語科目」の両方を入力してください。"}]
[{"$f":"IF(OR(D3&N3&D4=\"修士課程経営学専攻社会人入試\",D3&N3&D4=\"博士後期課程経営学専攻一般入試\",\n          D3&N3&D4=\"博士後期課程経営学専攻社会人入試\",D3&N3&D4=\"修士課程キャリアデザイン学専攻一般入試\"),\n \"入学後の研究テーマ（ご受験の入試経路では入力不要です）\",\"入学後の研究テーマ\")","v":"入学後の研究テーマ"},null,"仮題",null,null,null,null,null,null,null,null,null,null,null,null,null,null,null,null,null,null,null,null,"※「専門科目」や「外国語科目」の受験がない入試経路や、筆記試験がなく口述試験のみの入試経路をご受験の場合も、"]
[null,null,"内容",null,null,null,null,null,null,null,null,null,null,null,null,null,null,null,null,null,null,null,null,null,"プルダウンから該当するものを選択してください。"]
[]
[null,null,null,null,null,null,null,null,null,null,null,null,null,null,null,null,null,null,null,null,null,"◆「希望指導教員名」の入力"]
[null,null,null,null,null,null,null,null,null,null,null,null,null,null,null,null,null,null,null,null,null,null,"・",{"$f":"IF(AND(A48=\"希望指導教員名\",H48=\"\"),\"未入力となっています。入力してください。\",\n  IF(A48<>\"希望指導教員名\",\"ご受験の専攻では入力不要です。\",\n  \"入力OK\"))","v":"未入力となっています。入力してください。"}]
[]
[null,null,null,null,null,null,null,null,null,null,null,null,null,null,null,null,null,null,null,null,null,"◆「入学後の研究テーマ」の入力"]
[null,null,null,null,null,null,null,null,null,null,null,null,null,null,null,null,null,null,null,null,null,null,"・",{"$f":"IF($A$49=\"入学後の研究テーマ（ご受験の入試経路では入力不要です）\", \"ご受験の入試経路では入力不要です。\",\"入試要項の指示に従い、入力してください。\")","v":"入試要項の指示に従い、入力してください。"}]
["法政大学大学院修了後の進路（進学・就職などの予定について、現時点での希望を可能な限り具体的に記入してください）",null,null,null,null,null,null,null,null,null,null,null,null,null,null,null,null,null,null,null,null,null,null,{"$f":"IF(X56=\"ご受験の入試経路では入力不要です。\",  \"\",  \"➤仮題：研究テーマのタイトルを入力してください。\")","v":"➤仮題：研究テーマのタイトルを入力してください。"}]
[null,null,null,null,null,null,null,null,null,null,null,null,null,null,null,null,null,null,null,null,null,null,null,{"$f":"IF(X56=\"ご受験の入試経路では入力不要です。\",  \"\", \"➤内容：研究計画書などその他の出願書類と内容が重複するかと思いますが「別紙参照」や「研究計画書と同じ」などと省略せず、その内容を詳しく入力してください。\")","v":"➤内容：研究計画書などその他の出願書類と内容が重複するかと思いますが「別紙参照」や「研究計画書と同じ」などと省略せず、その内容を詳しく入力してください。"}]
["現住所",null,null,null,null,null,null,null,null,null,null,null,null,null,null,null,null,null,null,null,null,null,null,{"$f":"IF(X56=\"ご受験の入試経路では入力不要です。\",  \"\", \"※入力時「Alt キー ＋ Enter キー」（Macの場合「Option キー ＋ Enter キー」）で改行可能です。\")","v":"※入力時「Alt キー ＋ Enter キー」（Macの場合「Option キー ＋ Enter キー」）で改行可能です。"}]
["連絡先","固定電話",null,null,null,null,null,null,null,null,"携帯電話"]
[null,"E-mail",null,null,null,null,null,null,null,null,null,null,null,null,null,null,null,null,null,null,null,"◆「現住所」「連絡先」の入力"]
["職歴","在職期間（西暦で記入）",null,null,null,null,"勤務先名・所属・役職等",null,null,null,null,null,null,null,null,null,null,null,null,null,null,null,"※","これらは緊急時や出願書類に不備不足があった場合などの連絡手段として使用します。誤りがないかよく確認してください。"]
[null,null,null,"年",null,"月",null,null,null,null,null,null,null,null,null,null,null,null,null,null,null,null,"・",{"$f":"IF(C59=\"\",\"「現住所」欄が未入力となっています。出願時点で居住している住所を郵便番号も含めて入力してください。\",\"「現住所」：入力OK\")","v":"「現住所」欄が未入力となっています。出願時点で居住している住所を郵便番号も含めて入力してください。"}]
[null,null,null,"年",null,"月",null,null,null,null,null,null,null,null,null,null,null,null,null,null,null,null,"・",{"$f":"IF(OR(D60=\"\",M60=\"\",D61=\"\"),\"「連絡先」欄が未入力となっています。\",\"「連絡先」：入力OK\")","v":"「連絡先」欄が未入力となっています。"}]
[null,null,null,"年",null,"月",null,null,null,null,null,null,null,null,null,null,null,null,null,null,null,null,null,{"$f":"IF(OR(D60=\"\",M60=\"\",D61=\"\"),\"「固定電話」「携帯電話」「E-mail」の全てを入力してください。該当するものがない場合は「なし」と入力してください。\",\"\")","v":"「固定電話」「携帯電話」「E-mail」の全てを入力してください。該当するものがない場合は「なし」と入力してください。"}]
[null,null,null,"年",null,"月"]
[null,null,null,"年",null,"月"]
[null,null,null,"年",null,"月"]
[null,null,null,"年",null,"月",null,null,null,null,null,null,null,null,null,null,null,null,null,null,null,"◆「職歴」の入力"]
[null,null,null,"年",null,"月"]
[null,null,null,"年",null,"月",null,null,null,null,null,null,null,null,null,null,null,null,null,null,null,null,"・","常勤・非常勤・アルバイトなど、勤務形態が分かるよう入力してください。"]
[null,null,null,"年",null,"月",null,null,null,null,null,null,null,null,null,null,null,null,null,null,null,null,"・","この欄に書き切れない場合は、主な職歴のみを抜粋しても構いません。"]
[null,null,null,"年",null,"月",null,null,null,null,null,null,null,null,null,null,null,null,null,null,null,null,"・","職歴がない場合は入力不要です。"]
[null,null,null,"年",null,"月"]
[null,null,null,"年",null,"月"]
[null,null,null,"年",null,"月"]
[null,null,null,"年",null,"月"]
[null,null,null,"年","現在"]
[null,"現在の\n勤務先住所"]
[]
["備考（大学側使用欄）"]

{"sheet":"「志願先」欄  選択一覧","index":1,"n_rows":234,"n_cols":7,"rows_kept":234,"cut":false,"hidden":false,"merged":[]}
["「志願先」欄  選択一覧"]
["No","①課程","②研究科","③専攻","④入試経路","⑤その他選択","⑥修士課程と研修生の併願"]
[1,"修士課程","人文科学研究科","哲学専攻","一般入試","なし","併願可"]
[2,"修士課程","人文科学研究科","哲学専攻","社会人入試","なし","併願可"]
[3,"修士課程","人文科学研究科","日本文学専攻","一般入試","プログラム選択なし","併願可"]
[4,"修士課程","人文科学研究科","日本文学専攻","一般入試","文芸創作研究プログラム","併願可"]
[5,"修士課程","人文科学研究科","日本文学専攻","一般入試","能楽研究者育成プログラム","併願可"]
[6,"修士課程","人文科学研究科","日本文学専攻","外国人入試","プログラム選択なし","併願可"]
[7,"修士課程","人文科学研究科","日本文学専攻","外国人入試","文芸創作研究プログラム","併願可"]
[8,"修士課程","人文科学研究科","日本文学専攻","外国人入試","能楽研究者育成プログラム","併願可"]
[9,"修士課程","人文科学研究科","日本文学専攻","社会人入試","プログラム選択なし","併願可"]
[10,"修士課程","人文科学研究科","日本文学専攻","社会人入試","文芸創作研究プログラム","併願可"]
[11,"修士課程","人文科学研究科","日本文学専攻","社会人入試","能楽研究者育成プログラム","併願可"]
[12,"修士課程","人文科学研究科","英文学専攻","一般入試","なし","併願可"]
[13,"修士課程","人文科学研究科","英文学専攻","社会人入試","なし","併願可"]
[14,"修士課程","人文科学研究科","史学専攻","一般入試","なし","併願可"]
[15,"修士課程","人文科学研究科","史学専攻","社会人入試","なし","併願可"]
[16,"修士課程","人文科学研究科","地理学専攻","一般入試","なし","併願可"]
[17,"修士課程","人文科学研究科","地理学専攻","社会人入試","なし","併願可"]
[18,"修士課程","人文科学研究科","心理学専攻","一般入試","なし","併願可"]
[19,"修士課程","人文科学研究科","国際日本学インスティテュート","一般入試","所属専攻：哲学","併願可"]
[20,"修士課程","人文科学研究科","国際日本学インスティテュート","一般入試","所属専攻：日本文学","併願可"]
[21,"修士課程","人文科学研究科","国際日本学インスティテュート","一般入試","所属専攻：英文学","併願可"]
[22,"修士課程","人文科学研究科","国際日本学インスティテュート","一般入試","所属専攻：史学","併願可"]
[23,"修士課程","人文科学研究科","国際日本学インスティテュート","一般入試","所属専攻：地理学","併願可"]
[24,"修士課程","人文科学研究科","国際日本学インスティテュート","外国人入試","所属専攻：哲学","併願可"]
[25,"修士課程","人文科学研究科","国際日本学インスティテュート","外国人入試","所属専攻：日本文学","併願可"]
[26,"修士課程","人文科学研究科","国際日本学インスティテュート","外国人入試","所属専攻：英文学","併願可"]
[27,"修士課程","人文科学研究科","国際日本学インスティテュート","外国人入試","所属専攻：史学","併願可"]
[28,"修士課程","人文科学研究科","国際日本学インスティテュート","外国人入試","所属専攻：地理学","併願可"]
[29,"修士課程","人文科学研究科","国際日本学インスティテュート","社会人入試","所属専攻：哲学","併願可"]
[30,"修士課程","人文科学研究科","国際日本学インスティテュート","社会人入試","所属専攻：日本文学","併願可"]
[31,"修士課程","人文科学研究科","国際日本学インスティテュート","社会人入試","所属専攻：英文学","併願可"]
[32,"修士課程","人文科学研究科","国際日本学インスティテュート","社会人入試","所属専攻：史学","併願可"]
[33,"修士課程","人文科学研究科","国際日本学インスティテュート","社会人入試","所属専攻：地理学","併願可"]
[34,"修士課程","国際文化研究科","国際文化専攻","一般入試","なし","併願可"]
[35,"修士課程","国際文化研究科","国際文化専攻","外国人入試","なし","併願可"]
[36,"修士課程","国際文化研究科","国際文化専攻","社会人入試","なし","併願可"]
[37,"修士課程","経済学研究科","経済学専攻","一般入試","修士M.A.（歴史・思想・制度）","併願可"]
[38,"修士課程","経済学研究科","経済学専攻","一般入試","修士M.A.（金融・企業）","併願可"]
[39,"修士課程","経済学研究科","経済学専攻","一般入試","修士M.A.（政策・環境）","併願可"]
[40,"修士課程","経済学研究科","経済学専攻","一般入試","修士M.A.（国際・地域）","併願可"]
[41,"修士課程","経済学研究科","経済学専攻","一般入試","修士M.A.（応用ミクロ・応用マクロ・計量）","併願可"]
[42,"修士課程","経済学研究科","経済学専攻","一般入試","博士5年Ph.D.（歴史・思想・制度）","併願可"]
[43,"修士課程","経済学研究科","経済学専攻","一般入試","博士5年Ph.D.（金融・企業）","併願可"]
[44,"修士課程","経済学研究科","経済学専攻","一般入試","博士5年Ph.D.（政策・環境）","併願可"]
[45,"修士課程","経済学研究科","経済学専攻","一般入試","博士5年Ph.D.（国際・地域）","併願可"]
[46,"修士課程","経済学研究科","経済学専攻","一般入試","博士5年Ph.D.（応用ミクロ・応用マクロ・計量）","併願可"]
[47,"修士課程","経済学研究科","経済学専攻","外国人入試","修士M.A.（歴史・思想・制度）","併願可"]
[48,"修士課程","経済学研究科","経済学専攻","外国人入試","修士M.A.（金融・企業）","併願可"]
[49,"修士課程","経済学研究科","経済学専攻","外国人入試","修士M.A.（政策・環境）","併願可"]
[50,"修士課程","経済学研究科","経済学専攻","外国人入試","修士M.A.（国際・地域）","併願可"]
[51,"修士課程","経済学研究科","経済学専攻","外国人入試","修士M.A.（応用ミクロ・応用マクロ・計量）","併願可"]
[52,"修士課程","経済学研究科","経済学専攻","外国人入試","博士5年Ph.D.（歴史・思想・制度）","併願可"]
[53,"修士課程","経済学研究科","経済学専攻","外国人入試","博士5年Ph.D.（金融・企業）","併願可"]
[54,"修士課程","経済学研究科","経済学専攻","外国人入試","博士5年Ph.D.（政策・環境）","併願可"]
[55,"修士課程","経済学研究科","経済学専攻","外国人入試","博士5年Ph.D.（国際・地域）","併願可"]
[56,"修士課程","経済学研究科","経済学専攻","外国人入試","博士5年Ph.D.（応用ミクロ・応用マクロ・計量）","併願可"]
[57,"修士課程","経済学研究科","経済学専攻","社会人入試","修士M.A.（歴史・思想・制度）","併願可"]
[58,"修士課程","経済学研究科","経済学専攻","社会人入試","修士M.A.（金融・企業）","併願可"]
[59,"修士課程","経済学研究科","経済学専攻","社会人入試","修士M.A.（政策・環境）","併願可"]
[60,"修士課程","経済学研究科","経済学専攻","社会人入試","修士M.A.（国際・地域）","併願可"]
[61,"修士課程","経済学研究科","経済学専攻","社会人入試","修士M.A.（応用ミクロ・応用マクロ・計量）","併願可"]
[62,"修士課程","経済学研究科","経済学専攻","社会人入試","博士5年Ph.D.（歴史・思想・制度）","併願可"]
[63,"修士課程","経済学研究科","経済学専攻","社会人入試","博士5年Ph.D.（金融・企業）","併願可"]
[64,"修士課程","経済学研究科","経済学専攻","社会人入試","博士5年Ph.D.（政策・環境）","併願可"]
[65,"修士課程","経済学研究科","経済学専攻","社会人入試","博士5年Ph.D.（国際・地域）","併願可"]
[66,"修士課程","経済学研究科","経済学専攻","社会人入試","博士5年Ph.D.（応用ミクロ・応用マクロ・計量）","併願可"]
[67,"修士課程","経済学研究科","経済学専攻","社会人選抜入試","1年（歴史・思想・制度）","併願可"]
[68,"修士課程","経済学研究科","経済学専攻","社会人選抜入試","1年（金融・企業）","併願可"]
[69,"修士課程","経済学研究科","経済学専攻","社会人選抜入試","1年（政策・環境）","併願可"]
[70,"修士課程","経済学研究科","経済学専攻","社会人選抜入試","1年（国際・地域）","併願可"]
[71,"修士課程","経済学研究科","経済学専攻","社会人選抜入試","1年（応用ミクロ・応用マクロ・計量）","併願可"]
[72,"修士課程","経済学研究科","経済学専攻","社会人選抜入試","1＋3年（歴史・思想・制度）","併願可"]
[73,"修士課程","経済学研究科","経済学専攻","社会人選抜入試","1＋3年（金融・企業）","併願可"]
[74,"修士課程","経済学研究科","経済学専攻","社会人選抜入試","1＋3年（政策・環境）","併願可"]
[75,"修士課程","経済学研究科","経済学専攻","社会人選抜入試","1＋3年（国際・地域）","併願可"]
[76,"修士課程","経済学研究科","経済学専攻","社会人選抜入試","1＋3年（応用ミクロ・応用マクロ・計量）","併願可"]
[77,"修士課程","法学研究科","法律学専攻","一般入試","なし","併願不可"]
[78,"修士課程","法学研究科","法律学専攻","外国人入試","なし","併願可"]
[79,"修士課程","法学研究科","法律学専攻","社会人入試","なし","併願不可"]
[80,"修士課程","政治学研究科","政治学専攻","一般入試","なし","併願不可"]
[81,"修士課程","政治学研究科","政治学専攻","外国人入試","なし","併願可"]
[82,"修士課程","政治学研究科","国際政治学専攻","一般入試","なし","併願不可"]
[83,"修士課程","政治学研究科","国際政治学専攻","外国人入試","なし","併願可"]
[84,"修士課程","政治学研究科","国際政治学専攻","社会人入試","なし","併願不可"]
[85,"修士課程","社会学研究科","社会学専攻","一般入試","社会学コース","併願可"]
[86,"修士課程","社会学研究科","社会学専攻","一般入試","メディアコース","併願可"]
[87,"修士課程","社会学研究科","社会学専攻","外国人入試","社会学コース","併願可"]
[88,"修士課程","社会学研究科","社会学専攻","外国人入試","メディアコース","併願可"]
[89,"修士課程","社会学研究科","社会学専攻","社会人入試","社会学コース","併願可"]
[90,"修士課程","社会学研究科","社会学専攻","社会人入試","メディアコース","併願可"]
[91,"修士課程","経営学研究科","経営学専攻","一般入試","戦略・企業家","併願可"]
[92,"修士課程","経営学研究科","経営学専攻","一般入試","マーケティング","併願可"]
[93,"修士課程","経営学研究科","経営学専攻","一般入試","国際経営","併願可"]
[94,"修士課程","経営学研究科","経営学専攻","一般入試","経営史","併願可"]
[95,"修士課程","経営学研究科","経営学専攻","一般入試","会計","併願可"]
[96,"修士課程","経営学研究科","経営学専攻","一般入試","経済","併願可"]
[97,"修士課程","経営学研究科","経営学専攻","一般入試","組織・人事","併願可"]
[98,"修士課程","経営学研究科","経営学専攻","一般入試","ファイナンス","併願可"]
[99,"修士課程","経営学研究科","経営学専攻","一般入試","AI・データサイエンス","併願可"]
[100,"修士課程","経営学研究科","経営学専攻","社会人入試","企業家養成コース","併願不可"]
[101,"修士課程","経営学研究科","経営学専攻","社会人入試","人材・組織マネジメントコース","併願不可"]
[102,"修士課程","経営学研究科","経営学専攻","社会人入試","マーケティングコース","併願不可"]
[103,"修士課程","経営学研究科","経営学専攻","社会人入試","アカウンティング・ファイナンスコース","併願不可"]
[104,"修士課程","キャリアデザイン学研究科","キャリアデザイン学専攻","一般入試","キャリア教育・発達プログラム","併願不可"]
[105,"修士課程","キャリアデザイン学研究科","キャリアデザイン学専攻","一般入試","ビジネスキャリアプログラム","併願不可"]
[106,"修士課程","公共政策研究科","公共政策学専攻","一般入試","公共マネジメントコース","併願不可"]
[107,"修士課程","公共政策研究科","公共政策学専攻","一般入試","政策研究コース","併願不可"]
[108,"修士課程","公共政策研究科","サステイナビリティ学専攻","一般入試","なし","併願不可"]
[109,"修士課程","公共政策研究科","公共政策学専攻","社会人入試","公共マネジメントコース","併願不可"]
[110,"修士課程","公共政策研究科","公共政策学専攻","社会人入試","政策研究コース","併願不可"]
[111,"修士課程","公共政策研究科","サステイナビリティ学専攻","社会人入試","なし","併願不可"]
[112,"修士課程","連帯社会インスティテュート","所属専攻：政治学専攻","一般入試","労働組合プログラム","併願不可"]
[113,"修士課程","連帯社会インスティテュート","所属専攻：公共政策学専攻","一般入試","労働組合プログラム","併願不可"]
[114,"修士課程","連帯社会インスティテュート","所属専攻：政治学専攻","一般入試","協同組合プログラム","併願不可"]
[115,"修士課程","連帯社会インスティテュート","所属専攻：公共政策学専攻","一般入試","協同組合プログラム","併願不可"]
[116,"修士課程","連帯社会インスティテュート","所属専攻：政治学専攻","一般入試","NPOプログラム","併願不可"]
[117,"修士課程","連帯社会インスティテュート","所属専攻：公共政策学専攻","一般入試","NPOプログラム","併願不可"]
[118,"修士課程","連帯社会インスティテュート","所属専攻：政治学専攻","社会人入試","労働組合プログラム","併願不可"]
[119,"修士課程","連帯社会インスティテュート","所属専攻：公共政策学専攻","社会人入試","労働組合プログラム","併願不可"]
[120,"修士課程","連帯社会インスティテュート","所属専攻：政治学専攻","社会人入試","協同組合プログラム","併願不可"]
[121,"修士課程","連帯社会インスティテュート","所属専攻：公共政策学専攻","社会人入試","協同組合プログラム","併願不可"]
[122,"修士課程","連帯社会インスティテュート","所属専攻：政治学専攻","社会人入試","NPOプログラム","併願不可"]
[123,"修士課程","連帯社会インスティテュート","所属専攻：公共政策学専攻","社会人入試","NPOプログラム","併願不可"]
[124,"修士課程","連帯社会インスティテュート","所属専攻：政治学専攻","指定団体推薦社会人入試","労働組合プログラム","併願不可"]
[125,"修士課程","連帯社会インスティテュート","所属専攻：公共政策学専攻","指定団体推薦社会人入試","労働組合プログラム","併願不可"]
[126,"修士課程","連帯社会インスティテュート","所属専攻：政治学専攻","指定団体推薦社会人入試","協同組合プログラム","併願不可"]
[127,"修士課程","連帯社会インスティテュート","所属専攻：公共政策学専攻","指定団体推薦社会人入試","協同組合プログラム","併願不可"]
[128,"修士課程","連帯社会インスティテュート","所属専攻：政治学専攻","指定団体推薦社会人入試","NPOプログラム","併願不可"]
[129,"修士課程","連帯社会インスティテュート","所属専攻：公共政策学専攻","指定団体推薦社会人入試","NPOプログラム","併願不可"]
[130,"博士後期課程","人文科学研究科","哲学専攻","一般入試","なし","該当なし"]
[131,"博士後期課程","人文科学研究科","日本文学専攻","一般入試","なし","該当なし"]
[132,"博士後期課程","人文科学研究科","英文学専攻","一般入試","なし","該当なし"]
[133,"博士後期課程","人文科学研究科","史学専攻","一般入試","なし","該当なし"]
[134,"博士後期課程","人文科学研究科","史学専攻","社会人入試","なし","該当なし"]
[135,"博士後期課程","人文科学研究科","地理学専攻","一般入試","なし","該当なし"]
[136,"博士後期課程","人文科学研究科","心理学専攻","一般入試","なし","該当なし"]
[137,"博士後期課程","人文科学研究科","国際日本学インスティテュート","一般入試","所属専攻：哲学","該当なし"]
[138,"博士後期課程","人文科学研究科","国際日本学インスティテュート","一般入試","所属専攻：日本文学","該当なし"]
[139,"博士後期課程","人文科学研究科","国際日本学インスティテュート","一般入試","所属専攻：英文学","該当なし"]
[140,"博士後期課程","人文科学研究科","国際日本学インスティテュート","一般入試","所属専攻：史学","該当なし"]
[141,"博士後期課程","人文科学研究科","国際日本学インスティテュート","一般入試","所属専攻：地理学","該当なし"]
[142,"博士後期課程","国際文化研究科","国際文化専攻","一般入試","なし","該当なし"]
[143,"博士後期課程","国際文化研究科","国際文化専攻","外国人入試","なし","該当なし"]
[144,"博士後期課程","国際文化研究科","国際文化専攻","社会人入試","なし","該当なし"]
[145,"博士後期課程","経済学研究科","経済学専攻","一般入試","歴史・思想・制度","該当なし"]
[146,"博士後期課程","経済学研究科","経済学専攻","一般入試","金融・企業","該当なし"]
[147,"博士後期課程","経済学研究科","経済学専攻","一般入試","政策・環境","該当なし"]
[148,"博士後期課程","経済学研究科","経済学専攻","一般入試","国際・地域","該当なし"]
[149,"博士後期課程","経済学研究科","経済学専攻","一般入試","応用ミクロ・応用マクロ・計量","該当なし"]
[150,"博士後期課程","経済学研究科","経済学専攻","社会人入試","歴史・思想・制度","該当なし"]
[151,"博士後期課程","経済学研究科","経済学専攻","社会人入試","金融・企業","該当なし"]
[152,"博士後期課程","経済学研究科","経済学専攻","社会人入試","政策・環境","該当なし"]
[153,"博士後期課程","経済学研究科","経済学専攻","社会人入試","国際・地域","該当なし"]
[154,"博士後期課程","経済学研究科","経済学専攻","社会人入試","応用ミクロ・応用マクロ・計量","該当なし"]
[155,"博士後期課程","法学研究科","法律学専攻","一般入試","なし","該当なし"]
[156,"博士後期課程","政治学研究科","政治学専攻","一般入試","なし","該当なし"]
[157,"博士後期課程","社会学研究科","社会学専攻","一般入試","なし","該当なし"]
[158,"博士後期課程","経営学研究科","経営学専攻","一般入試","なし","該当なし"]
[159,"博士後期課程","経営学研究科","経営学専攻","社会人入試","なし","該当なし"]
[160,"博士後期課程","公共政策研究科","公共政策学専攻","一般入試","なし","該当なし"]
[161,"博士後期課程","公共政策研究科","サステイナビリティ学専攻","一般入試","なし","該当なし"]
[162,"博士後期課程","公共政策研究科","公共政策学専攻","社会人入試","なし","該当なし"]
[163,"博士後期課程","公共政策研究科","サステイナビリティ学専攻","社会人入試","なし","該当なし"]
[164,"研修生","人文科学研究科","哲学専攻","研修生入試（単願）","なし","該当なし"]
[165,"研修生","人文科学研究科","日本文学専攻","研修生入試（単願）","なし","該当なし"]
[166,"研修生","人文科学研究科","英文学専攻","研修生入試（単願）","なし","該当なし"]
[167,"研修生","人文科学研究科","史学専攻","研修生入試（単願）","なし","該当なし"]
[168,"研修生","人文科学研究科","地理学専攻","研修生入試（単願）","なし","該当なし"]
[169,"研修生","人文科学研究科","心理学専攻","研修生入試（単願）","なし","該当なし"]
[170,"研修生","人文科学研究科","国際日本学インスティテュート","研修生入試（単願）","所属専攻：哲学","該当なし"]
[171,"研修生","人文科学研究科","国際日本学インスティテュート","研修生入試（単願）","所属専攻：日本文学","該当なし"]
[172,"研修生","人文科学研究科","国際日本学インスティテュート","研修生入試（単願）","所属専攻：英文学","該当なし"]
[173,"研修生","人文科学研究科","国際日本学インスティテュート","研修生入試（単願）","所属専攻：史学","該当なし"]
[174,"研修生","人文科学研究科","国際日本学インスティテュート","研修生入試（単願）","所属専攻：地理学","該当なし"]
[175,"研修生","国際文化研究科","国際文化専攻","研修生入試（単願）","なし","該当なし"]
[176,"研修生","経済学研究科","経済学専攻","研修生入試（単願）","歴史・思想・制度","該当なし"]
[177,"研修生","経済学研究科","経済学専攻","研修生入試（単願）","金融・企業","該当なし"]
[178,"研修生","経済学研究科","経済学専攻","研修生入試（単願）","政策・環境","該当なし"]
[179,"研修生","経済学研究科","経済学専攻","研修生入試（単願）","国際・地域","該当なし"]
[180,"研修生","経済学研究科","経済学専攻","研修生入試（単願）","応用ミクロ・応用マクロ・計量","該当なし"]
[181,"研修生","法学研究科","法律学専攻","研修生入試（単願）","なし","該当なし"]
[182,"研修生","政治学研究科","政治学専攻","研修生入試（単願）","なし","該当なし"]
[183,"研修生","政治学研究科","国際政治学専攻","研修生入試（単願）","なし","該当なし"]
[184,"研修生","社会学研究科","社会学専攻","研修生入試（単願）","社会学コース","該当なし"]
[185,"研修生","社会学研究科","社会学専攻","研修生入試（単願）","メディアコース","該当なし"]
[186,"研修生","経営学研究科","経営学専攻","研修生入試（単願）","戦略・企業家","該当なし"]
[187,"研修生","経営学研究科","経営学専攻","研修生入試（単願）","マーケティング","該当なし"]
[188,"研修生","経営学研究科","経営学専攻","研修生入試（単願）","国際経営","該当なし"]
[189,"研修生","経営学研究科","経営学専攻","研修生入試（単願）","経営史","該当なし"]
[190,"研修生","経営学研究科","経営学専攻","研修生入試（単願）","会計","該当なし"]
[191,"研修生","経営学研究科","経営学専攻","研修生入試（単願）","経済","該当なし"]
[192,"研修生","経営学研究科","経営学専攻","研修生入試（単願）","組織・人事","該当なし"]
[193,"研修生","経営学研究科","経営学専攻","研修生入試（単願）","ファイナンス","該当なし"]
[194,"研修生","経営学研究科","経営学専攻","研修生入試（単願）","AI・データサイエンス","該当なし"]
[195,"修士課程","人文科学研究科","英文学専攻","推薦枠入試","なし","併願不可"]
[196,"修士課程","人文科学研究科","地理学専攻","学内入試","なし","併願不可"]
[197,"修士課程","人文科学研究科","心理学専攻","学内入試","なし","併願不可"]
[198,"修士課程","国際文化研究科","国際文化専攻","学内入試","なし","併願可"]
[199,"修士課程","経済学研究科","経済学専攻","学部内入試","修士M.A.（歴史・思想・制度）","併願不可"]
[200,"修士課程","経済学研究科","経済学専攻","学部内入試","修士M.A.（金融・企業）","併願不可"]
[201,"修士課程","経済学研究科","経済学専攻","学部内入試","修士M.A.（政策・環境）","併願不可"]
[202,"修士課程","経済学研究科","経済学専攻","学部内入試","修士M.A.（国際・地域）","併願不可"]
[203,"修士課程","経済学研究科","経済学専攻","学部内入試","修士M.A.（応用ミクロ・応用マクロ・計量）","併願不可"]
[204,"修士課程","経済学研究科","経済学専攻","学部内入試","博士5年Ph.D.（歴史・思想・制度）","併願不可"]
[205,"修士課程","経済学研究科","経済学専攻","学部内入試","博士5年Ph.D.（金融・企業）","併願不可"]
[206,"修士課程","経済学研究科","経済学専攻","学部内入試","博士5年Ph.D.（政策・環境）","併願不可"]
[207,"修士課程","経済学研究科","経済学専攻","学部内入試","博士5年Ph.D.（国際・地域）","併願不可"]
[208,"修士課程","経済学研究科","経済学専攻","学部内入試","博士5年Ph.D.（応用ミクロ・応用マクロ・計量）","併願不可"]
[209,"修士課程","経済学研究科","経済学専攻","学部内入試","1年制","併願不可"]
[210,"修士課程","経済学研究科","経済学専攻","学部内入試","1年制","併願不可"]
[211,"修士課程","経済学研究科","経済学専攻","学部内入試","1年制","併願不可"]
[212,"修士課程","経済学研究科","経済学専攻","学部内入試","1年制","併願不可"]
[213,"修士課程","経済学研究科","経済学専攻","学部内入試","1年制","併願不可"]
[214,"修士課程","経済学研究科","経済学専攻","学部内入試","1年制","併願不可"]
[215,"修士課程","経済学研究科","経済学専攻","学部内入試","1年制","併願不可"]
[216,"修士課程","経済学研究科","経済学専攻","学部内入試","1年制","併願不可"]
[217,"修士課程","経済学研究科","経済学専攻","学部内入試","1年制","併願不可"]
[218,"修士課程","経済学研究科","経済学専攻","学部内入試","1年制","併願不可"]
[219,"修士課程","法学研究科","法律学専攻","学科内入試","なし","併願不可"]
[220,"修士課程","政治学研究科","政治学専攻","学内入試","なし","併願不可"]
[221,"修士課程","政治学研究科","国際政治学専攻","学内入試","なし","併願不可"]
[222,"修士課程","社会学研究科","社会学専攻","学内入試","社会学コース","併願不可"]
[223,"修士課程","社会学研究科","社会学専攻","学内入試","メディアコース","併願不可"]
[224,"修士課程","経営学研究科","経営学専攻","学内入試","戦略・企業家","併願不可"]
[225,"修士課程","経営学研究科","経営学専攻","学内入試","マーケティング","併願不可"]
[226,"修士課程","経営学研究科","経営学専攻","学内入試","国際経営","併願不可"]
[227,"修士課程","経営学研究科","経営学専攻","学内入試","経営史","併願不可"]
[228,"修士課程","経営学研究科","経営学専攻","学内入試","会計","併願不可"]
[229,"修士課程","経営学研究科","経営学専攻","学内入試","経済","併願不可"]
[230,"修士課程","経営学研究科","経営学専攻","学内入試","組織・人事","併願不可"]
[231,"修士課程","経営学研究科","経営学専攻","学内入試","ファイナンス","併願不可"]
[232,"修士課程","経営学研究科","経営学専攻","学内入試","AI・データサイエンス","併願不可"]

{"sheet":"志願先選択一覧（リスト検索用）","index":2,"n_rows":234,"n_cols":33,"rows_kept":234,"cut":false,"hidden":true,"merged":[]}
["志願先"]
["No","A_課程","A連番","A検索値","B_研究科","B連番","B検索値","C_専攻","B＋C","B＋C連番","C検索値","D_入試経路","B＋C＋D","B＋C＋D連番","D検索値","A＋B＋C＋D","E_その他の選択",null,null,null,"志願票選択値","課程",{"$f":"'様式2_入学志願票（入学試験面接カード）'!D3","v":0},null,null,null,"https://detail.chiebukuro.yahoo.co.jp/qa/question_detail/q1366987793"]
[{"$f":"'「志願先」欄  選択一覧'!A3","v":1},{"$f":"'「志願先」欄  選択一覧'!B3","v":"修士課程"},{"$f":"COUNTIF($B$3:B3,B3)","v":1},{"$f":"B3&C3","v":"修士課程1"},{"$f":"'「志願先」欄  選択一覧'!C3","v":"人文科学研究科"},{"$f":"COUNTIF($E$3:E3,E3)","v":1},{"$f":"E3&F3","v":"人文科学研究科1"},{"$f":"'「志願先」欄  選択一覧'!D3","v":"哲学専攻"},{"$f":"B3&H3","v":"修士課程哲学専攻"},{"$f":"COUNTIF($I$3:I3,I3)","v":1},{"$f":"B3&H3&J3","v":"修士課程哲学専攻1"},{"$f":"'「志願先」欄  選択一覧'!E3","v":"一般入試"},{"$f":"B3&H3&L3","v":"修士課程哲学専攻一般入試"},{"$f":"COUNTIF($M$3:M3,M3)","v":1},{"$f":"B3&H3&L3&N3","v":"修士課程哲学専攻一般入試1"},{"$f":"B3&E3&H3&L3","v":"修士課程人文科学研究科哲学専攻一般入試"},{"$f":"'「志願先」欄  選択一覧'!F3","v":"なし"},null,null,null,null,"研究科",{"$f":"'様式2_入学志願票（入学試験面接カード）'!H3","v":0}]
[{"$f":"'「志願先」欄  選択一覧'!A4","v":2},{"$f":"'「志願先」欄  選択一覧'!B4","v":"修士課程"},{"$f":"COUNTIF($B$3:B4,B4)","v":2},{"$f":"B4&C4","v":"修士課程2"},{"$f":"'「志願先」欄  選択一覧'!C4","v":"人文科学研究科"},{"$f":"COUNTIF($E$3:E4,E4)","v":2},"人文科学研究科2",{"$f":"'「志願先」欄  選択一覧'!D4","v":"哲学専攻"},{"$f":"B4&H4","v":"修士課程哲学専攻"},{"$f":"COUNTIF($I$3:I4,I4)","v":2},{"$f":"B4&H4&J4","v":"修士課程哲学専攻2"},{"$f":"'「志願先」欄  選択一覧'!E4","v":"社会人入試"},{"$f":"B4&H4&L4","v":"修士課程哲学専攻社会人入試"},{"$f":"COUNTIF($M$3:M4,M4)","v":1},"修士課程哲学専攻社会人入試1",{"$f":"B4&E4&H4&L4","v":"修士課程人文科学研究科哲学専攻社会人入試"},{"$f":"'「志願先」欄  選択一覧'!F4","v":"なし"},null,null,null,null,"専攻",{"$f":"'様式2_入学志願票（入学試験面接カード）'!N3","v":0}]
[{"$f":"'「志願先」欄  選択一覧'!A5","v":3},{"$f":"'「志願先」欄  選択一覧'!B5","v":"修士課程"},{"$f":"COUNTIF($B$3:B5,B5)","v":3},"修士課程3",{"$f":"'「志願先」欄  選択一覧'!C5","v":"人文科学研究科"},{"$f":"COUNTIF($E$3:E5,E5)","v":3},"人文科学研究科3",{"$f":"'「志願先」欄  選択一覧'!D5","v":"日本文学専攻"},"修士課程日本文学専攻",{"$f":"COUNTIF($I$3:I5,I5)","v":1},"修士課程日本文学専攻1",{"$f":"'「志願先」欄  選択一覧'!E5","v":"一般入試"},"修士課程日本文学専攻一般入試",{"$f":"COUNTIF($M$3:M5,M5)","v":1},"修士課程日本文学専攻一般入試1","修士課程人文科学研究科日本文学専攻一般入試",{"$f":"'「志願先」欄  選択一覧'!F5","v":"プログラム選択なし"},null,null,null,null,"入試経路",{"$f":"'様式2_入学志願票（入学試験面接カード）'!D4","v":0}]
[{"$f":"'「志願先」欄  選択一覧'!A6","v":4},{"$f":"'「志願先」欄  選択一覧'!B6","v":"修士課程"},{"$f":"COUNTIF($B$3:B6,B6)","v":4},"修士課程4",{"$f":"'「志願先」欄  選択一覧'!C6","v":"人文科学研究科"},{"$f":"COUNTIF($E$3:E6,E6)","v":4},"人文科学研究科4",{"$f":"'「志願先」欄  選択一覧'!D6","v":"日本文学専攻"},"修士課程日本文学専攻",{"$f":"COUNTIF($I$3:I6,I6)","v":2},"修士課程日本文学専攻2",{"$f":"'「志願先」欄  選択一覧'!E6","v":"一般入試"},"修士課程日本文学専攻一般入試",{"$f":"COUNTIF($M$3:M6,M6)","v":2},"修士課程日本文学専攻一般入試2","修士課程人文科学研究科日本文学専攻一般入試",{"$f":"'「志願先」欄  選択一覧'!F6","v":"文芸創作研究プログラム"},null,null,null,null,{"$f":"'様式2_入学志願票（入学試験面接カード）'!I4","v":"⑤その他選択"},{"$f":"'様式2_入学志願票（入学試験面接カード）'!L4","v":0}]
[{"$f":"'「志願先」欄  選択一覧'!A7","v":5},{"$f":"'「志願先」欄  選択一覧'!B7","v":"修士課程"},{"$f":"COUNTIF($B$3:B7,B7)","v":5},"修士課程5",{"$f":"'「志願先」欄  選択一覧'!C7","v":"人文科学研究科"},{"$f":"COUNTIF($E$3:E7,E7)","v":5},"人文科学研究科5",{"$f":"'「志願先」欄  選択一覧'!D7","v":"日本文学専攻"},"修士課程日本文学専攻",{"$f":"COUNTIF($I$3:I7,I7)","v":3},"修士課程日本文学専攻3",{"$f":"'「志願先」欄  選択一覧'!E7","v":"一般入試"},"修士課程日本文学専攻一般入試",{"$f":"COUNTIF($M$3:M7,M7)","v":3},"修士課程日本文学専攻一般入試3","修士課程人文科学研究科日本文学専攻一般入試",{"$f":"'「志願先」欄  選択一覧'!F7","v":"能楽研究者育成プログラム"},null,null,null,null,{"$f":"'様式2_入学志願票（入学試験面接カード）'!B5","v":"⑥修士課程と研修生の併願"}]
[{"$f":"'「志願先」欄  選択一覧'!A8","v":6},{"$f":"'「志願先」欄  選択一覧'!B8","v":"修士課程"},{"$f":"COUNTIF($B$3:B8,B8)","v":6},"修士課程6",{"$f":"'「志願先」欄  選択一覧'!C8","v":"人文科学研究科"},{"$f":"COUNTIF($E$3:E8,E8)","v":6},"人文科学研究科6",{"$f":"'「志願先」欄  選択一覧'!D8","v":"日本文学専攻"},"修士課程日本文学専攻",{"$f":"COUNTIF($I$3:I8,I8)","v":4},"修士課程日本文学専攻4",{"$f":"'「志願先」欄  選択一覧'!E8","v":"外国人入試"},"修士課程日本文学専攻外国人入試",{"$f":"COUNTIF($M$3:M8,M8)","v":1},"修士課程日本文学専攻外国人入試1","修士課程人文科学研究科日本文学専攻外国人入試",{"$f":"'「志願先」欄  選択一覧'!F8","v":"プログラム選択なし"}]
[{"$f":"'「志願先」欄  選択一覧'!A9","v":7},{"$f":"'「志願先」欄  選択一覧'!B9","v":"修士課程"},{"$f":"COUNTIF($B$3:B9,B9)","v":7},"修士課程7",{"$f":"'「志願先」欄  選択一覧'!C9","v":"人文科学研究科"},{"$f":"COUNTIF($E$3:E9,E9)","v":7},"人文科学研究科7",{"$f":"'「志願先」欄  選択一覧'!D9","v":"日本文学専攻"},"修士課程日本文学専攻",{"$f":"COUNTIF($I$3:I9,I9)","v":5},"修士課程日本文学専攻5",{"$f":"'「志願先」欄  選択一覧'!E9","v":"外国人入試"},"修士課程日本文学専攻外国人入試",{"$f":"COUNTIF($M$3:M9,M9)","v":2},"修士課程日本文学専攻外国人入試2","修士課程人文科学研究科日本文学専攻外国人入試",{"$f":"'「志願先」欄  選択一覧'!F9","v":"文芸創作研究プログラム"},null,null,"ドロップダウンリスト"]
[{"$f":"'「志願先」欄  選択一覧'!A10","v":8},{"$f":"'「志願先」欄  選択一覧'!B10","v":"修士課程"},{"$f":"COUNTIF($B$3:B10,B10)","v":8},"修士課程8",{"$f":"'「志願先」欄  選択一覧'!C10","v":"人文科学研究科"},{"$f":"COUNTIF($E$3:E10,E10)","v":8},"人文科学研究科8",{"$f":"'「志願先」欄  選択一覧'!D10","v":"日本文学専攻"},"修士課程日本文学専攻",{"$f":"COUNTIF($I$3:I10,I10)","v":6},"修士課程日本文学専攻6",{"$f":"'「志願先」欄  選択一覧'!E10","v":"外国人入試"},"修士課程日本文学専攻外国人入試",{"$f":"COUNTIF($M$3:M10,M10)","v":3},"修士課程日本文学専攻外国人入試3","修士課程人文科学研究科日本文学専攻外国人入試",{"$f":"'「志願先」欄  選択一覧'!F10","v":"能楽研究者育成プログラム"},null,null,"連番","B2_研究科","B重複チェック","B2重複除く一覧","C2_専攻","C2重複チェック","C2重複を除く一覧","D2_入試経路","D2重複チェック","D2重複を除く一覧","E2_その他の選択","E2重複チェック","E2重複を除く一覧","併願"]
[{"$f":"'「志願先」欄  選択一覧'!A11","v":9},{"$f":"'「志願先」欄  選択一覧'!B11","v":"修士課程"},{"$f":"COUNTIF($B$3:B11,B11)","v":9},"修士課程9",{"$f":"'「志願先」欄  選択一覧'!C11","v":"人文科学研究科"},{"$f":"COUNTIF($E$3:E11,E11)","v":9},"人文科学研究科9",{"$f":"'「志願先」欄  選択一覧'!D11","v":"日本文学専攻"},"修士課程日本文学専攻",{"$f":"COUNTIF($I$3:I11,I11)","v":7},"修士課程日本文学専攻7",{"$f":"'「志願先」欄  選択一覧'!E11","v":"社会人入試"},"修士課程日本文学専攻社会人入試",{"$f":"COUNTIF($M$3:M11,M11)","v":1},"修士課程日本文学専攻社会人入試1","修士課程人文科学研究科日本文学専攻社会人入試",{"$f":"'「志願先」欄  選択一覧'!F11","v":"プログラム選択なし"}]
[{"$f":"'「志願先」欄  選択一覧'!A12","v":10},{"$f":"'「志願先」欄  選択一覧'!B12","v":"修士課程"},{"$f":"COUNTIF($B$3:B12,B12)","v":10},"修士課程10",{"$f":"'「志願先」欄  選択一覧'!C12","v":"人文科学研究科"},{"$f":"COUNTIF($E$3:E12,E12)","v":10},"人文科学研究科10",{"$f":"'「志願先」欄  選択一覧'!D12","v":"日本文学専攻"},"修士課程日本文学専攻",{"$f":"COUNTIF($I$3:I12,I12)","v":8},"修士課程日本文学専攻8",{"$f":"'「志願先」欄  選択一覧'!E12","v":"社会人入試"},"修士課程日本文学専攻社会人入試",{"$f":"COUNTIF($M$3:M12,M12)","v":2},"修士課程日本文学専攻社会人入試2","修士課程人文科学研究科日本文学専攻社会人入試",{"$f":"'「志願先」欄  選択一覧'!F12","v":"文芸創作研究プログラム"},null,null,1,{"$f":"IFERROR(VLOOKUP($W$2&T12,$D:$E,2,0),\"\")","v":""},{"$f":"IF(COUNTIF($U$12:U12,U12)=1,V11+1,V11)","v":1},{"$f":"IFERROR(INDEX($U$12:$U$200,MATCH(ROW(W12)-11,$V$12:$V$200,0)),\"\")","v":""},{"$f":"VLOOKUP($W$3&T12,$G:$H,2,0)","v":{"$error":"#N/A"}},{"$f":"IF(COUNTIF($X$12:X12,X12)=1,Y11+1,Y11)","v":1},{"$f":"IFERROR(INDEX($X$12:$X$200,MATCH(ROW(Z12)-11,$Y$12:$Y$200,0)),\"\")","v":""},{"$f":"VLOOKUP($W$2&$W$4&T12,$K:$L,2,0)","v":{"$error":"#N/A"}},{"$f":"IF(COUNTIF($AA$12:AA12,AA12)=1,AB11+1,AB11)","v":1},{"$f":"IFERROR(INDEX($AA$12:$AA$200,MATCH(ROW(AC12)-11,$AB$12:$AB$200,0)),\"\")","v":""},{"$f":"IFERROR(VLOOKUP($W$2&$W$4&$W$5&T12,$O:$Q,3,0),\"\")","v":""},{"$f":"IF(COUNTIF($AD$12:AD12,AD12)=1,AE11+1,AE11)","v":1},{"$f":"IF(AD12=\"なし\",\"\",\nIFERROR(INDEX($AD$12:$AD$200,MATCH(ROW(AF12)-11,$AE$12:$AE$200,0)),\"\")\n)","v":""},{"$f":"IF(AND(W2:W5<>0,$V$7=\"⑥修士課程と研修生の併願\"),\"併願を希望する\",\"\")","v":""}]
[{"$f":"'「志願先」欄  選択一覧'!A13","v":11},{"$f":"'「志願先」欄  選択一覧'!B13","v":"修士課程"},{"$f":"COUNTIF($B$3:B13,B13)","v":11},"修士課程11",{"$f":"'「志願先」欄  選択一覧'!C13","v":"人文科学研究科"},{"$f":"COUNTIF($E$3:E13,E13)","v":11},"人文科学研究科11",{"$f":"'「志願先」欄  選択一覧'!D13","v":"日本文学専攻"},"修士課程日本文学専攻",{"$f":"COUNTIF($I$3:I13,I13)","v":9},"修士課程日本文学専攻9",{"$f":"'「志願先」欄  選択一覧'!E13","v":"社会人入試"},"修士課程日本文学専攻社会人入試",{"$f":"COUNTIF($M$3:M13,M13)","v":3},"修士課程日本文学専攻社会人入試3","修士課程人文科学研究科日本文学専攻社会人入試",{"$f":"'「志願先」欄  選択一覧'!F13","v":"能楽研究者育成プログラム"},null,null,2,"",{"$f":"IF(COUNTIF($U$12:U13,U13)=1,V12+1,V12)","v":1},"",{"$error":"#N/A"},{"$f":"IF(COUNTIF($X$12:X13,X13)=1,Y12+1,Y12)","v":1},"",{"$error":"#N/A"},{"$f":"IF(COUNTIF($AA$12:AA13,AA13)=1,AB12+1,AB12)","v":1},"",{"$f":"IFERROR(VLOOKUP($W$2&$W$4&$W$5&T13,$O:$Q,3,0),\"\")","v":""},{"$f":"IF(COUNTIF($AD$12:AD13,AD13)=1,AE12+1,AE12)","v":1},{"$f":"IF(AD13=\"なし\",\"\",\nIFERROR(INDEX($AD$12:$AD$200,MATCH(ROW(AF13)-11,$AE$12:$AE$200,0)),\"\")\n)","v":""},{"$f":"IF(AND(W2:W5<>0,$V$7=\"⑥修士課程と研修生の併願\"),\"併願を希望しない\",\"\")","v":""}]
[{"$f":"'「志願先」欄  選択一覧'!A14","v":12},{"$f":"'「志願先」欄  選択一覧'!B14","v":"修士課程"},{"$f":"COUNTIF($B$3:B14,B14)","v":12},"修士課程12",{"$f":"'「志願先」欄  選択一覧'!C14","v":"人文科学研究科"},{"$f":"COUNTIF($E$3:E14,E14)","v":12},"人文科学研究科12",{"$f":"'「志願先」欄  選択一覧'!D14","v":"英文学専攻"},"修士課程英文学専攻",{"$f":"COUNTIF($I$3:I14,I14)","v":1},"修士課程英文学専攻1",{"$f":"'「志願先」欄  選択一覧'!E14","v":"一般入試"},"修士課程英文学専攻一般入試",{"$f":"COUNTIF($M$3:M14,M14)","v":1},"修士課程英文学専攻一般入試1","修士課程人文科学研究科英文学専攻一般入試",{"$f":"'「志願先」欄  選択一覧'!F14","v":"なし"},null,null,3,"",{"$f":"IF(COUNTIF($U$12:U14,U14)=1,V13+1,V13)","v":1},"",{"$error":"#N/A"},{"$f":"IF(COUNTIF($X$12:X14,X14)=1,Y13+1,Y13)","v":1},"",{"$error":"#N/A"},{"$f":"IF(COUNTIF($AA$12:AA14,AA14)=1,AB13+1,AB13)","v":1},"","",{"$f":"IF(COUNTIF($AD$12:AD14,AD14)=1,AE13+1,AE13)","v":1},""]
[{"$f":"'「志願先」欄  選択一覧'!A15","v":13},{"$f":"'「志願先」欄  選択一覧'!B15","v":"修士課程"},{"$f":"COUNTIF($B$3:B15,B15)","v":13},"修士課程13",{"$f":"'「志願先」欄  選択一覧'!C15","v":"人文科学研究科"},{"$f":"COUNTIF($E$3:E15,E15)","v":13},"人文科学研究科13",{"$f":"'「志願先」欄  選択一覧'!D15","v":"英文学専攻"},"修士課程英文学専攻",{"$f":"COUNTIF($I$3:I15,I15)","v":2},"修士課程英文学専攻2",{"$f":"'「志願先」欄  選択一覧'!E15","v":"社会人入試"},"修士課程英文学専攻社会人入試",{"$f":"COUNTIF($M$3:M15,M15)","v":1},"修士課程英文学専攻社会人入試1","修士課程人文科学研究科英文学専攻社会人入試",{"$f":"'「志願先」欄  選択一覧'!F15","v":"なし"},null,null,4,"",{"$f":"IF(COUNTIF($U$12:U15,U15)=1,V14+1,V14)","v":1},"",{"$error":"#N/A"},{"$f":"IF(COUNTIF($X$12:X15,X15)=1,Y14+1,Y14)","v":1},"",{"$error":"#N/A"},{"$f":"IF(COUNTIF($AA$12:AA15,AA15)=1,AB14+1,AB14)","v":1},"","",{"$f":"IF(COUNTIF($AD$12:AD15,AD15)=1,AE14+1,AE14)","v":1},""]
[{"$f":"'「志願先」欄  選択一覧'!A16","v":14},{"$f":"'「志願先」欄  選択一覧'!B16","v":"修士課程"},{"$f":"COUNTIF($B$3:B16,B16)","v":14},"修士課程14",{"$f":"'「志願先」欄  選択一覧'!C16","v":"人文科学研究科"},{"$f":"COUNTIF($E$3:E16,E16)","v":14},"人文科学研究科14",{"$f":"'「志願先」欄  選択一覧'!D16","v":"史学専攻"},"修士課程史学専攻",{"$f":"COUNTIF($I$3:I16,I16)","v":1},"修士課程史学専攻1",{"$f":"'「志願先」欄  選択一覧'!E16","v":"一般入試"},"修士課程史学専攻一般入試",{"$f":"COUNTIF($M$3:M16,M16)","v":1},"修士課程史学専攻一般入試1","修士課程人文科学研究科史学専攻一般入試",{"$f":"'「志願先」欄  選択一覧'!F16","v":"なし"},null,null,5,"",{"$f":"IF(COUNTIF($U$12:U16,U16)=1,V15+1,V15)","v":1},"",{"$error":"#N/A"},{"$f":"IF(COUNTIF($X$12:X16,X16)=1,Y15+1,Y15)","v":1},"",{"$error":"#N/A"},{"$f":"IF(COUNTIF($AA$12:AA16,AA16)=1,AB15+1,AB15)","v":1},"","",{"$f":"IF(COUNTIF($AD$12:AD16,AD16)=1,AE15+1,AE15)","v":1},""]
[{"$f":"'「志願先」欄  選択一覧'!A17","v":15},{"$f":"'「志願先」欄  選択一覧'!B17","v":"修士課程"},{"$f":"COUNTIF($B$3:B17,B17)","v":15},"修士課程15",{"$f":"'「志願先」欄  選択一覧'!C17","v":"人文科学研究科"},{"$f":"COUNTIF($E$3:E17,E17)","v":15},"人文科学研究科15",{"$f":"'「志願先」欄  選択一覧'!D17","v":"史学専攻"},"修士課程史学専攻",{"$f":"COUNTIF($I$3:I17,I17)","v":2},"修士課程史学専攻2",{"$f":"'「志願先」欄  選択一覧'!E17","v":"社会人入試"},"修士課程史学専攻社会人入試",{"$f":"COUNTIF($M$3:M17,M17)","v":1},"修士課程史学専攻社会人入試1","修士課程人文科学研究科史学専攻社会人入試",{"$f":"'「志願先」欄  選択一覧'!F17","v":"なし"},null,null,6,"",{"$f":"IF(COUNTIF($U$12:U17,U17)=1,V16+1,V16)","v":1},"",{"$f":"VLOOKUP($W$3&T17,$G:$H,2,0)","v":{"$error":"#N/A"}},{"$f":"IF(COUNTIF($X$12:X17,X17)=1,Y16+1,Y16)","v":1},"",{"$error":"#N/A"},{"$f":"IF(COUNTIF($AA$12:AA17,AA17)=1,AB16+1,AB16)","v":1},"","",{"$f":"IF(COUNTIF($AD$12:AD17,AD17)=1,AE16+1,AE16)","v":1},""]
[{"$f":"'「志願先」欄  選択一覧'!A18","v":16},{"$f":"'「志願先」欄  選択一覧'!B18","v":"修士課程"},{"$f":"COUNTIF($B$3:B18,B18)","v":16},"修士課程16",{"$f":"'「志願先」欄  選択一覧'!C18","v":"人文科学研究科"},{"$f":"COUNTIF($E$3:E18,E18)","v":16},"人文科学研究科16",{"$f":"'「志願先」欄  選択一覧'!D18","v":"地理学専攻"},"修士課程地理学専攻",{"$f":"COUNTIF($I$3:I18,I18)","v":1},"修士課程地理学専攻1",{"$f":"'「志願先」欄  選択一覧'!E18","v":"一般入試"},"修士課程地理学専攻一般入試",{"$f":"COUNTIF($M$3:M18,M18)","v":1},"修士課程地理学専攻一般入試1","修士課程人文科学研究科地理学専攻一般入試",{"$f":"'「志願先」欄  選択一覧'!F18","v":"なし"},null,null,7,"",{"$f":"IF(COUNTIF($U$12:U18,U18)=1,V17+1,V17)","v":1},"",{"$error":"#N/A"},{"$f":"IF(COUNTIF($X$12:X18,X18)=1,Y17+1,Y17)","v":1},"",{"$f":"VLOOKUP($W$2&$W$4&T18,$K:$L,2,0)","v":{"$error":"#N/A"}},{"$f":"IF(COUNTIF($AA$12:AA18,AA18)=1,AB17+1,AB17)","v":1},"","",{"$f":"IF(COUNTIF($AD$12:AD18,AD18)=1,AE17+1,AE17)","v":1},""]
[{"$f":"'「志願先」欄  選択一覧'!A19","v":17},{"$f":"'「志願先」欄  選択一覧'!B19","v":"修士課程"},{"$f":"COUNTIF($B$3:B19,B19)","v":17},"修士課程17",{"$f":"'「志願先」欄  選択一覧'!C19","v":"人文科学研究科"},{"$f":"COUNTIF($E$3:E19,E19)","v":17},"人文科学研究科17",{"$f":"'「志願先」欄  選択一覧'!D19","v":"地理学専攻"},"修士課程地理学専攻",{"$f":"COUNTIF($I$3:I19,I19)","v":2},"修士課程地理学専攻2",{"$f":"'「志願先」欄  選択一覧'!E19","v":"社会人入試"},"修士課程地理学専攻社会人入試",{"$f":"COUNTIF($M$3:M19,M19)","v":1},"修士課程地理学専攻社会人入試1","修士課程人文科学研究科地理学専攻社会人入試",{"$f":"'「志願先」欄  選択一覧'!F19","v":"なし"},null,null,8,"",{"$f":"IF(COUNTIF($U$12:U19,U19)=1,V18+1,V18)","v":1},"",{"$error":"#N/A"},{"$f":"IF(COUNTIF($X$12:X19,X19)=1,Y18+1,Y18)","v":1},"",{"$error":"#N/A"},{"$f":"IF(COUNTIF($AA$12:AA19,AA19)=1,AB18+1,AB18)","v":1},"","",{"$f":"IF(COUNTIF($AD$12:AD19,AD19)=1,AE18+1,AE18)","v":1},""]
[{"$f":"'「志願先」欄  選択一覧'!A20","v":18},{"$f":"'「志願先」欄  選択一覧'!B20","v":"修士課程"},{"$f":"COUNTIF($B$3:B20,B20)","v":18},"修士課程18",{"$f":"'「志願先」欄  選択一覧'!C20","v":"人文科学研究科"},{"$f":"COUNTIF($E$3:E20,E20)","v":18},"人文科学研究科18",{"$f":"'「志願先」欄  選択一覧'!D20","v":"心理学専攻"},"修士課程心理学専攻",{"$f":"COUNTIF($I$3:I20,I20)","v":1},"修士課程心理学専攻1",{"$f":"'「志願先」欄  選択一覧'!E20","v":"一般入試"},"修士課程心理学専攻一般入試",{"$f":"COUNTIF($M$3:M20,M20)","v":1},"修士課程心理学専攻一般入試1","修士課程人文科学研究科心理学専攻一般入試",{"$f":"'「志願先」欄  選択一覧'!F20","v":"なし"},null,null,9,"",{"$f":"IF(COUNTIF($U$12:U20,U20)=1,V19+1,V19)","v":1},"",{"$error":"#N/A"},{"$f":"IF(COUNTIF($X$12:X20,X20)=1,Y19+1,Y19)","v":1},"",{"$error":"#N/A"},{"$f":"IF(COUNTIF($AA$12:AA20,AA20)=1,AB19+1,AB19)","v":1},"","",{"$f":"IF(COUNTIF($AD$12:AD20,AD20)=1,AE19+1,AE19)","v":1},""]
[{"$f":"'「志願先」欄  選択一覧'!A21","v":19},{"$f":"'「志願先」欄  選択一覧'!B21","v":"修士課程"},{"$f":"COUNTIF($B$3:B21,B21)","v":19},"修士課程19",{"$f":"'「志願先」欄  選択一覧'!C21","v":"人文科学研究科"},{"$f":"COUNTIF($E$3:E21,E21)","v":19},"人文科学研究科19",{"$f":"'「志願先」欄  選択一覧'!D21","v":"国際日本学インスティテュート"},"修士課程国際日本学インスティテュート",{"$f":"COUNTIF($I$3:I21,I21)","v":1},"修士課程国際日本学インスティテュート1",{"$f":"'「志願先」欄  選択一覧'!E21","v":"一般入試"},"修士課程国際日本学インスティテュート一般入試",{"$f":"COUNTIF($M$3:M21,M21)","v":1},"修士課程国際日本学インスティテュート一般入試1","修士課程人文科学研究科国際日本学インスティテュート一般入試",{"$f":"'「志願先」欄  選択一覧'!F21","v":"所属専攻：哲学"},null,null,10,"",{"$f":"IF(COUNTIF($U$12:U21,U21)=1,V20+1,V20)","v":1},"",{"$error":"#N/A"},{"$f":"IF(COUNTIF($X$12:X21,X21)=1,Y20+1,Y20)","v":1},"",{"$error":"#N/A"},{"$f":"IF(COUNTIF($AA$12:AA21,AA21)=1,AB20+1,AB20)","v":1},"","",{"$f":"IF(COUNTIF($AD$12:AD21,AD21)=1,AE20+1,AE20)","v":1},""]
[{"$f":"'「志願先」欄  選択一覧'!A22","v":20},{"$f":"'「志願先」欄  選択一覧'!B22","v":"修士課程"},{"$f":"COUNTIF($B$3:B22,B22)","v":20},"修士課程20",{"$f":"'「志願先」欄  選択一覧'!C22","v":"人文科学研究科"},{"$f":"COUNTIF($E$3:E22,E22)","v":20},"人文科学研究科20",{"$f":"'「志願先」欄  選択一覧'!D22","v":"国際日本学インスティテュート"},"修士課程国際日本学インスティテュート",{"$f":"COUNTIF($I$3:I22,I22)","v":2},"修士課程国際日本学インスティテュート2",{"$f":"'「志願先」欄  選択一覧'!E22","v":"一般入試"},"修士課程国際日本学インスティテュート一般入試",{"$f":"COUNTIF($M$3:M22,M22)","v":2},"修士課程国際日本学インスティテュート一般入試2","修士課程人文科学研究科国際日本学インスティテュート一般入試",{"$f":"'「志願先」欄  選択一覧'!F22","v":"所属専攻：日本文学"},null,null,11,"",{"$f":"IF(COUNTIF($U$12:U22,U22)=1,V21+1,V21)","v":1},"",{"$error":"#N/A"},{"$f":"IF(COUNTIF($X$12:X22,X22)=1,Y21+1,Y21)","v":1},"",{"$error":"#N/A"},{"$f":"IF(COUNTIF($AA$12:AA22,AA22)=1,AB21+1,AB21)","v":1},"","",{"$f":"IF(COUNTIF($AD$12:AD22,AD22)=1,AE21+1,AE21)","v":1},""]
[{"$f":"'「志願先」欄  選択一覧'!A23","v":21},{"$f":"'「志願先」欄  選択一覧'!B23","v":"修士課程"},{"$f":"COUNTIF($B$3:B23,B23)","v":21},"修士課程21",{"$f":"'「志願先」欄  選択一覧'!C23","v":"人文科学研究科"},{"$f":"COUNTIF($E$3:E23,E23)","v":21},"人文科学研究科21",{"$f":"'「志願先」欄  選択一覧'!D23","v":"国際日本学インスティテュート"},"修士課程国際日本学インスティテュート",{"$f":"COUNTIF($I$3:I23,I23)","v":3},"修士課程国際日本学インスティテュート3",{"$f":"'「志願先」欄  選択一覧'!E23","v":"一般入試"},"修士課程国際日本学インスティテュート一般入試",{"$f":"COUNTIF($M$3:M23,M23)","v":3},"修士課程国際日本学インスティテュート一般入試3","修士課程人文科学研究科国際日本学インスティテュート一般入試",{"$f":"'「志願先」欄  選択一覧'!F23","v":"所属専攻：英文学"},null,null,12,"",{"$f":"IF(COUNTIF($U$12:U23,U23)=1,V22+1,V22)","v":1},"",{"$error":"#N/A"},{"$f":"IF(COUNTIF($X$12:X23,X23)=1,Y22+1,Y22)","v":1},"",{"$error":"#N/A"},{"$f":"IF(COUNTIF($AA$12:AA23,AA23)=1,AB22+1,AB22)","v":1},"","",{"$f":"IF(COUNTIF($AD$12:AD23,AD23)=1,AE22+1,AE22)","v":1},""]
[{"$f":"'「志願先」欄  選択一覧'!A24","v":22},{"$f":"'「志願先」欄  選択一覧'!B24","v":"修士課程"},{"$f":"COUNTIF($B$3:B24,B24)","v":22},"修士課程22",{"$f":"'「志願先」欄  選択一覧'!C24","v":"人文科学研究科"},{"$f":"COUNTIF($E$3:E24,E24)","v":22},"人文科学研究科22",{"$f":"'「志願先」欄  選択一覧'!D24","v":"国際日本学インスティテュート"},"修士課程国際日本学インスティテュート",{"$f":"COUNTIF($I$3:I24,I24)","v":4},"修士課程国際日本学インスティテュート4",{"$f":"'「志願先」欄  選択一覧'!E24","v":"一般入試"},"修士課程国際日本学インスティテュート一般入試",{"$f":"COUNTIF($M$3:M24,M24)","v":4},"修士課程国際日本学インスティテュート一般入試4","修士課程人文科学研究科国際日本学インスティテュート一般入試",{"$f":"'「志願先」欄  選択一覧'!F24","v":"所属専攻：史学"},null,null,13,"",{"$f":"IF(COUNTIF($U$12:U24,U24)=1,V23+1,V23)","v":1},"",{"$error":"#N/A"},{"$f":"IF(COUNTIF($X$12:X24,X24)=1,Y23+1,Y23)","v":1},"",{"$error":"#N/A"},{"$f":"IF(COUNTIF($AA$12:AA24,AA24)=1,AB23+1,AB23)","v":1},"","",{"$f":"IF(COUNTIF($AD$12:AD24,AD24)=1,AE23+1,AE23)","v":1},""]
[{"$f":"'「志願先」欄  選択一覧'!A25","v":23},{"$f":"'「志願先」欄  選択一覧'!B25","v":"修士課程"},{"$f":"COUNTIF($B$3:B25,B25)","v":23},"修士課程23",{"$f":"'「志願先」欄  選択一覧'!C25","v":"人文科学研究科"},{"$f":"COUNTIF($E$3:E25,E25)","v":23},"人文科学研究科23",{"$f":"'「志願先」欄  選択一覧'!D25","v":"国際日本学インスティテュート"},"修士課程国際日本学インスティテュート",{"$f":"COUNTIF($I$3:I25,I25)","v":5},"修士課程国際日本学インスティテュート5",{"$f":"'「志願先」欄  選択一覧'!E25","v":"一般入試"},"修士課程国際日本学インスティテュート一般入試",{"$f":"COUNTIF($M$3:M25,M25)","v":5},"修士課程国際日本学インスティテュート一般入試5","修士課程人文科学研究科国際日本学インスティテュート一般入試",{"$f":"'「志願先」欄  選択一覧'!F25","v":"所属専攻：地理学"},null,null,14,"",{"$f":"IF(COUNTIF($U$12:U25,U25)=1,V24+1,V24)","v":1},"",{"$error":"#N/A"},{"$f":"IF(COUNTIF($X$12:X25,X25)=1,Y24+1,Y24)","v":1},"",{"$error":"#N/A"},{"$f":"IF(COUNTIF($AA$12:AA25,AA25)=1,AB24+1,AB24)","v":1},"","",{"$f":"IF(COUNTIF($AD$12:AD25,AD25)=1,AE24+1,AE24)","v":1},""]
[{"$f":"'「志願先」欄  選択一覧'!A26","v":24},{"$f":"'「志願先」欄  選択一覧'!B26","v":"修士課程"},{"$f":"COUNTIF($B$3:B26,B26)","v":24},"修士課程24",{"$f":"'「志願先」欄  選択一覧'!C26","v":"人文科学研究科"},{"$f":"COUNTIF($E$3:E26,E26)","v":24},"人文科学研究科24",{"$f":"'「志願先」欄  選択一覧'!D26","v":"国際日本学インスティテュート"},"修士課程国際日本学インスティテュート",{"$f":"COUNTIF($I$3:I26,I26)","v":6},"修士課程国際日本学インスティテュート6",{"$f":"'「志願先」欄  選択一覧'!E26","v":"外国人入試"},"修士課程国際日本学インスティテュート外国人入試",{"$f":"COUNTIF($M$3:M26,M26)","v":1},"修士課程国際日本学インスティテュート外国人入試1","修士課程人文科学研究科国際日本学インスティテュート外国人入試",{"$f":"'「志願先」欄  選択一覧'!F26","v":"所属専攻：哲学"},null,null,15,"",{"$f":"IF(COUNTIF($U$12:U26,U26)=1,V25+1,V25)","v":1},"",{"$error":"#N/A"},{"$f":"IF(COUNTIF($X$12:X26,X26)=1,Y25+1,Y25)","v":1},"",{"$error":"#N/A"},{"$f":"IF(COUNTIF($AA$12:AA26,AA26)=1,AB25+1,AB25)","v":1},"","",{"$f":"IF(COUNTIF($AD$12:AD26,AD26)=1,AE25+1,AE25)","v":1},""]
[{"$f":"'「志願先」欄  選択一覧'!A27","v":25},{"$f":"'「志願先」欄  選択一覧'!B27","v":"修士課程"},{"$f":"COUNTIF($B$3:B27,B27)","v":25},"修士課程25",{"$f":"'「志願先」欄  選択一覧'!C27","v":"人文科学研究科"},{"$f":"COUNTIF($E$3:E27,E27)","v":25},"人文科学研究科25",{"$f":"'「志願先」欄  選択一覧'!D27","v":"国際日本学インスティテュート"},"修士課程国際日本学インスティテュート",{"$f":"COUNTIF($I$3:I27,I27)","v":7},"修士課程国際日本学インスティテュート7",{"$f":"'「志願先」欄  選択一覧'!E27","v":"外国人入試"},"修士課程国際日本学インスティテュート外国人入試",{"$f":"COUNTIF($M$3:M27,M27)","v":2},"修士課程国際日本学インスティテュート外国人入試2","修士課程人文科学研究科国際日本学インスティテュート外国人入試",{"$f":"'「志願先」欄  選択一覧'!F27","v":"所属専攻：日本文学"},null,null,16,"",{"$f":"IF(COUNTIF($U$12:U27,U27)=1,V26+1,V26)","v":1},"",{"$error":"#N/A"},{"$f":"IF(COUNTIF($X$12:X27,X27)=1,Y26+1,Y26)","v":1},"",{"$error":"#N/A"},{"$f":"IF(COUNTIF($AA$12:AA27,AA27)=1,AB26+1,AB26)","v":1},"","",{"$f":"IF(COUNTIF($AD$12:AD27,AD27)=1,AE26+1,AE26)","v":1},""]
[{"$f":"'「志願先」欄  選択一覧'!A28","v":26},{"$f":"'「志願先」欄  選択一覧'!B28","v":"修士課程"},{"$f":"COUNTIF($B$3:B28,B28)","v":26},"修士課程26",{"$f":"'「志願先」欄  選択一覧'!C28","v":"人文科学研究科"},{"$f":"COUNTIF($E$3:E28,E28)","v":26},"人文科学研究科26",{"$f":"'「志願先」欄  選択一覧'!D28","v":"国際日本学インスティテュート"},"修士課程国際日本学インスティテュート",{"$f":"COUNTIF($I$3:I28,I28)","v":8},"修士課程国際日本学インスティテュート8",{"$f":"'「志願先」欄  選択一覧'!E28","v":"外国人入試"},"修士課程国際日本学インスティテュート外国人入試",{"$f":"COUNTIF($M$3:M28,M28)","v":3},"修士課程国際日本学インスティテュート外国人入試3","修士課程人文科学研究科国際日本学インスティテュート外国人入試",{"$f":"'「志願先」欄  選択一覧'!F28","v":"所属専攻：英文学"},null,null,17,"",{"$f":"IF(COUNTIF($U$12:U28,U28)=1,V27+1,V27)","v":1},"",{"$error":"#N/A"},{"$f":"IF(COUNTIF($X$12:X28,X28)=1,Y27+1,Y27)","v":1},"",{"$error":"#N/A"},{"$f":"IF(COUNTIF($AA$12:AA28,AA28)=1,AB27+1,AB27)","v":1},"","",{"$f":"IF(COUNTIF($AD$12:AD28,AD28)=1,AE27+1,AE27)","v":1},""]
[{"$f":"'「志願先」欄  選択一覧'!A29","v":27},{"$f":"'「志願先」欄  選択一覧'!B29","v":"修士課程"},{"$f":"COUNTIF($B$3:B29,B29)","v":27},"修士課程27",{"$f":"'「志願先」欄  選択一覧'!C29","v":"人文科学研究科"},{"$f":"COUNTIF($E$3:E29,E29)","v":27},"人文科学研究科27",{"$f":"'「志願先」欄  選択一覧'!D29","v":"国際日本学インスティテュート"},"修士課程国際日本学インスティテュート",{"$f":"COUNTIF($I$3:I29,I29)","v":9},"修士課程国際日本学インスティテュート9",{"$f":"'「志願先」欄  選択一覧'!E29","v":"外国人入試"},"修士課程国際日本学インスティテュート外国人入試",{"$f":"COUNTIF($M$3:M29,M29)","v":4},"修士課程国際日本学インスティテュート外国人入試4","修士課程人文科学研究科国際日本学インスティテュート外国人入試",{"$f":"'「志願先」欄  選択一覧'!F29","v":"所属専攻：史学"},null,null,18,"",{"$f":"IF(COUNTIF($U$12:U29,U29)=1,V28+1,V28)","v":1},"",{"$error":"#N/A"},{"$f":"IF(COUNTIF($X$12:X29,X29)=1,Y28+1,Y28)","v":1},"",{"$error":"#N/A"},{"$f":"IF(COUNTIF($AA$12:AA29,AA29)=1,AB28+1,AB28)","v":1},"","",{"$f":"IF(COUNTIF($AD$12:AD29,AD29)=1,AE28+1,AE28)","v":1},""]
[{"$f":"'「志願先」欄  選択一覧'!A30","v":28},{"$f":"'「志願先」欄  選択一覧'!B30","v":"修士課程"},{"$f":"COUNTIF($B$3:B30,B30)","v":28},"修士課程28",{"$f":"'「志願先」欄  選択一覧'!C30","v":"人文科学研究科"},{"$f":"COUNTIF($E$3:E30,E30)","v":28},"人文科学研究科28",{"$f":"'「志願先」欄  選択一覧'!D30","v":"国際日本学インスティテュート"},"修士課程国際日本学インスティテュート",{"$f":"COUNTIF($I$3:I30,I30)","v":10},"修士課程国際日本学インスティテュート10",{"$f":"'「志願先」欄  選択一覧'!E30","v":"外国人入試"},"修士課程国際日本学インスティテュート外国人入試",{"$f":"COUNTIF($M$3:M30,M30)","v":5},"修士課程国際日本学インスティテュート外国人入試5","修士課程人文科学研究科国際日本学インスティテュート外国人入試",{"$f":"'「志願先」欄  選択一覧'!F30","v":"所属専攻：地理学"},null,null,19,"",{"$f":"IF(COUNTIF($U$12:U30,U30)=1,V29+1,V29)","v":1},"",{"$error":"#N/A"},{"$f":"IF(COUNTIF($X$12:X30,X30)=1,Y29+1,Y29)","v":1},"",{"$error":"#N/A"},{"$f":"IF(COUNTIF($AA$12:AA30,AA30)=1,AB29+1,AB29)","v":1},"","",{"$f":"IF(COUNTIF($AD$12:AD30,AD30)=1,AE29+1,AE29)","v":1},""]
[{"$f":"'「志願先」欄  選択一覧'!A31","v":29},{"$f":"'「志願先」欄  選択一覧'!B31","v":"修士課程"},{"$f":"COUNTIF($B$3:B31,B31)","v":29},"修士課程29",{"$f":"'「志願先」欄  選択一覧'!C31","v":"人文科学研究科"},{"$f":"COUNTIF($E$3:E31,E31)","v":29},"人文科学研究科29",{"$f":"'「志願先」欄  選択一覧'!D31","v":"国際日本学インスティテュート"},"修士課程国際日本学インスティテュート",{"$f":"COUNTIF($I$3:I31,I31)","v":11},"修士課程国際日本学インスティテュート11",{"$f":"'「志願先」欄  選択一覧'!E31","v":"社会人入試"},"修士課程国際日本学インスティテュート社会人入試",{"$f":"COUNTIF($M$3:M31,M31)","v":1},"修士課程国際日本学インスティテュート社会人入試1","修士課程人文科学研究科国際日本学インスティテュート社会人入試",{"$f":"'「志願先」欄  選択一覧'!F31","v":"所属専攻：哲学"},null,null,20,"",{"$f":"IF(COUNTIF($U$12:U31,U31)=1,V30+1,V30)","v":1},"",{"$error":"#N/A"},{"$f":"IF(COUNTIF($X$12:X31,X31)=1,Y30+1,Y30)","v":1},"",{"$error":"#N/A"},{"$f":"IF(COUNTIF($AA$12:AA31,AA31)=1,AB30+1,AB30)","v":1},"","",{"$f":"IF(COUNTIF($AD$12:AD31,AD31)=1,AE30+1,AE30)","v":1},""]
[{"$f":"'「志願先」欄  選択一覧'!A32","v":30},{"$f":"'「志願先」欄  選択一覧'!B32","v":"修士課程"},{"$f":"COUNTIF($B$3:B32,B32)","v":30},"修士課程30",{"$f":"'「志願先」欄  選択一覧'!C32","v":"人文科学研究科"},{"$f":"COUNTIF($E$3:E32,E32)","v":30},"人文科学研究科30",{"$f":"'「志願先」欄  選択一覧'!D32","v":"国際日本学インスティテュート"},"修士課程国際日本学インスティテュート",{"$f":"COUNTIF($I$3:I32,I32)","v":12},"修士課程国際日本学インスティテュート12",{"$f":"'「志願先」欄  選択一覧'!E32","v":"社会人入試"},"修士課程国際日本学インスティテュート社会人入試",{"$f":"COUNTIF($M$3:M32,M32)","v":2},"修士課程国際日本学インスティテュート社会人入試2","修士課程人文科学研究科国際日本学インスティテュート社会人入試",{"$f":"'「志願先」欄  選択一覧'!F32","v":"所属専攻：日本文学"},null,null,21,"",{"$f":"IF(COUNTIF($U$12:U32,U32)=1,V31+1,V31)","v":1},"",{"$error":"#N/A"},{"$f":"IF(COUNTIF($X$12:X32,X32)=1,Y31+1,Y31)","v":1},"",{"$error":"#N/A"},{"$f":"IF(COUNTIF($AA$12:AA32,AA32)=1,AB31+1,AB31)","v":1},"","",{"$f":"IF(COUNTIF($AD$12:AD32,AD32)=1,AE31+1,AE31)","v":1},""]
[{"$f":"'「志願先」欄  選択一覧'!A33","v":31},{"$f":"'「志願先」欄  選択一覧'!B33","v":"修士課程"},{"$f":"COUNTIF($B$3:B33,B33)","v":31},"修士課程31",{"$f":"'「志願先」欄  選択一覧'!C33","v":"人文科学研究科"},{"$f":"COUNTIF($E$3:E33,E33)","v":31},"人文科学研究科31",{"$f":"'「志願先」欄  選択一覧'!D33","v":"国際日本学インスティテュート"},"修士課程国際日本学インスティテュート",{"$f":"COUNTIF($I$3:I33,I33)","v":13},"修士課程国際日本学インスティテュート13",{"$f":"'「志願先」欄  選択一覧'!E33","v":"社会人入試"},"修士課程国際日本学インスティテュート社会人入試",{"$f":"COUNTIF($M$3:M33,M33)","v":3},"修士課程国際日本学インスティテュート社会人入試3","修士課程人文科学研究科国際日本学インスティテュート社会人入試",{"$f":"'「志願先」欄  選択一覧'!F33","v":"所属専攻：英文学"},null,null,22,"",{"$f":"IF(COUNTIF($U$12:U33,U33)=1,V32+1,V32)","v":1},"",{"$error":"#N/A"},{"$f":"IF(COUNTIF($X$12:X33,X33)=1,Y32+1,Y32)","v":1},"",{"$error":"#N/A"},{"$f":"IF(COUNTIF($AA$12:AA33,AA33)=1,AB32+1,AB32)","v":1},"","",{"$f":"IF(COUNTIF($AD$12:AD33,AD33)=1,AE32+1,AE32)","v":1},""]
[{"$f":"'「志願先」欄  選択一覧'!A34","v":32},{"$f":"'「志願先」欄  選択一覧'!B34","v":"修士課程"},{"$f":"COUNTIF($B$3:B34,B34)","v":32},"修士課程32",{"$f":"'「志願先」欄  選択一覧'!C34","v":"人文科学研究科"},{"$f":"COUNTIF($E$3:E34,E34)","v":32},"人文科学研究科32",{"$f":"'「志願先」欄  選択一覧'!D34","v":"国際日本学インスティテュート"},"修士課程国際日本学インスティテュート",{"$f":"COUNTIF($I$3:I34,I34)","v":14},"修士課程国際日本学インスティテュート14",{"$f":"'「志願先」欄  選択一覧'!E34","v":"社会人入試"},"修士課程国際日本学インスティテュート社会人入試",{"$f":"COUNTIF($M$3:M34,M34)","v":4},"修士課程国際日本学インスティテュート社会人入試4","修士課程人文科学研究科国際日本学インスティテュート社会人入試",{"$f":"'「志願先」欄  選択一覧'!F34","v":"所属専攻：史学"},null,null,23,"",{"$f":"IF(COUNTIF($U$12:U34,U34)=1,V33+1,V33)","v":1},"",{"$error":"#N/A"},{"$f":"IF(COUNTIF($X$12:X34,X34)=1,Y33+1,Y33)","v":1},"",{"$error":"#N/A"},{"$f":"IF(COUNTIF($AA$12:AA34,AA34)=1,AB33+1,AB33)","v":1},"","",{"$f":"IF(COUNTIF($AD$12:AD34,AD34)=1,AE33+1,AE33)","v":1},""]
[{"$f":"'「志願先」欄  選択一覧'!A35","v":33},{"$f":"'「志願先」欄  選択一覧'!B35","v":"修士課程"},{"$f":"COUNTIF($B$3:B35,B35)","v":33},"修士課程33",{"$f":"'「志願先」欄  選択一覧'!C35","v":"人文科学研究科"},{"$f":"COUNTIF($E$3:E35,E35)","v":33},{"$f":"E35&F35","v":"人文科学研究科33"},{"$f":"'「志願先」欄  選択一覧'!D35","v":"国際日本学インスティテュート"},"修士課程国際日本学インスティテュート",{"$f":"COUNTIF($I$3:I35,I35)","v":15},"修士課程国際日本学インスティテュート15",{"$f":"'「志願先」欄  選択一覧'!E35","v":"社会人入試"},"修士課程国際日本学インスティテュート社会人入試",{"$f":"COUNTIF($M$3:M35,M35)","v":5},{"$f":"B35&H35&L35&N35","v":"修士課程国際日本学インスティテュート社会人入試5"},"修士課程人文科学研究科国際日本学インスティテュート社会人入試",{"$f":"'「志願先」欄  選択一覧'!F35","v":"所属専攻：地理学"},null,null,24,"",{"$f":"IF(COUNTIF($U$12:U35,U35)=1,V34+1,V34)","v":1},"",{"$error":"#N/A"},{"$f":"IF(COUNTIF($X$12:X35,X35)=1,Y34+1,Y34)","v":1},"",{"$error":"#N/A"},{"$f":"IF(COUNTIF($AA$12:AA35,AA35)=1,AB34+1,AB34)","v":1},"","",{"$f":"IF(COUNTIF($AD$12:AD35,AD35)=1,AE34+1,AE34)","v":1},""]
[{"$f":"'「志願先」欄  選択一覧'!A36","v":34},{"$f":"'「志願先」欄  選択一覧'!B36","v":"修士課程"},{"$f":"COUNTIF($B$3:B36,B36)","v":34},"修士課程34",{"$f":"'「志願先」欄  選択一覧'!C36","v":"国際文化研究科"},{"$f":"COUNTIF($E$3:E36,E36)","v":1},"国際文化研究科1",{"$f":"'「志願先」欄  選択一覧'!D36","v":"国際文化専攻"},"修士課程国際文化専攻",{"$f":"COUNTIF($I$3:I36,I36)","v":1},"修士課程国際文化専攻1",{"$f":"'「志願先」欄  選択一覧'!E36","v":"一般入試"},"修士課程国際文化専攻一般入試",{"$f":"COUNTIF($M$3:M36,M36)","v":1},"修士課程国際文化専攻一般入試1","修士課程国際文化研究科国際文化専攻一般入試",{"$f":"'「志願先」欄  選択一覧'!F36","v":"なし"},null,null,25,"",{"$f":"IF(COUNTIF($U$12:U36,U36)=1,V35+1,V35)","v":1},"",{"$error":"#N/A"},{"$f":"IF(COUNTIF($X$12:X36,X36)=1,Y35+1,Y35)","v":1},"",{"$error":"#N/A"},{"$f":"IF(COUNTIF($AA$12:AA36,AA36)=1,AB35+1,AB35)","v":1},"","",{"$f":"IF(COUNTIF($AD$12:AD36,AD36)=1,AE35+1,AE35)","v":1},""]
[{"$f":"'「志願先」欄  選択一覧'!A37","v":35},{"$f":"'「志願先」欄  選択一覧'!B37","v":"修士課程"},{"$f":"COUNTIF($B$3:B37,B37)","v":35},"修士課程35",{"$f":"'「志願先」欄  選択一覧'!C37","v":"国際文化研究科"},{"$f":"COUNTIF($E$3:E37,E37)","v":2},"国際文化研究科2",{"$f":"'「志願先」欄  選択一覧'!D37","v":"国際文化専攻"},"修士課程国際文化専攻",{"$f":"COUNTIF($I$3:I37,I37)","v":2},"修士課程国際文化専攻2",{"$f":"'「志願先」欄  選択一覧'!E37","v":"外国人入試"},"修士課程国際文化専攻外国人入試",{"$f":"COUNTIF($M$3:M37,M37)","v":1},"修士課程国際文化専攻外国人入試1","修士課程国際文化研究科国際文化専攻外国人入試",{"$f":"'「志願先」欄  選択一覧'!F37","v":"なし"},null,null,26,"",{"$f":"IF(COUNTIF($U$12:U37,U37)=1,V36+1,V36)","v":1},"",{"$error":"#N/A"},{"$f":"IF(COUNTIF($X$12:X37,X37)=1,Y36+1,Y36)","v":1},"",{"$error":"#N/A"},{"$f":"IF(COUNTIF($AA$12:AA37,AA37)=1,AB36+1,AB36)","v":1},"","",{"$f":"IF(COUNTIF($AD$12:AD37,AD37)=1,AE36+1,AE36)","v":1},""]
[{"$f":"'「志願先」欄  選択一覧'!A38","v":36},{"$f":"'「志願先」欄  選択一覧'!B38","v":"修士課程"},{"$f":"COUNTIF($B$3:B38,B38)","v":36},"修士課程36",{"$f":"'「志願先」欄  選択一覧'!C38","v":"国際文化研究科"},{"$f":"COUNTIF($E$3:E38,E38)","v":3},"国際文化研究科3",{"$f":"'「志願先」欄  選択一覧'!D38","v":"国際文化専攻"},"修士課程国際文化専攻",{"$f":"COUNTIF($I$3:I38,I38)","v":3},"修士課程国際文化専攻3",{"$f":"'「志願先」欄  選択一覧'!E38","v":"社会人入試"},"修士課程国際文化専攻社会人入試",{"$f":"COUNTIF($M$3:M38,M38)","v":1},"修士課程国際文化専攻社会人入試1","修士課程国際文化研究科国際文化専攻社会人入試",{"$f":"'「志願先」欄  選択一覧'!F38","v":"なし"},null,null,27,"",{"$f":"IF(COUNTIF($U$12:U38,U38)=1,V37+1,V37)","v":1},"",{"$error":"#N/A"},{"$f":"IF(COUNTIF($X$12:X38,X38)=1,Y37+1,Y37)","v":1},"",{"$error":"#N/A"},{"$f":"IF(COUNTIF($AA$12:AA38,AA38)=1,AB37+1,AB37)","v":1},"","",{"$f":"IF(COUNTIF($AD$12:AD38,AD38)=1,AE37+1,AE37)","v":1},""]
[{"$f":"'「志願先」欄  選択一覧'!A39","v":37},{"$f":"'「志願先」欄  選択一覧'!B39","v":"修士課程"},{"$f":"COUNTIF($B$3:B39,B39)","v":37},"修士課程37",{"$f":"'「志願先」欄  選択一覧'!C39","v":"経済学研究科"},{"$f":"COUNTIF($E$3:E39,E39)","v":1},"経済学研究科1",{"$f":"'「志願先」欄  選択一覧'!D39","v":"経済学専攻"},"修士課程経済学専攻",{"$f":"COUNTIF($I$3:I39,I39)","v":1},"修士課程経済学専攻1",{"$f":"'「志願先」欄  選択一覧'!E39","v":"一般入試"},"修士課程経済学専攻一般入試",{"$f":"COUNTIF($M$3:M39,M39)","v":1},"修士課程経済学専攻一般入試1","修士課程経済学研究科経済学専攻一般入試",{"$f":"'「志願先」欄  選択一覧'!F39","v":"修士M.A.（歴史・思想・制度）"},null,null,28,"",{"$f":"IF(COUNTIF($U$12:U39,U39)=1,V38+1,V38)","v":1},"",{"$error":"#N/A"},{"$f":"IF(COUNTIF($X$12:X39,X39)=1,Y38+1,Y38)","v":1},"",{"$error":"#N/A"},{"$f":"IF(COUNTIF($AA$12:AA39,AA39)=1,AB38+1,AB38)","v":1},"","",{"$f":"IF(COUNTIF($AD$12:AD39,AD39)=1,AE38+1,AE38)","v":1},""]
[{"$f":"'「志願先」欄  選択一覧'!A40","v":38},{"$f":"'「志願先」欄  選択一覧'!B40","v":"修士課程"},{"$f":"COUNTIF($B$3:B40,B40)","v":38},"修士課程38",{"$f":"'「志願先」欄  選択一覧'!C40","v":"経済学研究科"},{"$f":"COUNTIF($E$3:E40,E40)","v":2},"経済学研究科2",{"$f":"'「志願先」欄  選択一覧'!D40","v":"経済学専攻"},"修士課程経済学専攻",{"$f":"COUNTIF($I$3:I40,I40)","v":2},"修士課程経済学専攻2",{"$f":"'「志願先」欄  選択一覧'!E40","v":"一般入試"},"修士課程経済学専攻一般入試",{"$f":"COUNTIF($M$3:M40,M40)","v":2},"修士課程経済学専攻一般入試2","修士課程経済学研究科経済学専攻一般入試",{"$f":"'「志願先」欄  選択一覧'!F40","v":"修士M.A.（金融・企業）"},null,null,29,"",{"$f":"IF(COUNTIF($U$12:U40,U40)=1,V39+1,V39)","v":1},"",{"$error":"#N/A"},{"$f":"IF(COUNTIF($X$12:X40,X40)=1,Y39+1,Y39)","v":1},"",{"$error":"#N/A"},{"$f":"IF(COUNTIF($AA$12:AA40,AA40)=1,AB39+1,AB39)","v":1},"","",{"$f":"IF(COUNTIF($AD$12:AD40,AD40)=1,AE39+1,AE39)","v":1},""]
[{"$f":"'「志願先」欄  選択一覧'!A41","v":39},{"$f":"'「志願先」欄  選択一覧'!B41","v":"修士課程"},{"$f":"COUNTIF($B$3:B41,B41)","v":39},"修士課程39",{"$f":"'「志願先」欄  選択一覧'!C41","v":"経済学研究科"},{"$f":"COUNTIF($E$3:E41,E41)","v":3},"経済学研究科3",{"$f":"'「志願先」欄  選択一覧'!D41","v":"経済学専攻"},"修士課程経済学専攻",{"$f":"COUNTIF($I$3:I41,I41)","v":3},"修士課程経済学専攻3",{"$f":"'「志願先」欄  選択一覧'!E41","v":"一般入試"},"修士課程経済学専攻一般入試",{"$f":"COUNTIF($M$3:M41,M41)","v":3},"修士課程経済学専攻一般入試3","修士課程経済学研究科経済学専攻一般入試",{"$f":"'「志願先」欄  選択一覧'!F41","v":"修士M.A.（政策・環境）"},null,null,30,"",{"$f":"IF(COUNTIF($U$12:U41,U41)=1,V40+1,V40)","v":1},"",{"$error":"#N/A"},{"$f":"IF(COUNTIF($X$12:X41,X41)=1,Y40+1,Y40)","v":1},"",{"$error":"#N/A"},{"$f":"IF(COUNTIF($AA$12:AA41,AA41)=1,AB40+1,AB40)","v":1},"","",{"$f":"IF(COUNTIF($AD$12:AD41,AD41)=1,AE40+1,AE40)","v":1},""]
[{"$f":"'「志願先」欄  選択一覧'!A42","v":40},{"$f":"'「志願先」欄  選択一覧'!B42","v":"修士課程"},{"$f":"COUNTIF($B$3:B42,B42)","v":40},"修士課程40",{"$f":"'「志願先」欄  選択一覧'!C42","v":"経済学研究科"},{"$f":"COUNTIF($E$3:E42,E42)","v":4},"経済学研究科4",{"$f":"'「志願先」欄  選択一覧'!D42","v":"経済学専攻"},"修士課程経済学専攻",{"$f":"COUNTIF($I$3:I42,I42)","v":4},"修士課程経済学専攻4",{"$f":"'「志願先」欄  選択一覧'!E42","v":"一般入試"},"修士課程経済学専攻一般入試",{"$f":"COUNTIF($M$3:M42,M42)","v":4},"修士課程経済学専攻一般入試4","修士課程経済学研究科経済学専攻一般入試",{"$f":"'「志願先」欄  選択一覧'!F42","v":"修士M.A.（国際・地域）"},null,null,31,"",{"$f":"IF(COUNTIF($U$12:U42,U42)=1,V41+1,V41)","v":1},"",{"$error":"#N/A"},{"$f":"IF(COUNTIF($X$12:X42,X42)=1,Y41+1,Y41)","v":1},"",{"$error":"#N/A"},{"$f":"IF(COUNTIF($AA$12:AA42,AA42)=1,AB41+1,AB41)","v":1},"","",{"$f":"IF(COUNTIF($AD$12:AD42,AD42)=1,AE41+1,AE41)","v":1},""]
[{"$f":"'「志願先」欄  選択一覧'!A43","v":41},{"$f":"'「志願先」欄  選択一覧'!B43","v":"修士課程"},{"$f":"COUNTIF($B$3:B43,B43)","v":41},"修士課程41",{"$f":"'「志願先」欄  選択一覧'!C43","v":"経済学研究科"},{"$f":"COUNTIF($E$3:E43,E43)","v":5},"経済学研究科5",{"$f":"'「志願先」欄  選択一覧'!D43","v":"経済学専攻"},"修士課程経済学専攻",{"$f":"COUNTIF($I$3:I43,I43)","v":5},"修士課程経済学専攻5",{"$f":"'「志願先」欄  選択一覧'!E43","v":"一般入試"},"修士課程経済学専攻一般入試",{"$f":"COUNTIF($M$3:M43,M43)","v":5},"修士課程経済学専攻一般入試5","修士課程経済学研究科経済学専攻一般入試",{"$f":"'「志願先」欄  選択一覧'!F43","v":"修士M.A.（応用ミクロ・応用マクロ・計量）"},null,null,32,"",{"$f":"IF(COUNTIF($U$12:U43,U43)=1,V42+1,V42)","v":1},"",{"$error":"#N/A"},{"$f":"IF(COUNTIF($X$12:X43,X43)=1,Y42+1,Y42)","v":1},"",{"$error":"#N/A"},{"$f":"IF(COUNTIF($AA$12:AA43,AA43)=1,AB42+1,AB42)","v":1},"","",{"$f":"IF(COUNTIF($AD$12:AD43,AD43)=1,AE42+1,AE42)","v":1},""]
[{"$f":"'「志願先」欄  選択一覧'!A44","v":42},{"$f":"'「志願先」欄  選択一覧'!B44","v":"修士課程"},{"$f":"COUNTIF($B$3:B44,B44)","v":42},"修士課程42",{"$f":"'「志願先」欄  選択一覧'!C44","v":"経済学研究科"},{"$f":"COUNTIF($E$3:E44,E44)","v":6},"経済学研究科6",{"$f":"'「志願先」欄  選択一覧'!D44","v":"経済学専攻"},"修士課程経済学専攻",{"$f":"COUNTIF($I$3:I44,I44)","v":6},"修士課程経済学専攻6",{"$f":"'「志願先」欄  選択一覧'!E44","v":"一般入試"},"修士課程経済学専攻一般入試",{"$f":"COUNTIF($M$3:M44,M44)","v":6},"修士課程経済学専攻一般入試6","修士課程経済学研究科経済学専攻一般入試",{"$f":"'「志願先」欄  選択一覧'!F44","v":"博士5年Ph.D.（歴史・思想・制度）"},null,null,33,"",{"$f":"IF(COUNTIF($U$12:U44,U44)=1,V43+1,V43)","v":1},"",{"$error":"#N/A"},{"$f":"IF(COUNTIF($X$12:X44,X44)=1,Y43+1,Y43)","v":1},"",{"$error":"#N/A"},{"$f":"IF(COUNTIF($AA$12:AA44,AA44)=1,AB43+1,AB43)","v":1},"","",{"$f":"IF(COUNTIF($AD$12:AD44,AD44)=1,AE43+1,AE43)","v":1},""]
[{"$f":"'「志願先」欄  選択一覧'!A45","v":43},{"$f":"'「志願先」欄  選択一覧'!B45","v":"修士課程"},{"$f":"COUNTIF($B$3:B45,B45)","v":43},"修士課程43",{"$f":"'「志願先」欄  選択一覧'!C45","v":"経済学研究科"},{"$f":"COUNTIF($E$3:E45,E45)","v":7},"経済学研究科7",{"$f":"'「志願先」欄  選択一覧'!D45","v":"経済学専攻"},"修士課程経済学専攻",{"$f":"COUNTIF($I$3:I45,I45)","v":7},"修士課程経済学専攻7",{"$f":"'「志願先」欄  選択一覧'!E45","v":"一般入試"},"修士課程経済学専攻一般入試",{"$f":"COUNTIF($M$3:M45,M45)","v":7},"修士課程経済学専攻一般入試7","修士課程経済学研究科経済学専攻一般入試",{"$f":"'「志願先」欄  選択一覧'!F45","v":"博士5年Ph.D.（金融・企業）"},null,null,34,"",{"$f":"IF(COUNTIF($U$12:U45,U45)=1,V44+1,V44)","v":1},"",{"$error":"#N/A"},{"$f":"IF(COUNTIF($X$12:X45,X45)=1,Y44+1,Y44)","v":1},"",{"$error":"#N/A"},{"$f":"IF(COUNTIF($AA$12:AA45,AA45)=1,AB44+1,AB44)","v":1},"","",{"$f":"IF(COUNTIF($AD$12:AD45,AD45)=1,AE44+1,AE44)","v":1},""]
[{"$f":"'「志願先」欄  選択一覧'!A46","v":44},{"$f":"'「志願先」欄  選択一覧'!B46","v":"修士課程"},{"$f":"COUNTIF($B$3:B46,B46)","v":44},"修士課程44",{"$f":"'「志願先」欄  選択一覧'!C46","v":"経済学研究科"},{"$f":"COUNTIF($E$3:E46,E46)","v":8},"経済学研究科8",{"$f":"'「志願先」欄  選択一覧'!D46","v":"経済学専攻"},"修士課程経済学専攻",{"$f":"COUNTIF($I$3:I46,I46)","v":8},"修士課程経済学専攻8",{"$f":"'「志願先」欄  選択一覧'!E46","v":"一般入試"},"修士課程経済学専攻一般入試",{"$f":"COUNTIF($M$3:M46,M46)","v":8},"修士課程経済学専攻一般入試8","修士課程経済学研究科経済学専攻一般入試",{"$f":"'「志願先」欄  選択一覧'!F46","v":"博士5年Ph.D.（政策・環境）"},null,null,35,"",{"$f":"IF(COUNTIF($U$12:U46,U46)=1,V45+1,V45)","v":1},"",{"$error":"#N/A"},{"$f":"IF(COUNTIF($X$12:X46,X46)=1,Y45+1,Y45)","v":1},"",{"$error":"#N/A"},{"$f":"IF(COUNTIF($AA$12:AA46,AA46)=1,AB45+1,AB45)","v":1},"","",{"$f":"IF(COUNTIF($AD$12:AD46,AD46)=1,AE45+1,AE45)","v":1},""]
[{"$f":"'「志願先」欄  選択一覧'!A47","v":45},{"$f":"'「志願先」欄  選択一覧'!B47","v":"修士課程"},{"$f":"COUNTIF($B$3:B47,B47)","v":45},"修士課程45",{"$f":"'「志願先」欄  選択一覧'!C47","v":"経済学研究科"},{"$f":"COUNTIF($E$3:E47,E47)","v":9},"経済学研究科9",{"$f":"'「志願先」欄  選択一覧'!D47","v":"経済学専攻"},"修士課程経済学専攻",{"$f":"COUNTIF($I$3:I47,I47)","v":9},"修士課程経済学専攻9",{"$f":"'「志願先」欄  選択一覧'!E47","v":"一般入試"},"修士課程経済学専攻一般入試",{"$f":"COUNTIF($M$3:M47,M47)","v":9},"修士課程経済学専攻一般入試9","修士課程経済学研究科経済学専攻一般入試",{"$f":"'「志願先」欄  選択一覧'!F47","v":"博士5年Ph.D.（国際・地域）"},null,null,36,"",{"$f":"IF(COUNTIF($U$12:U47,U47)=1,V46+1,V46)","v":1},"",{"$error":"#N/A"},{"$f":"IF(COUNTIF($X$12:X47,X47)=1,Y46+1,Y46)","v":1},"",{"$error":"#N/A"},{"$f":"IF(COUNTIF($AA$12:AA47,AA47)=1,AB46+1,AB46)","v":1},"","",{"$f":"IF(COUNTIF($AD$12:AD47,AD47)=1,AE46+1,AE46)","v":1},""]
[{"$f":"'「志願先」欄  選択一覧'!A48","v":46},{"$f":"'「志願先」欄  選択一覧'!B48","v":"修士課程"},{"$f":"COUNTIF($B$3:B48,B48)","v":46},"修士課程46",{"$f":"'「志願先」欄  選択一覧'!C48","v":"経済学研究科"},{"$f":"COUNTIF($E$3:E48,E48)","v":10},"経済学研究科10",{"$f":"'「志願先」欄  選択一覧'!D48","v":"経済学専攻"},"修士課程経済学専攻",{"$f":"COUNTIF($I$3:I48,I48)","v":10},"修士課程経済学専攻10",{"$f":"'「志願先」欄  選択一覧'!E48","v":"一般入試"},"修士課程経済学専攻一般入試",{"$f":"COUNTIF($M$3:M48,M48)","v":10},"修士課程経済学専攻一般入試10","修士課程経済学研究科経済学専攻一般入試",{"$f":"'「志願先」欄  選択一覧'!F48","v":"博士5年Ph.D.（応用ミクロ・応用マクロ・計量）"},null,null,37,"",{"$f":"IF(COUNTIF($U$12:U48,U48)=1,V47+1,V47)","v":1},"",{"$error":"#N/A"},{"$f":"IF(COUNTIF($X$12:X48,X48)=1,Y47+1,Y47)","v":1},"",{"$error":"#N/A"},{"$f":"IF(COUNTIF($AA$12:AA48,AA48)=1,AB47+1,AB47)","v":1},"","",{"$f":"IF(COUNTIF($AD$12:AD48,AD48)=1,AE47+1,AE47)","v":1},""]
[{"$f":"'「志願先」欄  選択一覧'!A49","v":47},{"$f":"'「志願先」欄  選択一覧'!B49","v":"修士課程"},{"$f":"COUNTIF($B$3:B49,B49)","v":47},"修士課程47",{"$f":"'「志願先」欄  選択一覧'!C49","v":"経済学研究科"},{"$f":"COUNTIF($E$3:E49,E49)","v":11},"経済学研究科11",{"$f":"'「志願先」欄  選択一覧'!D49","v":"経済学専攻"},"修士課程経済学専攻",{"$f":"COUNTIF($I$3:I49,I49)","v":11},"修士課程経済学専攻11",{"$f":"'「志願先」欄  選択一覧'!E49","v":"外国人入試"},"修士課程経済学専攻外国人入試",{"$f":"COUNTIF($M$3:M49,M49)","v":1},"修士課程経済学専攻外国人入試1","修士課程経済学研究科経済学専攻外国人入試",{"$f":"'「志願先」欄  選択一覧'!F49","v":"修士M.A.（歴史・思想・制度）"},null,null,38,"",{"$f":"IF(COUNTIF($U$12:U49,U49)=1,V48+1,V48)","v":1},"",{"$error":"#N/A"},{"$f":"IF(COUNTIF($X$12:X49,X49)=1,Y48+1,Y48)","v":1},"",{"$error":"#N/A"},{"$f":"IF(COUNTIF($AA$12:AA49,AA49)=1,AB48+1,AB48)","v":1},"","",{"$f":"IF(COUNTIF($AD$12:AD49,AD49)=1,AE48+1,AE48)","v":1},""]
[{"$f":"'「志願先」欄  選択一覧'!A50","v":48},{"$f":"'「志願先」欄  選択一覧'!B50","v":"修士課程"},{"$f":"COUNTIF($B$3:B50,B50)","v":48},"修士課程48",{"$f":"'「志願先」欄  選択一覧'!C50","v":"経済学研究科"},{"$f":"COUNTIF($E$3:E50,E50)","v":12},"経済学研究科12",{"$f":"'「志願先」欄  選択一覧'!D50","v":"経済学専攻"},"修士課程経済学専攻",{"$f":"COUNTIF($I$3:I50,I50)","v":12},"修士課程経済学専攻12",{"$f":"'「志願先」欄  選択一覧'!E50","v":"外国人入試"},"修士課程経済学専攻外国人入試",{"$f":"COUNTIF($M$3:M50,M50)","v":2},"修士課程経済学専攻外国人入試2","修士課程経済学研究科経済学専攻外国人入試",{"$f":"'「志願先」欄  選択一覧'!F50","v":"修士M.A.（金融・企業）"},null,null,39,"",{"$f":"IF(COUNTIF($U$12:U50,U50)=1,V49+1,V49)","v":1},"",{"$error":"#N/A"},{"$f":"IF(COUNTIF($X$12:X50,X50)=1,Y49+1,Y49)","v":1},"",{"$error":"#N/A"},{"$f":"IF(COUNTIF($AA$12:AA50,AA50)=1,AB49+1,AB49)","v":1},"","",{"$f":"IF(COUNTIF($AD$12:AD50,AD50)=1,AE49+1,AE49)","v":1},""]
[{"$f":"'「志願先」欄  選択一覧'!A51","v":49},{"$f":"'「志願先」欄  選択一覧'!B51","v":"修士課程"},{"$f":"COUNTIF($B$3:B51,B51)","v":49},"修士課程49",{"$f":"'「志願先」欄  選択一覧'!C51","v":"経済学研究科"},{"$f":"COUNTIF($E$3:E51,E51)","v":13},"経済学研究科13",{"$f":"'「志願先」欄  選択一覧'!D51","v":"経済学専攻"},"修士課程経済学専攻",{"$f":"COUNTIF($I$3:I51,I51)","v":13},"修士課程経済学専攻13",{"$f":"'「志願先」欄  選択一覧'!E51","v":"外国人入試"},"修士課程経済学専攻外国人入試",{"$f":"COUNTIF($M$3:M51,M51)","v":3},"修士課程経済学専攻外国人入試3","修士課程経済学研究科経済学専攻外国人入試",{"$f":"'「志願先」欄  選択一覧'!F51","v":"修士M.A.（政策・環境）"},null,null,40,"",{"$f":"IF(COUNTIF($U$12:U51,U51)=1,V50+1,V50)","v":1},"",{"$error":"#N/A"},{"$f":"IF(COUNTIF($X$12:X51,X51)=1,Y50+1,Y50)","v":1},"",{"$error":"#N/A"},{"$f":"IF(COUNTIF($AA$12:AA51,AA51)=1,AB50+1,AB50)","v":1},"","",{"$f":"IF(COUNTIF($AD$12:AD51,AD51)=1,AE50+1,AE50)","v":1},""]
[{"$f":"'「志願先」欄  選択一覧'!A52","v":50},{"$f":"'「志願先」欄  選択一覧'!B52","v":"修士課程"},{"$f":"COUNTIF($B$3:B52,B52)","v":50},"修士課程50",{"$f":"'「志願先」欄  選択一覧'!C52","v":"経済学研究科"},{"$f":"COUNTIF($E$3:E52,E52)","v":14},"経済学研究科14",{"$f":"'「志願先」欄  選択一覧'!D52","v":"経済学専攻"},"修士課程経済学専攻",{"$f":"COUNTIF($I$3:I52,I52)","v":14},"修士課程経済学専攻14",{"$f":"'「志願先」欄  選択一覧'!E52","v":"外国人入試"},"修士課程経済学専攻外国人入試",{"$f":"COUNTIF($M$3:M52,M52)","v":4},"修士課程経済学専攻外国人入試4","修士課程経済学研究科経済学専攻外国人入試",{"$f":"'「志願先」欄  選択一覧'!F52","v":"修士M.A.（国際・地域）"},null,null,41,"",{"$f":"IF(COUNTIF($U$12:U52,U52)=1,V51+1,V51)","v":1},"",{"$error":"#N/A"},{"$f":"IF(COUNTIF($X$12:X52,X52)=1,Y51+1,Y51)","v":1},"",{"$error":"#N/A"},{"$f":"IF(COUNTIF($AA$12:AA52,AA52)=1,AB51+1,AB51)","v":1},"","",{"$f":"IF(COUNTIF($AD$12:AD52,AD52)=1,AE51+1,AE51)","v":1},""]
[{"$f":"'「志願先」欄  選択一覧'!A53","v":51},{"$f":"'「志願先」欄  選択一覧'!B53","v":"修士課程"},{"$f":"COUNTIF($B$3:B53,B53)","v":51},"修士課程51",{"$f":"'「志願先」欄  選択一覧'!C53","v":"経済学研究科"},{"$f":"COUNTIF($E$3:E53,E53)","v":15},"経済学研究科15",{"$f":"'「志願先」欄  選択一覧'!D53","v":"経済学専攻"},"修士課程経済学専攻",{"$f":"COUNTIF($I$3:I53,I53)","v":15},"修士課程経済学専攻15",{"$f":"'「志願先」欄  選択一覧'!E53","v":"外国人入試"},"修士課程経済学専攻外国人入試",{"$f":"COUNTIF($M$3:M53,M53)","v":5},"修士課程経済学専攻外国人入試5","修士課程経済学研究科経済学専攻外国人入試",{"$f":"'「志願先」欄  選択一覧'!F53","v":"修士M.A.（応用ミクロ・応用マクロ・計量）"},null,null,42,"",{"$f":"IF(COUNTIF($U$12:U53,U53)=1,V52+1,V52)","v":1},"",{"$error":"#N/A"},{"$f":"IF(COUNTIF($X$12:X53,X53)=1,Y52+1,Y52)","v":1},"",{"$error":"#N/A"},{"$f":"IF(COUNTIF($AA$12:AA53,AA53)=1,AB52+1,AB52)","v":1},"","",{"$f":"IF(COUNTIF($AD$12:AD53,AD53)=1,AE52+1,AE52)","v":1},""]
[{"$f":"'「志願先」欄  選択一覧'!A54","v":52},{"$f":"'「志願先」欄  選択一覧'!B54","v":"修士課程"},{"$f":"COUNTIF($B$3:B54,B54)","v":52},"修士課程52",{"$f":"'「志願先」欄  選択一覧'!C54","v":"経済学研究科"},{"$f":"COUNTIF($E$3:E54,E54)","v":16},"経済学研究科16",{"$f":"'「志願先」欄  選択一覧'!D54","v":"経済学専攻"},"修士課程経済学専攻",{"$f":"COUNTIF($I$3:I54,I54)","v":16},"修士課程経済学専攻16",{"$f":"'「志願先」欄  選択一覧'!E54","v":"外国人入試"},"修士課程経済学専攻外国人入試",{"$f":"COUNTIF($M$3:M54,M54)","v":6},"修士課程経済学専攻外国人入試6","修士課程経済学研究科経済学専攻外国人入試",{"$f":"'「志願先」欄  選択一覧'!F54","v":"博士5年Ph.D.（歴史・思想・制度）"},null,null,43,"",{"$f":"IF(COUNTIF($U$12:U54,U54)=1,V53+1,V53)","v":1},"",{"$error":"#N/A"},{"$f":"IF(COUNTIF($X$12:X54,X54)=1,Y53+1,Y53)","v":1},"",{"$error":"#N/A"},{"$f":"IF(COUNTIF($AA$12:AA54,AA54)=1,AB53+1,AB53)","v":1},"","",{"$f":"IF(COUNTIF($AD$12:AD54,AD54)=1,AE53+1,AE53)","v":1},""]
[{"$f":"'「志願先」欄  選択一覧'!A55","v":53},{"$f":"'「志願先」欄  選択一覧'!B55","v":"修士課程"},{"$f":"COUNTIF($B$3:B55,B55)","v":53},"修士課程53",{"$f":"'「志願先」欄  選択一覧'!C55","v":"経済学研究科"},{"$f":"COUNTIF($E$3:E55,E55)","v":17},"経済学研究科17",{"$f":"'「志願先」欄  選択一覧'!D55","v":"経済学専攻"},"修士課程経済学専攻",{"$f":"COUNTIF($I$3:I55,I55)","v":17},"修士課程経済学専攻17",{"$f":"'「志願先」欄  選択一覧'!E55","v":"外国人入試"},"修士課程経済学専攻外国人入試",{"$f":"COUNTIF($M$3:M55,M55)","v":7},"修士課程経済学専攻外国人入試7","修士課程経済学研究科経済学専攻外国人入試",{"$f":"'「志願先」欄  選択一覧'!F55","v":"博士5年Ph.D.（金融・企業）"},null,null,44,"",{"$f":"IF(COUNTIF($U$12:U55,U55)=1,V54+1,V54)","v":1},"",{"$error":"#N/A"},{"$f":"IF(COUNTIF($X$12:X55,X55)=1,Y54+1,Y54)","v":1},"",{"$error":"#N/A"},{"$f":"IF(COUNTIF($AA$12:AA55,AA55)=1,AB54+1,AB54)","v":1},"","",{"$f":"IF(COUNTIF($AD$12:AD55,AD55)=1,AE54+1,AE54)","v":1},""]
[{"$f":"'「志願先」欄  選択一覧'!A56","v":54},{"$f":"'「志願先」欄  選択一覧'!B56","v":"修士課程"},{"$f":"COUNTIF($B$3:B56,B56)","v":54},"修士課程54",{"$f":"'「志願先」欄  選択一覧'!C56","v":"経済学研究科"},{"$f":"COUNTIF($E$3:E56,E56)","v":18},"経済学研究科18",{"$f":"'「志願先」欄  選択一覧'!D56","v":"経済学専攻"},"修士課程経済学専攻",{"$f":"COUNTIF($I$3:I56,I56)","v":18},"修士課程経済学専攻18",{"$f":"'「志願先」欄  選択一覧'!E56","v":"外国人入試"},"修士課程経済学専攻外国人入試",{"$f":"COUNTIF($M$3:M56,M56)","v":8},"修士課程経済学専攻外国人入試8","修士課程経済学研究科経済学専攻外国人入試",{"$f":"'「志願先」欄  選択一覧'!F56","v":"博士5年Ph.D.（政策・環境）"},null,null,45,"",{"$f":"IF(COUNTIF($U$12:U56,U56)=1,V55+1,V55)","v":1},"",{"$error":"#N/A"},{"$f":"IF(COUNTIF($X$12:X56,X56)=1,Y55+1,Y55)","v":1},"",{"$error":"#N/A"},{"$f":"IF(COUNTIF($AA$12:AA56,AA56)=1,AB55+1,AB55)","v":1},"","",{"$f":"IF(COUNTIF($AD$12:AD56,AD56)=1,AE55+1,AE55)","v":1},""]
[{"$f":"'「志願先」欄  選択一覧'!A57","v":55},{"$f":"'「志願先」欄  選択一覧'!B57","v":"修士課程"},{"$f":"COUNTIF($B$3:B57,B57)","v":55},"修士課程55",{"$f":"'「志願先」欄  選択一覧'!C57","v":"経済学研究科"},{"$f":"COUNTIF($E$3:E57,E57)","v":19},"経済学研究科19",{"$f":"'「志願先」欄  選択一覧'!D57","v":"経済学専攻"},"修士課程経済学専攻",{"$f":"COUNTIF($I$3:I57,I57)","v":19},"修士課程経済学専攻19",{"$f":"'「志願先」欄  選択一覧'!E57","v":"外国人入試"},"修士課程経済学専攻外国人入試",{"$f":"COUNTIF($M$3:M57,M57)","v":9},"修士課程経済学専攻外国人入試9","修士課程経済学研究科経済学専攻外国人入試",{"$f":"'「志願先」欄  選択一覧'!F57","v":"博士5年Ph.D.（国際・地域）"},null,null,46,"",{"$f":"IF(COUNTIF($U$12:U57,U57)=1,V56+1,V56)","v":1},"",{"$error":"#N/A"},{"$f":"IF(COUNTIF($X$12:X57,X57)=1,Y56+1,Y56)","v":1},"",{"$error":"#N/A"},{"$f":"IF(COUNTIF($AA$12:AA57,AA57)=1,AB56+1,AB56)","v":1},"","",{"$f":"IF(COUNTIF($AD$12:AD57,AD57)=1,AE56+1,AE56)","v":1},""]
[{"$f":"'「志願先」欄  選択一覧'!A58","v":56},{"$f":"'「志願先」欄  選択一覧'!B58","v":"修士課程"},{"$f":"COUNTIF($B$3:B58,B58)","v":56},"修士課程56",{"$f":"'「志願先」欄  選択一覧'!C58","v":"経済学研究科"},{"$f":"COUNTIF($E$3:E58,E58)","v":20},"経済学研究科20",{"$f":"'「志願先」欄  選択一覧'!D58","v":"経済学専攻"},"修士課程経済学専攻",{"$f":"COUNTIF($I$3:I58,I58)","v":20},"修士課程経済学専攻20",{"$f":"'「志願先」欄  選択一覧'!E58","v":"外国人入試"},"修士課程経済学専攻外国人入試",{"$f":"COUNTIF($M$3:M58,M58)","v":10},"修士課程経済学専攻外国人入試10","修士課程経済学研究科経済学専攻外国人入試",{"$f":"'「志願先」欄  選択一覧'!F58","v":"博士5年Ph.D.（応用ミクロ・応用マクロ・計量）"},null,null,47,"",{"$f":"IF(COUNTIF($U$12:U58,U58)=1,V57+1,V57)","v":1},"",{"$error":"#N/A"},{"$f":"IF(COUNTIF($X$12:X58,X58)=1,Y57+1,Y57)","v":1},"",{"$error":"#N/A"},{"$f":"IF(COUNTIF($AA$12:AA58,AA58)=1,AB57+1,AB57)","v":1},"","",{"$f":"IF(COUNTIF($AD$12:AD58,AD58)=1,AE57+1,AE57)","v":1},""]
[{"$f":"'「志願先」欄  選択一覧'!A59","v":57},{"$f":"'「志願先」欄  選択一覧'!B59","v":"修士課程"},{"$f":"COUNTIF($B$3:B59,B59)","v":57},"修士課程57",{"$f":"'「志願先」欄  選択一覧'!C59","v":"経済学研究科"},{"$f":"COUNTIF($E$3:E59,E59)","v":21},"経済学研究科21",{"$f":"'「志願先」欄  選択一覧'!D59","v":"経済学専攻"},"修士課程経済学専攻",{"$f":"COUNTIF($I$3:I59,I59)","v":21},"修士課程経済学専攻21",{"$f":"'「志願先」欄  選択一覧'!E59","v":"社会人入試"},"修士課程経済学専攻社会人入試",{"$f":"COUNTIF($M$3:M59,M59)","v":1},"修士課程経済学専攻社会人入試1","修士課程経済学研究科経済学専攻社会人入試",{"$f":"'「志願先」欄  選択一覧'!F59","v":"修士M.A.（歴史・思想・制度）"},null,null,48,"",{"$f":"IF(COUNTIF($U$12:U59,U59)=1,V58+1,V58)","v":1},"",{"$error":"#N/A"},{"$f":"IF(COUNTIF($X$12:X59,X59)=1,Y58+1,Y58)","v":1},"",{"$error":"#N/A"},{"$f":"IF(COUNTIF($AA$12:AA59,AA59)=1,AB58+1,AB58)","v":1},"","",{"$f":"IF(COUNTIF($AD$12:AD59,AD59)=1,AE58+1,AE58)","v":1},""]
[{"$f":"'「志願先」欄  選択一覧'!A60","v":58},{"$f":"'「志願先」欄  選択一覧'!B60","v":"修士課程"},{"$f":"COUNTIF($B$3:B60,B60)","v":58},"修士課程58",{"$f":"'「志願先」欄  選択一覧'!C60","v":"経済学研究科"},{"$f":"COUNTIF($E$3:E60,E60)","v":22},"経済学研究科22",{"$f":"'「志願先」欄  選択一覧'!D60","v":"経済学専攻"},"修士課程経済学専攻",{"$f":"COUNTIF($I$3:I60,I60)","v":22},"修士課程経済学専攻22",{"$f":"'「志願先」欄  選択一覧'!E60","v":"社会人入試"},"修士課程経済学専攻社会人入試",{"$f":"COUNTIF($M$3:M60,M60)","v":2},"修士課程経済学専攻社会人入試2","修士課程経済学研究科経済学専攻社会人入試",{"$f":"'「志願先」欄  選択一覧'!F60","v":"修士M.A.（金融・企業）"},null,null,49,"",{"$f":"IF(COUNTIF($U$12:U60,U60)=1,V59+1,V59)","v":1},"",{"$error":"#N/A"},{"$f":"IF(COUNTIF($X$12:X60,X60)=1,Y59+1,Y59)","v":1},"",{"$error":"#N/A"},{"$f":"IF(COUNTIF($AA$12:AA60,AA60)=1,AB59+1,AB59)","v":1},"","",{"$f":"IF(COUNTIF($AD$12:AD60,AD60)=1,AE59+1,AE59)","v":1},""]
[{"$f":"'「志願先」欄  選択一覧'!A61","v":59},{"$f":"'「志願先」欄  選択一覧'!B61","v":"修士課程"},{"$f":"COUNTIF($B$3:B61,B61)","v":59},"修士課程59",{"$f":"'「志願先」欄  選択一覧'!C61","v":"経済学研究科"},{"$f":"COUNTIF($E$3:E61,E61)","v":23},"経済学研究科23",{"$f":"'「志願先」欄  選択一覧'!D61","v":"経済学専攻"},"修士課程経済学専攻",{"$f":"COUNTIF($I$3:I61,I61)","v":23},"修士課程経済学専攻23",{"$f":"'「志願先」欄  選択一覧'!E61","v":"社会人入試"},"修士課程経済学専攻社会人入試",{"$f":"COUNTIF($M$3:M61,M61)","v":3},"修士課程経済学専攻社会人入試3","修士課程経済学研究科経済学専攻社会人入試",{"$f":"'「志願先」欄  選択一覧'!F61","v":"修士M.A.（政策・環境）"},null,null,50,"",{"$f":"IF(COUNTIF($U$12:U61,U61)=1,V60+1,V60)","v":1},"",{"$error":"#N/A"},{"$f":"IF(COUNTIF($X$12:X61,X61)=1,Y60+1,Y60)","v":1},"",{"$error":"#N/A"},{"$f":"IF(COUNTIF($AA$12:AA61,AA61)=1,AB60+1,AB60)","v":1},"","",{"$f":"IF(COUNTIF($AD$12:AD61,AD61)=1,AE60+1,AE60)","v":1},""]
[{"$f":"'「志願先」欄  選択一覧'!A62","v":60},{"$f":"'「志願先」欄  選択一覧'!B62","v":"修士課程"},{"$f":"COUNTIF($B$3:B62,B62)","v":60},"修士課程60",{"$f":"'「志願先」欄  選択一覧'!C62","v":"経済学研究科"},{"$f":"COUNTIF($E$3:E62,E62)","v":24},"経済学研究科24",{"$f":"'「志願先」欄  選択一覧'!D62","v":"経済学専攻"},"修士課程経済学専攻",{"$f":"COUNTIF($I$3:I62,I62)","v":24},"修士課程経済学専攻24",{"$f":"'「志願先」欄  選択一覧'!E62","v":"社会人入試"},"修士課程経済学専攻社会人入試",{"$f":"COUNTIF($M$3:M62,M62)","v":4},"修士課程経済学専攻社会人入試4","修士課程経済学研究科経済学専攻社会人入試",{"$f":"'「志願先」欄  選択一覧'!F62","v":"修士M.A.（国際・地域）"},null,null,51,"",{"$f":"IF(COUNTIF($U$12:U62,U62)=1,V61+1,V61)","v":1},"",{"$error":"#N/A"},{"$f":"IF(COUNTIF($X$12:X62,X62)=1,Y61+1,Y61)","v":1},"",{"$error":"#N/A"},{"$f":"IF(COUNTIF($AA$12:AA62,AA62)=1,AB61+1,AB61)","v":1},"","",{"$f":"IF(COUNTIF($AD$12:AD62,AD62)=1,AE61+1,AE61)","v":1},""]
[{"$f":"'「志願先」欄  選択一覧'!A63","v":61},{"$f":"'「志願先」欄  選択一覧'!B63","v":"修士課程"},{"$f":"COUNTIF($B$3:B63,B63)","v":61},"修士課程61",{"$f":"'「志願先」欄  選択一覧'!C63","v":"経済学研究科"},{"$f":"COUNTIF($E$3:E63,E63)","v":25},"経済学研究科25",{"$f":"'「志願先」欄  選択一覧'!D63","v":"経済学専攻"},"修士課程経済学専攻",{"$f":"COUNTIF($I$3:I63,I63)","v":25},"修士課程経済学専攻25",{"$f":"'「志願先」欄  選択一覧'!E63","v":"社会人入試"},"修士課程経済学専攻社会人入試",{"$f":"COUNTIF($M$3:M63,M63)","v":5},"修士課程経済学専攻社会人入試5","修士課程経済学研究科経済学専攻社会人入試",{"$f":"'「志願先」欄  選択一覧'!F63","v":"修士M.A.（応用ミクロ・応用マクロ・計量）"},null,null,52,"",{"$f":"IF(COUNTIF($U$12:U63,U63)=1,V62+1,V62)","v":1},"",{"$error":"#N/A"},{"$f":"IF(COUNTIF($X$12:X63,X63)=1,Y62+1,Y62)","v":1},"",{"$error":"#N/A"},{"$f":"IF(COUNTIF($AA$12:AA63,AA63)=1,AB62+1,AB62)","v":1},"","",{"$f":"IF(COUNTIF($AD$12:AD63,AD63)=1,AE62+1,AE62)","v":1},""]
[{"$f":"'「志願先」欄  選択一覧'!A64","v":62},{"$f":"'「志願先」欄  選択一覧'!B64","v":"修士課程"},{"$f":"COUNTIF($B$3:B64,B64)","v":62},"修士課程62",{"$f":"'「志願先」欄  選択一覧'!C64","v":"経済学研究科"},{"$f":"COUNTIF($E$3:E64,E64)","v":26},"経済学研究科26",{"$f":"'「志願先」欄  選択一覧'!D64","v":"経済学専攻"},"修士課程経済学専攻",{"$f":"COUNTIF($I$3:I64,I64)","v":26},"修士課程経済学専攻26",{"$f":"'「志願先」欄  選択一覧'!E64","v":"社会人入試"},"修士課程経済学専攻社会人入試",{"$f":"COUNTIF($M$3:M64,M64)","v":6},"修士課程経済学専攻社会人入試6","修士課程経済学研究科経済学専攻社会人入試",{"$f":"'「志願先」欄  選択一覧'!F64","v":"博士5年Ph.D.（歴史・思想・制度）"},null,null,53,"",{"$f":"IF(COUNTIF($U$12:U64,U64)=1,V63+1,V63)","v":1},"",{"$error":"#N/A"},{"$f":"IF(COUNTIF($X$12:X64,X64)=1,Y63+1,Y63)","v":1},"",{"$error":"#N/A"},{"$f":"IF(COUNTIF($AA$12:AA64,AA64)=1,AB63+1,AB63)","v":1},"","",{"$f":"IF(COUNTIF($AD$12:AD64,AD64)=1,AE63+1,AE63)","v":1},""]
[{"$f":"'「志願先」欄  選択一覧'!A65","v":63},{"$f":"'「志願先」欄  選択一覧'!B65","v":"修士課程"},{"$f":"COUNTIF($B$3:B65,B65)","v":63},"修士課程63",{"$f":"'「志願先」欄  選択一覧'!C65","v":"経済学研究科"},{"$f":"COUNTIF($E$3:E65,E65)","v":27},"経済学研究科27",{"$f":"'「志願先」欄  選択一覧'!D65","v":"経済学専攻"},"修士課程経済学専攻",{"$f":"COUNTIF($I$3:I65,I65)","v":27},"修士課程経済学専攻27",{"$f":"'「志願先」欄  選択一覧'!E65","v":"社会人入試"},"修士課程経済学専攻社会人入試",{"$f":"COUNTIF($M$3:M65,M65)","v":7},"修士課程経済学専攻社会人入試7","修士課程経済学研究科経済学専攻社会人入試",{"$f":"'「志願先」欄  選択一覧'!F65","v":"博士5年Ph.D.（金融・企業）"},null,null,54,"",{"$f":"IF(COUNTIF($U$12:U65,U65)=1,V64+1,V64)","v":1},"",{"$error":"#N/A"},{"$f":"IF(COUNTIF($X$12:X65,X65)=1,Y64+1,Y64)","v":1},"",{"$error":"#N/A"},{"$f":"IF(COUNTIF($AA$12:AA65,AA65)=1,AB64+1,AB64)","v":1},"","",{"$f":"IF(COUNTIF($AD$12:AD65,AD65)=1,AE64+1,AE64)","v":1},""]
[{"$f":"'「志願先」欄  選択一覧'!A66","v":64},{"$f":"'「志願先」欄  選択一覧'!B66","v":"修士課程"},{"$f":"COUNTIF($B$3:B66,B66)","v":64},"修士課程64",{"$f":"'「志願先」欄  選択一覧'!C66","v":"経済学研究科"},{"$f":"COUNTIF($E$3:E66,E66)","v":28},"経済学研究科28",{"$f":"'「志願先」欄  選択一覧'!D66","v":"経済学専攻"},"修士課程経済学専攻",{"$f":"COUNTIF($I$3:I66,I66)","v":28},"修士課程経済学専攻28",{"$f":"'「志願先」欄  選択一覧'!E66","v":"社会人入試"},"修士課程経済学専攻社会人入試",{"$f":"COUNTIF($M$3:M66,M66)","v":8},"修士課程経済学専攻社会人入試8","修士課程経済学研究科経済学専攻社会人入試",{"$f":"'「志願先」欄  選択一覧'!F66","v":"博士5年Ph.D.（政策・環境）"},null,null,55,"",{"$f":"IF(COUNTIF($U$12:U66,U66)=1,V65+1,V65)","v":1},"",{"$error":"#N/A"},{"$f":"IF(COUNTIF($X$12:X66,X66)=1,Y65+1,Y65)","v":1},"",{"$error":"#N/A"},{"$f":"IF(COUNTIF($AA$12:AA66,AA66)=1,AB65+1,AB65)","v":1},"","",{"$f":"IF(COUNTIF($AD$12:AD66,AD66)=1,AE65+1,AE65)","v":1},""]
[{"$f":"'「志願先」欄  選択一覧'!A67","v":65},{"$f":"'「志願先」欄  選択一覧'!B67","v":"修士課程"},{"$f":"COUNTIF($B$3:B67,B67)","v":65},"修士課程65",{"$f":"'「志願先」欄  選択一覧'!C67","v":"経済学研究科"},{"$f":"COUNTIF($E$3:E67,E67)","v":29},{"$f":"E67&F67","v":"経済学研究科29"},{"$f":"'「志願先」欄  選択一覧'!D67","v":"経済学専攻"},"修士課程経済学専攻",{"$f":"COUNTIF($I$3:I67,I67)","v":29},"修士課程経済学専攻29",{"$f":"'「志願先」欄  選択一覧'!E67","v":"社会人入試"},"修士課程経済学専攻社会人入試",{"$f":"COUNTIF($M$3:M67,M67)","v":9},{"$f":"B67&H67&L67&N67","v":"修士課程経済学専攻社会人入試9"},"修士課程経済学研究科経済学専攻社会人入試",{"$f":"'「志願先」欄  選択一覧'!F67","v":"博士5年Ph.D.（国際・地域）"},null,null,56,"",{"$f":"IF(COUNTIF($U$12:U67,U67)=1,V66+1,V66)","v":1},"",{"$error":"#N/A"},{"$f":"IF(COUNTIF($X$12:X67,X67)=1,Y66+1,Y66)","v":1},"",{"$error":"#N/A"},{"$f":"IF(COUNTIF($AA$12:AA67,AA67)=1,AB66+1,AB66)","v":1},"","",{"$f":"IF(COUNTIF($AD$12:AD67,AD67)=1,AE66+1,AE66)","v":1},""]
[{"$f":"'「志願先」欄  選択一覧'!A68","v":66},{"$f":"'「志願先」欄  選択一覧'!B68","v":"修士課程"},{"$f":"COUNTIF($B$3:B68,B68)","v":66},{"$f":"B68&C68","v":"修士課程66"},{"$f":"'「志願先」欄  選択一覧'!C68","v":"経済学研究科"},{"$f":"COUNTIF($E$3:E68,E68)","v":30},"経済学研究科30",{"$f":"'「志願先」欄  選択一覧'!D68","v":"経済学専攻"},{"$f":"B68&H68","v":"修士課程経済学専攻"},{"$f":"COUNTIF($I$3:I68,I68)","v":30},{"$f":"B68&H68&J68","v":"修士課程経済学専攻30"},{"$f":"'「志願先」欄  選択一覧'!E68","v":"社会人入試"},{"$f":"B68&H68&L68","v":"修士課程経済学専攻社会人入試"},{"$f":"COUNTIF($M$3:M68,M68)","v":10},"修士課程経済学専攻社会人入試10",{"$f":"B68&E68&H68&L68","v":"修士課程経済学研究科経済学専攻社会人入試"},{"$f":"'「志願先」欄  選択一覧'!F68","v":"博士5年Ph.D.（応用ミクロ・応用マクロ・計量）"},null,null,57,"",{"$f":"IF(COUNTIF($U$12:U68,U68)=1,V67+1,V67)","v":1},"",{"$error":"#N/A"},{"$f":"IF(COUNTIF($X$12:X68,X68)=1,Y67+1,Y67)","v":1},"",{"$error":"#N/A"},{"$f":"IF(COUNTIF($AA$12:AA68,AA68)=1,AB67+1,AB67)","v":1},"","",{"$f":"IF(COUNTIF($AD$12:AD68,AD68)=1,AE67+1,AE67)","v":1},""]
[{"$f":"'「志願先」欄  選択一覧'!A69","v":67},{"$f":"'「志願先」欄  選択一覧'!B69","v":"修士課程"},{"$f":"COUNTIF($B$3:B69,B69)","v":67},"修士課程67",{"$f":"'「志願先」欄  選択一覧'!C69","v":"経済学研究科"},{"$f":"COUNTIF($E$3:E69,E69)","v":31},"経済学研究科31",{"$f":"'「志願先」欄  選択一覧'!D69","v":"経済学専攻"},"修士課程経済学専攻",{"$f":"COUNTIF($I$3:I69,I69)","v":31},"修士課程経済学専攻31",{"$f":"'「志願先」欄  選択一覧'!E69","v":"社会人選抜入試"},"修士課程経済学専攻社会人選抜入試",{"$f":"COUNTIF($M$3:M69,M69)","v":1},"修士課程経済学専攻社会人選抜入試1","修士課程経済学研究科経済学専攻社会人選抜入試",{"$f":"'「志願先」欄  選択一覧'!F69","v":"1年（歴史・思想・制度）"},null,null,58,"",{"$f":"IF(COUNTIF($U$12:U69,U69)=1,V68+1,V68)","v":1},"",{"$error":"#N/A"},{"$f":"IF(COUNTIF($X$12:X69,X69)=1,Y68+1,Y68)","v":1},"",{"$error":"#N/A"},{"$f":"IF(COUNTIF($AA$12:AA69,AA69)=1,AB68+1,AB68)","v":1},"","",{"$f":"IF(COUNTIF($AD$12:AD69,AD69)=1,AE68+1,AE68)","v":1},""]
[{"$f":"'「志願先」欄  選択一覧'!A70","v":68},{"$f":"'「志願先」欄  選択一覧'!B70","v":"修士課程"},{"$f":"COUNTIF($B$3:B70,B70)","v":68},"修士課程68",{"$f":"'「志願先」欄  選択一覧'!C70","v":"経済学研究科"},{"$f":"COUNTIF($E$3:E70,E70)","v":32},"経済学研究科32",{"$f":"'「志願先」欄  選択一覧'!D70","v":"経済学専攻"},"修士課程経済学専攻",{"$f":"COUNTIF($I$3:I70,I70)","v":32},"修士課程経済学専攻32",{"$f":"'「志願先」欄  選択一覧'!E70","v":"社会人選抜入試"},"修士課程経済学専攻社会人選抜入試",{"$f":"COUNTIF($M$3:M70,M70)","v":2},"修士課程経済学専攻社会人選抜入試2","修士課程経済学研究科経済学専攻社会人選抜入試",{"$f":"'「志願先」欄  選択一覧'!F70","v":"1年（金融・企業）"},null,null,59,"",{"$f":"IF(COUNTIF($U$12:U70,U70)=1,V69+1,V69)","v":1},"",{"$error":"#N/A"},{"$f":"IF(COUNTIF($X$12:X70,X70)=1,Y69+1,Y69)","v":1},"",{"$error":"#N/A"},{"$f":"IF(COUNTIF($AA$12:AA70,AA70)=1,AB69+1,AB69)","v":1},"","",{"$f":"IF(COUNTIF($AD$12:AD70,AD70)=1,AE69+1,AE69)","v":1},""]
[{"$f":"'「志願先」欄  選択一覧'!A71","v":69},{"$f":"'「志願先」欄  選択一覧'!B71","v":"修士課程"},{"$f":"COUNTIF($B$3:B71,B71)","v":69},"修士課程69",{"$f":"'「志願先」欄  選択一覧'!C71","v":"経済学研究科"},{"$f":"COUNTIF($E$3:E71,E71)","v":33},"経済学研究科33",{"$f":"'「志願先」欄  選択一覧'!D71","v":"経済学専攻"},"修士課程経済学専攻",{"$f":"COUNTIF($I$3:I71,I71)","v":33},"修士課程経済学専攻33",{"$f":"'「志願先」欄  選択一覧'!E71","v":"社会人選抜入試"},"修士課程経済学専攻社会人選抜入試",{"$f":"COUNTIF($M$3:M71,M71)","v":3},"修士課程経済学専攻社会人選抜入試3","修士課程経済学研究科経済学専攻社会人選抜入試",{"$f":"'「志願先」欄  選択一覧'!F71","v":"1年（政策・環境）"},null,null,60,"",{"$f":"IF(COUNTIF($U$12:U71,U71)=1,V70+1,V70)","v":1},"",{"$error":"#N/A"},{"$f":"IF(COUNTIF($X$12:X71,X71)=1,Y70+1,Y70)","v":1},"",{"$error":"#N/A"},{"$f":"IF(COUNTIF($AA$12:AA71,AA71)=1,AB70+1,AB70)","v":1},"","",{"$f":"IF(COUNTIF($AD$12:AD71,AD71)=1,AE70+1,AE70)","v":1},""]
[{"$f":"'「志願先」欄  選択一覧'!A72","v":70},{"$f":"'「志願先」欄  選択一覧'!B72","v":"修士課程"},{"$f":"COUNTIF($B$3:B72,B72)","v":70},"修士課程70",{"$f":"'「志願先」欄  選択一覧'!C72","v":"経済学研究科"},{"$f":"COUNTIF($E$3:E72,E72)","v":34},"経済学研究科34",{"$f":"'「志願先」欄  選択一覧'!D72","v":"経済学専攻"},"修士課程経済学専攻",{"$f":"COUNTIF($I$3:I72,I72)","v":34},"修士課程経済学専攻34",{"$f":"'「志願先」欄  選択一覧'!E72","v":"社会人選抜入試"},"修士課程経済学専攻社会人選抜入試",{"$f":"COUNTIF($M$3:M72,M72)","v":4},"修士課程経済学専攻社会人選抜入試4","修士課程経済学研究科経済学専攻社会人選抜入試",{"$f":"'「志願先」欄  選択一覧'!F72","v":"1年（国際・地域）"},null,null,61,"",{"$f":"IF(COUNTIF($U$12:U72,U72)=1,V71+1,V71)","v":1},"",{"$error":"#N/A"},{"$f":"IF(COUNTIF($X$12:X72,X72)=1,Y71+1,Y71)","v":1},"",{"$error":"#N/A"},{"$f":"IF(COUNTIF($AA$12:AA72,AA72)=1,AB71+1,AB71)","v":1},"","",{"$f":"IF(COUNTIF($AD$12:AD72,AD72)=1,AE71+1,AE71)","v":1},""]
[{"$f":"'「志願先」欄  選択一覧'!A73","v":71},{"$f":"'「志願先」欄  選択一覧'!B73","v":"修士課程"},{"$f":"COUNTIF($B$3:B73,B73)","v":71},"修士課程71",{"$f":"'「志願先」欄  選択一覧'!C73","v":"経済学研究科"},{"$f":"COUNTIF($E$3:E73,E73)","v":35},"経済学研究科35",{"$f":"'「志願先」欄  選択一覧'!D73","v":"経済学専攻"},"修士課程経済学専攻",{"$f":"COUNTIF($I$3:I73,I73)","v":35},"修士課程経済学専攻35",{"$f":"'「志願先」欄  選択一覧'!E73","v":"社会人選抜入試"},"修士課程経済学専攻社会人選抜入試",{"$f":"COUNTIF($M$3:M73,M73)","v":5},"修士課程経済学専攻社会人選抜入試5","修士課程経済学研究科経済学専攻社会人選抜入試",{"$f":"'「志願先」欄  選択一覧'!F73","v":"1年（応用ミクロ・応用マクロ・計量）"},null,null,62,"",{"$f":"IF(COUNTIF($U$12:U73,U73)=1,V72+1,V72)","v":1},"",{"$error":"#N/A"},{"$f":"IF(COUNTIF($X$12:X73,X73)=1,Y72+1,Y72)","v":1},"",{"$error":"#N/A"},{"$f":"IF(COUNTIF($AA$12:AA73,AA73)=1,AB72+1,AB72)","v":1},"","",{"$f":"IF(COUNTIF($AD$12:AD73,AD73)=1,AE72+1,AE72)","v":1},""]
[{"$f":"'「志願先」欄  選択一覧'!A74","v":72},{"$f":"'「志願先」欄  選択一覧'!B74","v":"修士課程"},{"$f":"COUNTIF($B$3:B74,B74)","v":72},"修士課程72",{"$f":"'「志願先」欄  選択一覧'!C74","v":"経済学研究科"},{"$f":"COUNTIF($E$3:E74,E74)","v":36},"経済学研究科36",{"$f":"'「志願先」欄  選択一覧'!D74","v":"経済学専攻"},"修士課程経済学専攻",{"$f":"COUNTIF($I$3:I74,I74)","v":36},"修士課程経済学専攻36",{"$f":"'「志願先」欄  選択一覧'!E74","v":"社会人選抜入試"},"修士課程経済学専攻社会人選抜入試",{"$f":"COUNTIF($M$3:M74,M74)","v":6},"修士課程経済学専攻社会人選抜入試6","修士課程経済学研究科経済学専攻社会人選抜入試",{"$f":"'「志願先」欄  選択一覧'!F74","v":"1＋3年（歴史・思想・制度）"},null,null,63,"",{"$f":"IF(COUNTIF($U$12:U74,U74)=1,V73+1,V73)","v":1},"",{"$error":"#N/A"},{"$f":"IF(COUNTIF($X$12:X74,X74)=1,Y73+1,Y73)","v":1},"",{"$error":"#N/A"},{"$f":"IF(COUNTIF($AA$12:AA74,AA74)=1,AB73+1,AB73)","v":1},"","",{"$f":"IF(COUNTIF($AD$12:AD74,AD74)=1,AE73+1,AE73)","v":1},""]
[{"$f":"'「志願先」欄  選択一覧'!A75","v":73},{"$f":"'「志願先」欄  選択一覧'!B75","v":"修士課程"},{"$f":"COUNTIF($B$3:B75,B75)","v":73},"修士課程73",{"$f":"'「志願先」欄  選択一覧'!C75","v":"経済学研究科"},{"$f":"COUNTIF($E$3:E75,E75)","v":37},"経済学研究科37",{"$f":"'「志願先」欄  選択一覧'!D75","v":"経済学専攻"},"修士課程経済学専攻",{"$f":"COUNTIF($I$3:I75,I75)","v":37},"修士課程経済学専攻37",{"$f":"'「志願先」欄  選択一覧'!E75","v":"社会人選抜入試"},"修士課程経済学専攻社会人選抜入試",{"$f":"COUNTIF($M$3:M75,M75)","v":7},"修士課程経済学専攻社会人選抜入試7","修士課程経済学研究科経済学専攻社会人選抜入試",{"$f":"'「志願先」欄  選択一覧'!F75","v":"1＋3年（金融・企業）"},null,null,64,"",{"$f":"IF(COUNTIF($U$12:U75,U75)=1,V74+1,V74)","v":1},"",{"$error":"#N/A"},{"$f":"IF(COUNTIF($X$12:X75,X75)=1,Y74+1,Y74)","v":1},"",{"$error":"#N/A"},{"$f":"IF(COUNTIF($AA$12:AA75,AA75)=1,AB74+1,AB74)","v":1},"","",{"$f":"IF(COUNTIF($AD$12:AD75,AD75)=1,AE74+1,AE74)","v":1},""]
[{"$f":"'「志願先」欄  選択一覧'!A76","v":74},{"$f":"'「志願先」欄  選択一覧'!B76","v":"修士課程"},{"$f":"COUNTIF($B$3:B76,B76)","v":74},"修士課程74",{"$f":"'「志願先」欄  選択一覧'!C76","v":"経済学研究科"},{"$f":"COUNTIF($E$3:E76,E76)","v":38},"経済学研究科38",{"$f":"'「志願先」欄  選択一覧'!D76","v":"経済学専攻"},"修士課程経済学専攻",{"$f":"COUNTIF($I$3:I76,I76)","v":38},"修士課程経済学専攻38",{"$f":"'「志願先」欄  選択一覧'!E76","v":"社会人選抜入試"},"修士課程経済学専攻社会人選抜入試",{"$f":"COUNTIF($M$3:M76,M76)","v":8},"修士課程経済学専攻社会人選抜入試8","修士課程経済学研究科経済学専攻社会人選抜入試",{"$f":"'「志願先」欄  選択一覧'!F76","v":"1＋3年（政策・環境）"},null,null,65,{"$f":"IFERROR(VLOOKUP($W$2&T76,$D:$E,2,0),\"\")","v":""},{"$f":"IF(COUNTIF($U$12:U76,U76)=1,V75+1,V75)","v":1},{"$f":"IFERROR(INDEX($U$12:$U$200,MATCH(ROW(W76)-11,$V$12:$V$200,0)),\"\")","v":""},{"$error":"#N/A"},{"$f":"IF(COUNTIF($X$12:X76,X76)=1,Y75+1,Y75)","v":1},{"$f":"IFERROR(INDEX($X$12:$X$200,MATCH(ROW(Z76)-11,$Y$12:$Y$200,0)),\"\")","v":""},{"$error":"#N/A"},{"$f":"IF(COUNTIF($AA$12:AA76,AA76)=1,AB75+1,AB75)","v":1},{"$f":"IFERROR(INDEX($AA$12:$AA$200,MATCH(ROW(AC76)-11,$AB$12:$AB$200,0)),\"\")","v":""},"",{"$f":"IF(COUNTIF($AD$12:AD76,AD76)=1,AE75+1,AE75)","v":1},""]
[{"$f":"'「志願先」欄  選択一覧'!A77","v":75},{"$f":"'「志願先」欄  選択一覧'!B77","v":"修士課程"},{"$f":"COUNTIF($B$3:B77,B77)","v":75},"修士課程75",{"$f":"'「志願先」欄  選択一覧'!C77","v":"経済学研究科"},{"$f":"COUNTIF($E$3:E77,E77)","v":39},"経済学研究科39",{"$f":"'「志願先」欄  選択一覧'!D77","v":"経済学専攻"},"修士課程経済学専攻",{"$f":"COUNTIF($I$3:I77,I77)","v":39},"修士課程経済学専攻39",{"$f":"'「志願先」欄  選択一覧'!E77","v":"社会人選抜入試"},"修士課程経済学専攻社会人選抜入試",{"$f":"COUNTIF($M$3:M77,M77)","v":9},"修士課程経済学専攻社会人選抜入試9","修士課程経済学研究科経済学専攻社会人選抜入試",{"$f":"'「志願先」欄  選択一覧'!F77","v":"1＋3年（国際・地域）"},null,null,66,"",{"$f":"IF(COUNTIF($U$12:U77,U77)=1,V76+1,V76)","v":1},"",{"$error":"#N/A"},{"$f":"IF(COUNTIF($X$12:X77,X77)=1,Y76+1,Y76)","v":1},"",{"$error":"#N/A"},{"$f":"IF(COUNTIF($AA$12:AA77,AA77)=1,AB76+1,AB76)","v":1},"",{"$f":"IFERROR(VLOOKUP($W$2&$W$4&$W$5&T77,$O:$Q,3,0),\"\")","v":""},{"$f":"IF(COUNTIF($AD$12:AD77,AD77)=1,AE76+1,AE76)","v":1},{"$f":"IF(AD77=\"なし\",\"\",\nIFERROR(INDEX($AD$12:$AD$200,MATCH(ROW(AF77)-11,$AE$12:$AE$200,0)),\"\")\n)","v":""}]
[{"$f":"'「志願先」欄  選択一覧'!A78","v":76},{"$f":"'「志願先」欄  選択一覧'!B78","v":"修士課程"},{"$f":"COUNTIF($B$3:B78,B78)","v":76},"修士課程76",{"$f":"'「志願先」欄  選択一覧'!C78","v":"経済学研究科"},{"$f":"COUNTIF($E$3:E78,E78)","v":40},"経済学研究科40",{"$f":"'「志願先」欄  選択一覧'!D78","v":"経済学専攻"},"修士課程経済学専攻",{"$f":"COUNTIF($I$3:I78,I78)","v":40},"修士課程経済学専攻40",{"$f":"'「志願先」欄  選択一覧'!E78","v":"社会人選抜入試"},"修士課程経済学専攻社会人選抜入試",{"$f":"COUNTIF($M$3:M78,M78)","v":10},"修士課程経済学専攻社会人選抜入試10","修士課程経済学研究科経済学専攻社会人選抜入試",{"$f":"'「志願先」欄  選択一覧'!F78","v":"1＋3年（応用ミクロ・応用マクロ・計量）"},null,null,67,"",{"$f":"IF(COUNTIF($U$12:U78,U78)=1,V77+1,V77)","v":1},"",{"$error":"#N/A"},{"$f":"IF(COUNTIF($X$12:X78,X78)=1,Y77+1,Y77)","v":1},"",{"$error":"#N/A"},{"$f":"IF(COUNTIF($AA$12:AA78,AA78)=1,AB77+1,AB77)","v":1},"","",{"$f":"IF(COUNTIF($AD$12:AD78,AD78)=1,AE77+1,AE77)","v":1},""]
[{"$f":"'「志願先」欄  選択一覧'!A79","v":77},{"$f":"'「志願先」欄  選択一覧'!B79","v":"修士課程"},{"$f":"COUNTIF($B$3:B79,B79)","v":77},"修士課程77",{"$f":"'「志願先」欄  選択一覧'!C79","v":"法学研究科"},{"$f":"COUNTIF($E$3:E79,E79)","v":1},"法学研究科1",{"$f":"'「志願先」欄  選択一覧'!D79","v":"法律学専攻"},"修士課程法律学専攻",{"$f":"COUNTIF($I$3:I79,I79)","v":1},"修士課程法律学専攻1",{"$f":"'「志願先」欄  選択一覧'!E79","v":"一般入試"},"修士課程法律学専攻一般入試",{"$f":"COUNTIF($M$3:M79,M79)","v":1},"修士課程法律学専攻一般入試1","修士課程法学研究科法律学専攻一般入試",{"$f":"'「志願先」欄  選択一覧'!F79","v":"なし"},null,null,68,"",{"$f":"IF(COUNTIF($U$12:U79,U79)=1,V78+1,V78)","v":1},"",{"$error":"#N/A"},{"$f":"IF(COUNTIF($X$12:X79,X79)=1,Y78+1,Y78)","v":1},"",{"$error":"#N/A"},{"$f":"IF(COUNTIF($AA$12:AA79,AA79)=1,AB78+1,AB78)","v":1},"","",{"$f":"IF(COUNTIF($AD$12:AD79,AD79)=1,AE78+1,AE78)","v":1},""]
[{"$f":"'「志願先」欄  選択一覧'!A80","v":78},{"$f":"'「志願先」欄  選択一覧'!B80","v":"修士課程"},{"$f":"COUNTIF($B$3:B80,B80)","v":78},"修士課程78",{"$f":"'「志願先」欄  選択一覧'!C80","v":"法学研究科"},{"$f":"COUNTIF($E$3:E80,E80)","v":2},"法学研究科2",{"$f":"'「志願先」欄  選択一覧'!D80","v":"法律学専攻"},"修士課程法律学専攻",{"$f":"COUNTIF($I$3:I80,I80)","v":2},"修士課程法律学専攻2",{"$f":"'「志願先」欄  選択一覧'!E80","v":"外国人入試"},"修士課程法律学専攻外国人入試",{"$f":"COUNTIF($M$3:M80,M80)","v":1},"修士課程法律学専攻外国人入試1","修士課程法学研究科法律学専攻外国人入試",{"$f":"'「志願先」欄  選択一覧'!F80","v":"なし"},null,null,69,"",{"$f":"IF(COUNTIF($U$12:U80,U80)=1,V79+1,V79)","v":1},"",{"$error":"#N/A"},{"$f":"IF(COUNTIF($X$12:X80,X80)=1,Y79+1,Y79)","v":1},"",{"$error":"#N/A"},{"$f":"IF(COUNTIF($AA$12:AA80,AA80)=1,AB79+1,AB79)","v":1},"","",{"$f":"IF(COUNTIF($AD$12:AD80,AD80)=1,AE79+1,AE79)","v":1},""]
[{"$f":"'「志願先」欄  選択一覧'!A81","v":79},{"$f":"'「志願先」欄  選択一覧'!B81","v":"修士課程"},{"$f":"COUNTIF($B$3:B81,B81)","v":79},"修士課程79",{"$f":"'「志願先」欄  選択一覧'!C81","v":"法学研究科"},{"$f":"COUNTIF($E$3:E81,E81)","v":3},"法学研究科3",{"$f":"'「志願先」欄  選択一覧'!D81","v":"法律学専攻"},"修士課程法律学専攻",{"$f":"COUNTIF($I$3:I81,I81)","v":3},"修士課程法律学専攻3",{"$f":"'「志願先」欄  選択一覧'!E81","v":"社会人入試"},"修士課程法律学専攻社会人入試",{"$f":"COUNTIF($M$3:M81,M81)","v":1},"修士課程法律学専攻社会人入試1","修士課程法学研究科法律学専攻社会人入試",{"$f":"'「志願先」欄  選択一覧'!F81","v":"なし"},null,null,70,"",{"$f":"IF(COUNTIF($U$12:U81,U81)=1,V80+1,V80)","v":1},"",{"$f":"VLOOKUP($W$3&T81,$G:$H,2,0)","v":{"$error":"#N/A"}},{"$f":"IF(COUNTIF($X$12:X81,X81)=1,Y80+1,Y80)","v":1},"",{"$error":"#N/A"},{"$f":"IF(COUNTIF($AA$12:AA81,AA81)=1,AB80+1,AB80)","v":1},"","",{"$f":"IF(COUNTIF($AD$12:AD81,AD81)=1,AE80+1,AE80)","v":1},""]
[{"$f":"'「志願先」欄  選択一覧'!A82","v":80},{"$f":"'「志願先」欄  選択一覧'!B82","v":"修士課程"},{"$f":"COUNTIF($B$3:B82,B82)","v":80},"修士課程80",{"$f":"'「志願先」欄  選択一覧'!C82","v":"政治学研究科"},{"$f":"COUNTIF($E$3:E82,E82)","v":1},"政治学研究科1",{"$f":"'「志願先」欄  選択一覧'!D82","v":"政治学専攻"},"修士課程政治学専攻",{"$f":"COUNTIF($I$3:I82,I82)","v":1},"修士課程政治学専攻1",{"$f":"'「志願先」欄  選択一覧'!E82","v":"一般入試"},"修士課程政治学専攻一般入試",{"$f":"COUNTIF($M$3:M82,M82)","v":1},"修士課程政治学専攻一般入試1","修士課程政治学研究科政治学専攻一般入試",{"$f":"'「志願先」欄  選択一覧'!F82","v":"なし"},null,null,71,"",{"$f":"IF(COUNTIF($U$12:U82,U82)=1,V81+1,V81)","v":1},"",{"$error":"#N/A"},{"$f":"IF(COUNTIF($X$12:X82,X82)=1,Y81+1,Y81)","v":1},"",{"$f":"VLOOKUP($W$2&$W$4&T82,$K:$L,2,0)","v":{"$error":"#N/A"}},{"$f":"IF(COUNTIF($AA$12:AA82,AA82)=1,AB81+1,AB81)","v":1},"","",{"$f":"IF(COUNTIF($AD$12:AD82,AD82)=1,AE81+1,AE81)","v":1},""]
[{"$f":"'「志願先」欄  選択一覧'!A83","v":81},{"$f":"'「志願先」欄  選択一覧'!B83","v":"修士課程"},{"$f":"COUNTIF($B$3:B83,B83)","v":81},"修士課程81",{"$f":"'「志願先」欄  選択一覧'!C83","v":"政治学研究科"},{"$f":"COUNTIF($E$3:E83,E83)","v":2},"政治学研究科2",{"$f":"'「志願先」欄  選択一覧'!D83","v":"政治学専攻"},"修士課程政治学専攻",{"$f":"COUNTIF($I$3:I83,I83)","v":2},"修士課程政治学専攻2",{"$f":"'「志願先」欄  選択一覧'!E83","v":"外国人入試"},"修士課程政治学専攻外国人入試",{"$f":"COUNTIF($M$3:M83,M83)","v":1},"修士課程政治学専攻外国人入試1","修士課程政治学研究科政治学専攻外国人入試",{"$f":"'「志願先」欄  選択一覧'!F83","v":"なし"},null,null,72,"",{"$f":"IF(COUNTIF($U$12:U83,U83)=1,V82+1,V82)","v":1},"",{"$error":"#N/A"},{"$f":"IF(COUNTIF($X$12:X83,X83)=1,Y82+1,Y82)","v":1},"",{"$error":"#N/A"},{"$f":"IF(COUNTIF($AA$12:AA83,AA83)=1,AB82+1,AB82)","v":1},"","",{"$f":"IF(COUNTIF($AD$12:AD83,AD83)=1,AE82+1,AE82)","v":1},""]
[{"$f":"'「志願先」欄  選択一覧'!A84","v":82},{"$f":"'「志願先」欄  選択一覧'!B84","v":"修士課程"},{"$f":"COUNTIF($B$3:B84,B84)","v":82},"修士課程82",{"$f":"'「志願先」欄  選択一覧'!C84","v":"政治学研究科"},{"$f":"COUNTIF($E$3:E84,E84)","v":3},"政治学研究科3",{"$f":"'「志願先」欄  選択一覧'!D84","v":"国際政治学専攻"},"修士課程国際政治学専攻",{"$f":"COUNTIF($I$3:I84,I84)","v":1},"修士課程国際政治学専攻1",{"$f":"'「志願先」欄  選択一覧'!E84","v":"一般入試"},"修士課程国際政治学専攻一般入試",{"$f":"COUNTIF($M$3:M84,M84)","v":1},"修士課程国際政治学専攻一般入試1","修士課程政治学研究科国際政治学専攻一般入試",{"$f":"'「志願先」欄  選択一覧'!F84","v":"なし"},null,null,73,"",{"$f":"IF(COUNTIF($U$12:U84,U84)=1,V83+1,V83)","v":1},"",{"$error":"#N/A"},{"$f":"IF(COUNTIF($X$12:X84,X84)=1,Y83+1,Y83)","v":1},"",{"$error":"#N/A"},{"$f":"IF(COUNTIF($AA$12:AA84,AA84)=1,AB83+1,AB83)","v":1},"","",{"$f":"IF(COUNTIF($AD$12:AD84,AD84)=1,AE83+1,AE83)","v":1},""]
[{"$f":"'「志願先」欄  選択一覧'!A85","v":83},{"$f":"'「志願先」欄  選択一覧'!B85","v":"修士課程"},{"$f":"COUNTIF($B$3:B85,B85)","v":83},"修士課程83",{"$f":"'「志願先」欄  選択一覧'!C85","v":"政治学研究科"},{"$f":"COUNTIF($E$3:E85,E85)","v":4},"政治学研究科4",{"$f":"'「志願先」欄  選択一覧'!D85","v":"国際政治学専攻"},"修士課程国際政治学専攻",{"$f":"COUNTIF($I$3:I85,I85)","v":2},"修士課程国際政治学専攻2",{"$f":"'「志願先」欄  選択一覧'!E85","v":"外国人入試"},"修士課程国際政治学専攻外国人入試",{"$f":"COUNTIF($M$3:M85,M85)","v":1},"修士課程国際政治学専攻外国人入試1","修士課程政治学研究科国際政治学専攻外国人入試",{"$f":"'「志願先」欄  選択一覧'!F85","v":"なし"},null,null,74,"",{"$f":"IF(COUNTIF($U$12:U85,U85)=1,V84+1,V84)","v":1},"",{"$error":"#N/A"},{"$f":"IF(COUNTIF($X$12:X85,X85)=1,Y84+1,Y84)","v":1},"",{"$error":"#N/A"},{"$f":"IF(COUNTIF($AA$12:AA85,AA85)=1,AB84+1,AB84)","v":1},"","",{"$f":"IF(COUNTIF($AD$12:AD85,AD85)=1,AE84+1,AE84)","v":1},""]
[{"$f":"'「志願先」欄  選択一覧'!A86","v":84},{"$f":"'「志願先」欄  選択一覧'!B86","v":"修士課程"},{"$f":"COUNTIF($B$3:B86,B86)","v":84},"修士課程84",{"$f":"'「志願先」欄  選択一覧'!C86","v":"政治学研究科"},{"$f":"COUNTIF($E$3:E86,E86)","v":5},"政治学研究科5",{"$f":"'「志願先」欄  選択一覧'!D86","v":"国際政治学専攻"},"修士課程国際政治学専攻",{"$f":"COUNTIF($I$3:I86,I86)","v":3},"修士課程国際政治学専攻3",{"$f":"'「志願先」欄  選択一覧'!E86","v":"社会人入試"},"修士課程国際政治学専攻社会人入試",{"$f":"COUNTIF($M$3:M86,M86)","v":1},"修士課程国際政治学専攻社会人入試1","修士課程政治学研究科国際政治学専攻社会人入試",{"$f":"'「志願先」欄  選択一覧'!F86","v":"なし"},null,null,75,"",{"$f":"IF(COUNTIF($U$12:U86,U86)=1,V85+1,V85)","v":1},"",{"$error":"#N/A"},{"$f":"IF(COUNTIF($X$12:X86,X86)=1,Y85+1,Y85)","v":1},"",{"$error":"#N/A"},{"$f":"IF(COUNTIF($AA$12:AA86,AA86)=1,AB85+1,AB85)","v":1},"","",{"$f":"IF(COUNTIF($AD$12:AD86,AD86)=1,AE85+1,AE85)","v":1},""]
[{"$f":"'「志願先」欄  選択一覧'!A87","v":85},{"$f":"'「志願先」欄  選択一覧'!B87","v":"修士課程"},{"$f":"COUNTIF($B$3:B87,B87)","v":85},"修士課程85",{"$f":"'「志願先」欄  選択一覧'!C87","v":"社会学研究科"},{"$f":"COUNTIF($E$3:E87,E87)","v":1},"社会学研究科1",{"$f":"'「志願先」欄  選択一覧'!D87","v":"社会学専攻"},"修士課程社会学専攻",{"$f":"COUNTIF($I$3:I87,I87)","v":1},"修士課程社会学専攻1",{"$f":"'「志願先」欄  選択一覧'!E87","v":"一般入試"},"修士課程社会学専攻一般入試",{"$f":"COUNTIF($M$3:M87,M87)","v":1},"修士課程社会学専攻一般入試1","修士課程社会学研究科社会学専攻一般入試",{"$f":"'「志願先」欄  選択一覧'!F87","v":"社会学コース"},null,null,76,"",{"$f":"IF(COUNTIF($U$12:U87,U87)=1,V86+1,V86)","v":1},"",{"$error":"#N/A"},{"$f":"IF(COUNTIF($X$12:X87,X87)=1,Y86+1,Y86)","v":1},"",{"$error":"#N/A"},{"$f":"IF(COUNTIF($AA$12:AA87,AA87)=1,AB86+1,AB86)","v":1},"","",{"$f":"IF(COUNTIF($AD$12:AD87,AD87)=1,AE86+1,AE86)","v":1},""]
[{"$f":"'「志願先」欄  選択一覧'!A88","v":86},{"$f":"'「志願先」欄  選択一覧'!B88","v":"修士課程"},{"$f":"COUNTIF($B$3:B88,B88)","v":86},"修士課程86",{"$f":"'「志願先」欄  選択一覧'!C88","v":"社会学研究科"},{"$f":"COUNTIF($E$3:E88,E88)","v":2},"社会学研究科2",{"$f":"'「志願先」欄  選択一覧'!D88","v":"社会学専攻"},"修士課程社会学専攻",{"$f":"COUNTIF($I$3:I88,I88)","v":2},"修士課程社会学専攻2",{"$f":"'「志願先」欄  選択一覧'!E88","v":"一般入試"},"修士課程社会学専攻一般入試",{"$f":"COUNTIF($M$3:M88,M88)","v":2},"修士課程社会学専攻一般入試2","修士課程社会学研究科社会学専攻一般入試",{"$f":"'「志願先」欄  選択一覧'!F88","v":"メディアコース"},null,null,77,"",{"$f":"IF(COUNTIF($U$12:U88,U88)=1,V87+1,V87)","v":1},"",{"$error":"#N/A"},{"$f":"IF(COUNTIF($X$12:X88,X88)=1,Y87+1,Y87)","v":1},"",{"$error":"#N/A"},{"$f":"IF(COUNTIF($AA$12:AA88,AA88)=1,AB87+1,AB87)","v":1},"","",{"$f":"IF(COUNTIF($AD$12:AD88,AD88)=1,AE87+1,AE87)","v":1},""]
[{"$f":"'「志願先」欄  選択一覧'!A89","v":87},{"$f":"'「志願先」欄  選択一覧'!B89","v":"修士課程"},{"$f":"COUNTIF($B$3:B89,B89)","v":87},"修士課程87",{"$f":"'「志願先」欄  選択一覧'!C89","v":"社会学研究科"},{"$f":"COUNTIF($E$3:E89,E89)","v":3},"社会学研究科3",{"$f":"'「志願先」欄  選択一覧'!D89","v":"社会学専攻"},"修士課程社会学専攻",{"$f":"COUNTIF($I$3:I89,I89)","v":3},"修士課程社会学専攻3",{"$f":"'「志願先」欄  選択一覧'!E89","v":"外国人入試"},"修士課程社会学専攻外国人入試",{"$f":"COUNTIF($M$3:M89,M89)","v":1},"修士課程社会学専攻外国人入試1","修士課程社会学研究科社会学専攻外国人入試",{"$f":"'「志願先」欄  選択一覧'!F89","v":"社会学コース"},null,null,78,"",{"$f":"IF(COUNTIF($U$12:U89,U89)=1,V88+1,V88)","v":1},"",{"$error":"#N/A"},{"$f":"IF(COUNTIF($X$12:X89,X89)=1,Y88+1,Y88)","v":1},"",{"$error":"#N/A"},{"$f":"IF(COUNTIF($AA$12:AA89,AA89)=1,AB88+1,AB88)","v":1},"","",{"$f":"IF(COUNTIF($AD$12:AD89,AD89)=1,AE88+1,AE88)","v":1},""]
[{"$f":"'「志願先」欄  選択一覧'!A90","v":88},{"$f":"'「志願先」欄  選択一覧'!B90","v":"修士課程"},{"$f":"COUNTIF($B$3:B90,B90)","v":88},"修士課程88",{"$f":"'「志願先」欄  選択一覧'!C90","v":"社会学研究科"},{"$f":"COUNTIF($E$3:E90,E90)","v":4},"社会学研究科4",{"$f":"'「志願先」欄  選択一覧'!D90","v":"社会学専攻"},"修士課程社会学専攻",{"$f":"COUNTIF($I$3:I90,I90)","v":4},"修士課程社会学専攻4",{"$f":"'「志願先」欄  選択一覧'!E90","v":"外国人入試"},"修士課程社会学専攻外国人入試",{"$f":"COUNTIF($M$3:M90,M90)","v":2},"修士課程社会学専攻外国人入試2","修士課程社会学研究科社会学専攻外国人入試",{"$f":"'「志願先」欄  選択一覧'!F90","v":"メディアコース"},null,null,79,"",{"$f":"IF(COUNTIF($U$12:U90,U90)=1,V89+1,V89)","v":1},"",{"$error":"#N/A"},{"$f":"IF(COUNTIF($X$12:X90,X90)=1,Y89+1,Y89)","v":1},"",{"$error":"#N/A"},{"$f":"IF(COUNTIF($AA$12:AA90,AA90)=1,AB89+1,AB89)","v":1},"","",{"$f":"IF(COUNTIF($AD$12:AD90,AD90)=1,AE89+1,AE89)","v":1},""]
[{"$f":"'「志願先」欄  選択一覧'!A91","v":89},{"$f":"'「志願先」欄  選択一覧'!B91","v":"修士課程"},{"$f":"COUNTIF($B$3:B91,B91)","v":89},"修士課程89",{"$f":"'「志願先」欄  選択一覧'!C91","v":"社会学研究科"},{"$f":"COUNTIF($E$3:E91,E91)","v":5},"社会学研究科5",{"$f":"'「志願先」欄  選択一覧'!D91","v":"社会学専攻"},"修士課程社会学専攻",{"$f":"COUNTIF($I$3:I91,I91)","v":5},"修士課程社会学専攻5",{"$f":"'「志願先」欄  選択一覧'!E91","v":"社会人入試"},"修士課程社会学専攻社会人入試",{"$f":"COUNTIF($M$3:M91,M91)","v":1},"修士課程社会学専攻社会人入試1","修士課程社会学研究科社会学専攻社会人入試",{"$f":"'「志願先」欄  選択一覧'!F91","v":"社会学コース"},null,null,80,"",{"$f":"IF(COUNTIF($U$12:U91,U91)=1,V90+1,V90)","v":1},"",{"$error":"#N/A"},{"$f":"IF(COUNTIF($X$12:X91,X91)=1,Y90+1,Y90)","v":1},"",{"$error":"#N/A"},{"$f":"IF(COUNTIF($AA$12:AA91,AA91)=1,AB90+1,AB90)","v":1},"","",{"$f":"IF(COUNTIF($AD$12:AD91,AD91)=1,AE90+1,AE90)","v":1},""]
[{"$f":"'「志願先」欄  選択一覧'!A92","v":90},{"$f":"'「志願先」欄  選択一覧'!B92","v":"修士課程"},{"$f":"COUNTIF($B$3:B92,B92)","v":90},"修士課程90",{"$f":"'「志願先」欄  選択一覧'!C92","v":"社会学研究科"},{"$f":"COUNTIF($E$3:E92,E92)","v":6},"社会学研究科6",{"$f":"'「志願先」欄  選択一覧'!D92","v":"社会学専攻"},"修士課程社会学専攻",{"$f":"COUNTIF($I$3:I92,I92)","v":6},"修士課程社会学専攻6",{"$f":"'「志願先」欄  選択一覧'!E92","v":"社会人入試"},"修士課程社会学専攻社会人入試",{"$f":"COUNTIF($M$3:M92,M92)","v":2},"修士課程社会学専攻社会人入試2","修士課程社会学研究科社会学専攻社会人入試",{"$f":"'「志願先」欄  選択一覧'!F92","v":"メディアコース"},null,null,81,"",{"$f":"IF(COUNTIF($U$12:U92,U92)=1,V91+1,V91)","v":1},"",{"$error":"#N/A"},{"$f":"IF(COUNTIF($X$12:X92,X92)=1,Y91+1,Y91)","v":1},"",{"$error":"#N/A"},{"$f":"IF(COUNTIF($AA$12:AA92,AA92)=1,AB91+1,AB91)","v":1},"","",{"$f":"IF(COUNTIF($AD$12:AD92,AD92)=1,AE91+1,AE91)","v":1},""]
[{"$f":"'「志願先」欄  選択一覧'!A93","v":91},{"$f":"'「志願先」欄  選択一覧'!B93","v":"修士課程"},{"$f":"COUNTIF($B$3:B93,B93)","v":91},"修士課程91",{"$f":"'「志願先」欄  選択一覧'!C93","v":"経営学研究科"},{"$f":"COUNTIF($E$3:E93,E93)","v":1},"経営学研究科1",{"$f":"'「志願先」欄  選択一覧'!D93","v":"経営学専攻"},"修士課程経営学専攻",{"$f":"COUNTIF($I$3:I93,I93)","v":1},"修士課程経営学専攻1",{"$f":"'「志願先」欄  選択一覧'!E93","v":"一般入試"},"修士課程経営学専攻一般入試",{"$f":"COUNTIF($M$3:M93,M93)","v":1},"修士課程経営学専攻一般入試1","修士課程経営学研究科経営学専攻一般入試",{"$f":"'「志願先」欄  選択一覧'!F93","v":"戦略・企業家"},null,null,82,"",{"$f":"IF(COUNTIF($U$12:U93,U93)=1,V92+1,V92)","v":1},"",{"$error":"#N/A"},{"$f":"IF(COUNTIF($X$12:X93,X93)=1,Y92+1,Y92)","v":1},"",{"$error":"#N/A"},{"$f":"IF(COUNTIF($AA$12:AA93,AA93)=1,AB92+1,AB92)","v":1},"","",{"$f":"IF(COUNTIF($AD$12:AD93,AD93)=1,AE92+1,AE92)","v":1},""]
[{"$f":"'「志願先」欄  選択一覧'!A94","v":92},{"$f":"'「志願先」欄  選択一覧'!B94","v":"修士課程"},{"$f":"COUNTIF($B$3:B94,B94)","v":92},"修士課程92",{"$f":"'「志願先」欄  選択一覧'!C94","v":"経営学研究科"},{"$f":"COUNTIF($E$3:E94,E94)","v":2},"経営学研究科2",{"$f":"'「志願先」欄  選択一覧'!D94","v":"経営学専攻"},"修士課程経営学専攻",{"$f":"COUNTIF($I$3:I94,I94)","v":2},"修士課程経営学専攻2",{"$f":"'「志願先」欄  選択一覧'!E94","v":"一般入試"},"修士課程経営学専攻一般入試",{"$f":"COUNTIF($M$3:M94,M94)","v":2},"修士課程経営学専攻一般入試2","修士課程経営学研究科経営学専攻一般入試",{"$f":"'「志願先」欄  選択一覧'!F94","v":"マーケティング"},null,null,83,"",{"$f":"IF(COUNTIF($U$12:U94,U94)=1,V93+1,V93)","v":1},"",{"$error":"#N/A"},{"$f":"IF(COUNTIF($X$12:X94,X94)=1,Y93+1,Y93)","v":1},"",{"$error":"#N/A"},{"$f":"IF(COUNTIF($AA$12:AA94,AA94)=1,AB93+1,AB93)","v":1},"","",{"$f":"IF(COUNTIF($AD$12:AD94,AD94)=1,AE93+1,AE93)","v":1},""]
[{"$f":"'「志願先」欄  選択一覧'!A95","v":93},{"$f":"'「志願先」欄  選択一覧'!B95","v":"修士課程"},{"$f":"COUNTIF($B$3:B95,B95)","v":93},"修士課程93",{"$f":"'「志願先」欄  選択一覧'!C95","v":"経営学研究科"},{"$f":"COUNTIF($E$3:E95,E95)","v":3},"経営学研究科3",{"$f":"'「志願先」欄  選択一覧'!D95","v":"経営学専攻"},"修士課程経営学専攻",{"$f":"COUNTIF($I$3:I95,I95)","v":3},"修士課程経営学専攻3",{"$f":"'「志願先」欄  選択一覧'!E95","v":"一般入試"},"修士課程経営学専攻一般入試",{"$f":"COUNTIF($M$3:M95,M95)","v":3},"修士課程経営学専攻一般入試3","修士課程経営学研究科経営学専攻一般入試",{"$f":"'「志願先」欄  選択一覧'!F95","v":"国際経営"},null,null,84,"",{"$f":"IF(COUNTIF($U$12:U95,U95)=1,V94+1,V94)","v":1},"",{"$error":"#N/A"},{"$f":"IF(COUNTIF($X$12:X95,X95)=1,Y94+1,Y94)","v":1},"",{"$error":"#N/A"},{"$f":"IF(COUNTIF($AA$12:AA95,AA95)=1,AB94+1,AB94)","v":1},"","",{"$f":"IF(COUNTIF($AD$12:AD95,AD95)=1,AE94+1,AE94)","v":1},""]
[{"$f":"'「志願先」欄  選択一覧'!A96","v":94},{"$f":"'「志願先」欄  選択一覧'!B96","v":"修士課程"},{"$f":"COUNTIF($B$3:B96,B96)","v":94},"修士課程94",{"$f":"'「志願先」欄  選択一覧'!C96","v":"経営学研究科"},{"$f":"COUNTIF($E$3:E96,E96)","v":4},"経営学研究科4",{"$f":"'「志願先」欄  選択一覧'!D96","v":"経営学専攻"},"修士課程経営学専攻",{"$f":"COUNTIF($I$3:I96,I96)","v":4},"修士課程経営学専攻4",{"$f":"'「志願先」欄  選択一覧'!E96","v":"一般入試"},"修士課程経営学専攻一般入試",{"$f":"COUNTIF($M$3:M96,M96)","v":4},"修士課程経営学専攻一般入試4","修士課程経営学研究科経営学専攻一般入試",{"$f":"'「志願先」欄  選択一覧'!F96","v":"経営史"},null,null,85,"",{"$f":"IF(COUNTIF($U$12:U96,U96)=1,V95+1,V95)","v":1},"",{"$error":"#N/A"},{"$f":"IF(COUNTIF($X$12:X96,X96)=1,Y95+1,Y95)","v":1},"",{"$error":"#N/A"},{"$f":"IF(COUNTIF($AA$12:AA96,AA96)=1,AB95+1,AB95)","v":1},"","",{"$f":"IF(COUNTIF($AD$12:AD96,AD96)=1,AE95+1,AE95)","v":1},""]
[{"$f":"'「志願先」欄  選択一覧'!A97","v":95},{"$f":"'「志願先」欄  選択一覧'!B97","v":"修士課程"},{"$f":"COUNTIF($B$3:B97,B97)","v":95},"修士課程95",{"$f":"'「志願先」欄  選択一覧'!C97","v":"経営学研究科"},{"$f":"COUNTIF($E$3:E97,E97)","v":5},"経営学研究科5",{"$f":"'「志願先」欄  選択一覧'!D97","v":"経営学専攻"},"修士課程経営学専攻",{"$f":"COUNTIF($I$3:I97,I97)","v":5},"修士課程経営学専攻5",{"$f":"'「志願先」欄  選択一覧'!E97","v":"一般入試"},"修士課程経営学専攻一般入試",{"$f":"COUNTIF($M$3:M97,M97)","v":5},"修士課程経営学専攻一般入試5","修士課程経営学研究科経営学専攻一般入試",{"$f":"'「志願先」欄  選択一覧'!F97","v":"会計"},null,null,86,"",{"$f":"IF(COUNTIF($U$12:U97,U97)=1,V96+1,V96)","v":1},"",{"$error":"#N/A"},{"$f":"IF(COUNTIF($X$12:X97,X97)=1,Y96+1,Y96)","v":1},"",{"$error":"#N/A"},{"$f":"IF(COUNTIF($AA$12:AA97,AA97)=1,AB96+1,AB96)","v":1},"","",{"$f":"IF(COUNTIF($AD$12:AD97,AD97)=1,AE96+1,AE96)","v":1},""]
[{"$f":"'「志願先」欄  選択一覧'!A98","v":96},{"$f":"'「志願先」欄  選択一覧'!B98","v":"修士課程"},{"$f":"COUNTIF($B$3:B98,B98)","v":96},"修士課程96",{"$f":"'「志願先」欄  選択一覧'!C98","v":"経営学研究科"},{"$f":"COUNTIF($E$3:E98,E98)","v":6},"経営学研究科6",{"$f":"'「志願先」欄  選択一覧'!D98","v":"経営学専攻"},"修士課程経営学専攻",{"$f":"COUNTIF($I$3:I98,I98)","v":6},"修士課程経営学専攻6",{"$f":"'「志願先」欄  選択一覧'!E98","v":"一般入試"},"修士課程経営学専攻一般入試",{"$f":"COUNTIF($M$3:M98,M98)","v":6},"修士課程経営学専攻一般入試6","修士課程経営学研究科経営学専攻一般入試",{"$f":"'「志願先」欄  選択一覧'!F98","v":"経済"},null,null,87,"",{"$f":"IF(COUNTIF($U$12:U98,U98)=1,V97+1,V97)","v":1},"",{"$error":"#N/A"},{"$f":"IF(COUNTIF($X$12:X98,X98)=1,Y97+1,Y97)","v":1},"",{"$error":"#N/A"},{"$f":"IF(COUNTIF($AA$12:AA98,AA98)=1,AB97+1,AB97)","v":1},"","",{"$f":"IF(COUNTIF($AD$12:AD98,AD98)=1,AE97+1,AE97)","v":1},""]
[{"$f":"'「志願先」欄  選択一覧'!A99","v":97},{"$f":"'「志願先」欄  選択一覧'!B99","v":"修士課程"},{"$f":"COUNTIF($B$3:B99,B99)","v":97},"修士課程97",{"$f":"'「志願先」欄  選択一覧'!C99","v":"経営学研究科"},{"$f":"COUNTIF($E$3:E99,E99)","v":7},{"$f":"E99&F99","v":"経営学研究科7"},{"$f":"'「志願先」欄  選択一覧'!D99","v":"経営学専攻"},"修士課程経営学専攻",{"$f":"COUNTIF($I$3:I99,I99)","v":7},"修士課程経営学専攻7",{"$f":"'「志願先」欄  選択一覧'!E99","v":"一般入試"},"修士課程経営学専攻一般入試",{"$f":"COUNTIF($M$3:M99,M99)","v":7},{"$f":"B99&H99&L99&N99","v":"修士課程経営学専攻一般入試7"},"修士課程経営学研究科経営学専攻一般入試",{"$f":"'「志願先」欄  選択一覧'!F99","v":"組織・人事"},null,null,88,"",{"$f":"IF(COUNTIF($U$12:U99,U99)=1,V98+1,V98)","v":1},"",{"$error":"#N/A"},{"$f":"IF(COUNTIF($X$12:X99,X99)=1,Y98+1,Y98)","v":1},"",{"$error":"#N/A"},{"$f":"IF(COUNTIF($AA$12:AA99,AA99)=1,AB98+1,AB98)","v":1},"","",{"$f":"IF(COUNTIF($AD$12:AD99,AD99)=1,AE98+1,AE98)","v":1},""]
[{"$f":"'「志願先」欄  選択一覧'!A100","v":98},{"$f":"'「志願先」欄  選択一覧'!B100","v":"修士課程"},{"$f":"COUNTIF($B$3:B100,B100)","v":98},"修士課程98",{"$f":"'「志願先」欄  選択一覧'!C100","v":"経営学研究科"},{"$f":"COUNTIF($E$3:E100,E100)","v":8},"経営学研究科8",{"$f":"'「志願先」欄  選択一覧'!D100","v":"経営学専攻"},"修士課程経営学専攻",{"$f":"COUNTIF($I$3:I100,I100)","v":8},"修士課程経営学専攻8",{"$f":"'「志願先」欄  選択一覧'!E100","v":"一般入試"},"修士課程経営学専攻一般入試",{"$f":"COUNTIF($M$3:M100,M100)","v":8},"修士課程経営学専攻一般入試8","修士課程経営学研究科経営学専攻一般入試",{"$f":"'「志願先」欄  選択一覧'!F100","v":"ファイナンス"},null,null,89,"",{"$f":"IF(COUNTIF($U$12:U100,U100)=1,V99+1,V99)","v":1},"",{"$error":"#N/A"},{"$f":"IF(COUNTIF($X$12:X100,X100)=1,Y99+1,Y99)","v":1},"",{"$error":"#N/A"},{"$f":"IF(COUNTIF($AA$12:AA100,AA100)=1,AB99+1,AB99)","v":1},"","",{"$f":"IF(COUNTIF($AD$12:AD100,AD100)=1,AE99+1,AE99)","v":1},""]
[{"$f":"'「志願先」欄  選択一覧'!A101","v":99},{"$f":"'「志願先」欄  選択一覧'!B101","v":"修士課程"},{"$f":"COUNTIF($B$3:B101,B101)","v":99},"修士課程99",{"$f":"'「志願先」欄  選択一覧'!C101","v":"経営学研究科"},{"$f":"COUNTIF($E$3:E101,E101)","v":9},"経営学研究科9",{"$f":"'「志願先」欄  選択一覧'!D101","v":"経営学専攻"},"修士課程経営学専攻",{"$f":"COUNTIF($I$3:I101,I101)","v":9},"修士課程経営学専攻9",{"$f":"'「志願先」欄  選択一覧'!E101","v":"一般入試"},"修士課程経営学専攻一般入試",{"$f":"COUNTIF($M$3:M101,M101)","v":9},"修士課程経営学専攻一般入試9","修士課程経営学研究科経営学専攻一般入試",{"$f":"'「志願先」欄  選択一覧'!F101","v":"AI・データサイエンス"},null,null,90,"",{"$f":"IF(COUNTIF($U$12:U101,U101)=1,V100+1,V100)","v":1},"",{"$error":"#N/A"},{"$f":"IF(COUNTIF($X$12:X101,X101)=1,Y100+1,Y100)","v":1},"",{"$error":"#N/A"},{"$f":"IF(COUNTIF($AA$12:AA101,AA101)=1,AB100+1,AB100)","v":1},"","",{"$f":"IF(COUNTIF($AD$12:AD101,AD101)=1,AE100+1,AE100)","v":1},""]
[{"$f":"'「志願先」欄  選択一覧'!A102","v":100},{"$f":"'「志願先」欄  選択一覧'!B102","v":"修士課程"},{"$f":"COUNTIF($B$3:B102,B102)","v":100},"修士課程100",{"$f":"'「志願先」欄  選択一覧'!C102","v":"経営学研究科"},{"$f":"COUNTIF($E$3:E102,E102)","v":10},"経営学研究科10",{"$f":"'「志願先」欄  選択一覧'!D102","v":"経営学専攻"},"修士課程経営学専攻",{"$f":"COUNTIF($I$3:I102,I102)","v":10},"修士課程経営学専攻10",{"$f":"'「志願先」欄  選択一覧'!E102","v":"社会人入試"},"修士課程経営学専攻社会人入試",{"$f":"COUNTIF($M$3:M102,M102)","v":1},"修士課程経営学専攻社会人入試1","修士課程経営学研究科経営学専攻社会人入試",{"$f":"'「志願先」欄  選択一覧'!F102","v":"企業家養成コース"},null,null,91,"",{"$f":"IF(COUNTIF($U$12:U102,U102)=1,V101+1,V101)","v":1},"",{"$error":"#N/A"},{"$f":"IF(COUNTIF($X$12:X102,X102)=1,Y101+1,Y101)","v":1},"",{"$error":"#N/A"},{"$f":"IF(COUNTIF($AA$12:AA102,AA102)=1,AB101+1,AB101)","v":1},"","",{"$f":"IF(COUNTIF($AD$12:AD102,AD102)=1,AE101+1,AE101)","v":1},""]
[{"$f":"'「志願先」欄  選択一覧'!A103","v":101},{"$f":"'「志願先」欄  選択一覧'!B103","v":"修士課程"},{"$f":"COUNTIF($B$3:B103,B103)","v":101},"修士課程101",{"$f":"'「志願先」欄  選択一覧'!C103","v":"経営学研究科"},{"$f":"COUNTIF($E$3:E103,E103)","v":11},"経営学研究科11",{"$f":"'「志願先」欄  選択一覧'!D103","v":"経営学専攻"},"修士課程経営学専攻",{"$f":"COUNTIF($I$3:I103,I103)","v":11},"修士課程経営学専攻11",{"$f":"'「志願先」欄  選択一覧'!E103","v":"社会人入試"},"修士課程経営学専攻社会人入試",{"$f":"COUNTIF($M$3:M103,M103)","v":2},"修士課程経営学専攻社会人入試2","修士課程経営学研究科経営学専攻社会人入試",{"$f":"'「志願先」欄  選択一覧'!F103","v":"人材・組織マネジメントコース"},null,null,92,"",{"$f":"IF(COUNTIF($U$12:U103,U103)=1,V102+1,V102)","v":1},"",{"$error":"#N/A"},{"$f":"IF(COUNTIF($X$12:X103,X103)=1,Y102+1,Y102)","v":1},"",{"$error":"#N/A"},{"$f":"IF(COUNTIF($AA$12:AA103,AA103)=1,AB102+1,AB102)","v":1},"","",{"$f":"IF(COUNTIF($AD$12:AD103,AD103)=1,AE102+1,AE102)","v":1},""]
[{"$f":"'「志願先」欄  選択一覧'!A104","v":102},{"$f":"'「志願先」欄  選択一覧'!B104","v":"修士課程"},{"$f":"COUNTIF($B$3:B104,B104)","v":102},"修士課程102",{"$f":"'「志願先」欄  選択一覧'!C104","v":"経営学研究科"},{"$f":"COUNTIF($E$3:E104,E104)","v":12},"経営学研究科12",{"$f":"'「志願先」欄  選択一覧'!D104","v":"経営学専攻"},"修士課程経営学専攻",{"$f":"COUNTIF($I$3:I104,I104)","v":12},"修士課程経営学専攻12",{"$f":"'「志願先」欄  選択一覧'!E104","v":"社会人入試"},"修士課程経営学専攻社会人入試",{"$f":"COUNTIF($M$3:M104,M104)","v":3},"修士課程経営学専攻社会人入試3","修士課程経営学研究科経営学専攻社会人入試",{"$f":"'「志願先」欄  選択一覧'!F104","v":"マーケティングコース"},null,null,93,"",{"$f":"IF(COUNTIF($U$12:U104,U104)=1,V103+1,V103)","v":1},"",{"$error":"#N/A"},{"$f":"IF(COUNTIF($X$12:X104,X104)=1,Y103+1,Y103)","v":1},"",{"$error":"#N/A"},{"$f":"IF(COUNTIF($AA$12:AA104,AA104)=1,AB103+1,AB103)","v":1},"","",{"$f":"IF(COUNTIF($AD$12:AD104,AD104)=1,AE103+1,AE103)","v":1},""]
[{"$f":"'「志願先」欄  選択一覧'!A105","v":103},{"$f":"'「志願先」欄  選択一覧'!B105","v":"修士課程"},{"$f":"COUNTIF($B$3:B105,B105)","v":103},"修士課程103",{"$f":"'「志願先」欄  選択一覧'!C105","v":"経営学研究科"},{"$f":"COUNTIF($E$3:E105,E105)","v":13},"経営学研究科13",{"$f":"'「志願先」欄  選択一覧'!D105","v":"経営学専攻"},"修士課程経営学専攻",{"$f":"COUNTIF($I$3:I105,I105)","v":13},"修士課程経営学専攻13",{"$f":"'「志願先」欄  選択一覧'!E105","v":"社会人入試"},"修士課程経営学専攻社会人入試",{"$f":"COUNTIF($M$3:M105,M105)","v":4},"修士課程経営学専攻社会人入試4","修士課程経営学研究科経営学専攻社会人入試",{"$f":"'「志願先」欄  選択一覧'!F105","v":"アカウンティング・ファイナンスコース"},null,null,94,"",{"$f":"IF(COUNTIF($U$12:U105,U105)=1,V104+1,V104)","v":1},"",{"$error":"#N/A"},{"$f":"IF(COUNTIF($X$12:X105,X105)=1,Y104+1,Y104)","v":1},"",{"$error":"#N/A"},{"$f":"IF(COUNTIF($AA$12:AA105,AA105)=1,AB104+1,AB104)","v":1},"","",{"$f":"IF(COUNTIF($AD$12:AD105,AD105)=1,AE104+1,AE104)","v":1},""]
[{"$f":"'「志願先」欄  選択一覧'!A106","v":104},{"$f":"'「志願先」欄  選択一覧'!B106","v":"修士課程"},{"$f":"COUNTIF($B$3:B106,B106)","v":104},"修士課程104",{"$f":"'「志願先」欄  選択一覧'!C106","v":"キャリアデザイン学研究科"},{"$f":"COUNTIF($E$3:E106,E106)","v":1},"キャリアデザイン学研究科1",{"$f":"'「志願先」欄  選択一覧'!D106","v":"キャリアデザイン学専攻"},"修士課程キャリアデザイン学専攻",{"$f":"COUNTIF($I$3:I106,I106)","v":1},"修士課程キャリアデザイン学専攻1",{"$f":"'「志願先」欄  選択一覧'!E106","v":"一般入試"},"修士課程キャリアデザイン学専攻一般入試",{"$f":"COUNTIF($M$3:M106,M106)","v":1},"修士課程キャリアデザイン学専攻一般入試1","修士課程キャリアデザイン学研究科キャリアデザイン学専攻一般入試",{"$f":"'「志願先」欄  選択一覧'!F106","v":"キャリア教育・発達プログラム"},null,null,95,"",{"$f":"IF(COUNTIF($U$12:U106,U106)=1,V105+1,V105)","v":1},"",{"$error":"#N/A"},{"$f":"IF(COUNTIF($X$12:X106,X106)=1,Y105+1,Y105)","v":1},"",{"$error":"#N/A"},{"$f":"IF(COUNTIF($AA$12:AA106,AA106)=1,AB105+1,AB105)","v":1},"","",{"$f":"IF(COUNTIF($AD$12:AD106,AD106)=1,AE105+1,AE105)","v":1},""]
[{"$f":"'「志願先」欄  選択一覧'!A107","v":105},{"$f":"'「志願先」欄  選択一覧'!B107","v":"修士課程"},{"$f":"COUNTIF($B$3:B107,B107)","v":105},"修士課程105",{"$f":"'「志願先」欄  選択一覧'!C107","v":"キャリアデザイン学研究科"},{"$f":"COUNTIF($E$3:E107,E107)","v":2},"キャリアデザイン学研究科2",{"$f":"'「志願先」欄  選択一覧'!D107","v":"キャリアデザイン学専攻"},"修士課程キャリアデザイン学専攻",{"$f":"COUNTIF($I$3:I107,I107)","v":2},"修士課程キャリアデザイン学専攻2",{"$f":"'「志願先」欄  選択一覧'!E107","v":"一般入試"},"修士課程キャリアデザイン学専攻一般入試",{"$f":"COUNTIF($M$3:M107,M107)","v":2},"修士課程キャリアデザイン学専攻一般入試2","修士課程キャリアデザイン学研究科キャリアデザイン学専攻一般入試",{"$f":"'「志願先」欄  選択一覧'!F107","v":"ビジネスキャリアプログラム"},null,null,96,"",{"$f":"IF(COUNTIF($U$12:U107,U107)=1,V106+1,V106)","v":1},"",{"$error":"#N/A"},{"$f":"IF(COUNTIF($X$12:X107,X107)=1,Y106+1,Y106)","v":1},"",{"$error":"#N/A"},{"$f":"IF(COUNTIF($AA$12:AA107,AA107)=1,AB106+1,AB106)","v":1},"","",{"$f":"IF(COUNTIF($AD$12:AD107,AD107)=1,AE106+1,AE106)","v":1},""]
[{"$f":"'「志願先」欄  選択一覧'!A108","v":106},{"$f":"'「志願先」欄  選択一覧'!B108","v":"修士課程"},{"$f":"COUNTIF($B$3:B108,B108)","v":106},"修士課程106",{"$f":"'「志願先」欄  選択一覧'!C108","v":"公共政策研究科"},{"$f":"COUNTIF($E$3:E108,E108)","v":1},"公共政策研究科1",{"$f":"'「志願先」欄  選択一覧'!D108","v":"公共政策学専攻"},"修士課程公共政策学専攻",{"$f":"COUNTIF($I$3:I108,I108)","v":1},"修士課程公共政策学専攻1",{"$f":"'「志願先」欄  選択一覧'!E108","v":"一般入試"},"修士課程公共政策学専攻一般入試",{"$f":"COUNTIF($M$3:M108,M108)","v":1},"修士課程公共政策学専攻一般入試1","修士課程公共政策研究科公共政策学専攻一般入試",{"$f":"'「志願先」欄  選択一覧'!F108","v":"公共マネジメントコース"},null,null,97,"",{"$f":"IF(COUNTIF($U$12:U108,U108)=1,V107+1,V107)","v":1},"",{"$error":"#N/A"},{"$f":"IF(COUNTIF($X$12:X108,X108)=1,Y107+1,Y107)","v":1},"",{"$error":"#N/A"},{"$f":"IF(COUNTIF($AA$12:AA108,AA108)=1,AB107+1,AB107)","v":1},"","",{"$f":"IF(COUNTIF($AD$12:AD108,AD108)=1,AE107+1,AE107)","v":1},""]
[{"$f":"'「志願先」欄  選択一覧'!A109","v":107},{"$f":"'「志願先」欄  選択一覧'!B109","v":"修士課程"},{"$f":"COUNTIF($B$3:B109,B109)","v":107},"修士課程107",{"$f":"'「志願先」欄  選択一覧'!C109","v":"公共政策研究科"},{"$f":"COUNTIF($E$3:E109,E109)","v":2},"公共政策研究科2",{"$f":"'「志願先」欄  選択一覧'!D109","v":"公共政策学専攻"},"修士課程公共政策学専攻",{"$f":"COUNTIF($I$3:I109,I109)","v":2},"修士課程公共政策学専攻2",{"$f":"'「志願先」欄  選択一覧'!E109","v":"一般入試"},"修士課程公共政策学専攻一般入試",{"$f":"COUNTIF($M$3:M109,M109)","v":2},"修士課程公共政策学専攻一般入試2","修士課程公共政策研究科公共政策学専攻一般入試",{"$f":"'「志願先」欄  選択一覧'!F109","v":"政策研究コース"},null,null,98,"",{"$f":"IF(COUNTIF($U$12:U109,U109)=1,V108+1,V108)","v":1},"",{"$error":"#N/A"},{"$f":"IF(COUNTIF($X$12:X109,X109)=1,Y108+1,Y108)","v":1},"",{"$error":"#N/A"},{"$f":"IF(COUNTIF($AA$12:AA109,AA109)=1,AB108+1,AB108)","v":1},"","",{"$f":"IF(COUNTIF($AD$12:AD109,AD109)=1,AE108+1,AE108)","v":1},""]
[{"$f":"'「志願先」欄  選択一覧'!A110","v":108},{"$f":"'「志願先」欄  選択一覧'!B110","v":"修士課程"},{"$f":"COUNTIF($B$3:B110,B110)","v":108},"修士課程108",{"$f":"'「志願先」欄  選択一覧'!C110","v":"公共政策研究科"},{"$f":"COUNTIF($E$3:E110,E110)","v":3},"公共政策研究科3",{"$f":"'「志願先」欄  選択一覧'!D110","v":"サステイナビリティ学専攻"},"修士課程サステイナビリティ学専攻",{"$f":"COUNTIF($I$3:I110,I110)","v":1},"修士課程サステイナビリティ学専攻1",{"$f":"'「志願先」欄  選択一覧'!E110","v":"一般入試"},"修士課程サステイナビリティ学専攻一般入試",{"$f":"COUNTIF($M$3:M110,M110)","v":1},"修士課程サステイナビリティ学専攻一般入試1","修士課程公共政策研究科サステイナビリティ学専攻一般入試",{"$f":"'「志願先」欄  選択一覧'!F110","v":"なし"},null,null,99,"",{"$f":"IF(COUNTIF($U$12:U110,U110)=1,V109+1,V109)","v":1},"",{"$error":"#N/A"},{"$f":"IF(COUNTIF($X$12:X110,X110)=1,Y109+1,Y109)","v":1},"",{"$error":"#N/A"},{"$f":"IF(COUNTIF($AA$12:AA110,AA110)=1,AB109+1,AB109)","v":1},"","",{"$f":"IF(COUNTIF($AD$12:AD110,AD110)=1,AE109+1,AE109)","v":1},""]
[{"$f":"'「志願先」欄  選択一覧'!A111","v":109},{"$f":"'「志願先」欄  選択一覧'!B111","v":"修士課程"},{"$f":"COUNTIF($B$3:B111,B111)","v":109},"修士課程109",{"$f":"'「志願先」欄  選択一覧'!C111","v":"公共政策研究科"},{"$f":"COUNTIF($E$3:E111,E111)","v":4},"公共政策研究科4",{"$f":"'「志願先」欄  選択一覧'!D111","v":"公共政策学専攻"},"修士課程公共政策学専攻",{"$f":"COUNTIF($I$3:I111,I111)","v":3},"修士課程公共政策学専攻3",{"$f":"'「志願先」欄  選択一覧'!E111","v":"社会人入試"},"修士課程公共政策学専攻社会人入試",{"$f":"COUNTIF($M$3:M111,M111)","v":1},"修士課程公共政策学専攻社会人入試1","修士課程公共政策研究科公共政策学専攻社会人入試",{"$f":"'「志願先」欄  選択一覧'!F111","v":"公共マネジメントコース"},null,null,100,"",{"$f":"IF(COUNTIF($U$12:U111,U111)=1,V110+1,V110)","v":1},"",{"$error":"#N/A"},{"$f":"IF(COUNTIF($X$12:X111,X111)=1,Y110+1,Y110)","v":1},"",{"$error":"#N/A"},{"$f":"IF(COUNTIF($AA$12:AA111,AA111)=1,AB110+1,AB110)","v":1},"","",{"$f":"IF(COUNTIF($AD$12:AD111,AD111)=1,AE110+1,AE110)","v":1},""]
[{"$f":"'「志願先」欄  選択一覧'!A112","v":110},{"$f":"'「志願先」欄  選択一覧'!B112","v":"修士課程"},{"$f":"COUNTIF($B$3:B112,B112)","v":110},"修士課程110",{"$f":"'「志願先」欄  選択一覧'!C112","v":"公共政策研究科"},{"$f":"COUNTIF($E$3:E112,E112)","v":5},"公共政策研究科5",{"$f":"'「志願先」欄  選択一覧'!D112","v":"公共政策学専攻"},"修士課程公共政策学専攻",{"$f":"COUNTIF($I$3:I112,I112)","v":4},"修士課程公共政策学専攻4",{"$f":"'「志願先」欄  選択一覧'!E112","v":"社会人入試"},"修士課程公共政策学専攻社会人入試",{"$f":"COUNTIF($M$3:M112,M112)","v":2},"修士課程公共政策学専攻社会人入試2","修士課程公共政策研究科公共政策学専攻社会人入試",{"$f":"'「志願先」欄  選択一覧'!F112","v":"政策研究コース"},null,null,101,"",{"$f":"IF(COUNTIF($U$12:U112,U112)=1,V111+1,V111)","v":1},"",{"$error":"#N/A"},{"$f":"IF(COUNTIF($X$12:X112,X112)=1,Y111+1,Y111)","v":1},"",{"$error":"#N/A"},{"$f":"IF(COUNTIF($AA$12:AA112,AA112)=1,AB111+1,AB111)","v":1},"","",{"$f":"IF(COUNTIF($AD$12:AD112,AD112)=1,AE111+1,AE111)","v":1},""]
[{"$f":"'「志願先」欄  選択一覧'!A113","v":111},{"$f":"'「志願先」欄  選択一覧'!B113","v":"修士課程"},{"$f":"COUNTIF($B$3:B113,B113)","v":111},"修士課程111",{"$f":"'「志願先」欄  選択一覧'!C113","v":"公共政策研究科"},{"$f":"COUNTIF($E$3:E113,E113)","v":6},"公共政策研究科6",{"$f":"'「志願先」欄  選択一覧'!D113","v":"サステイナビリティ学専攻"},"修士課程サステイナビリティ学専攻",{"$f":"COUNTIF($I$3:I113,I113)","v":2},"修士課程サステイナビリティ学専攻2",{"$f":"'「志願先」欄  選択一覧'!E113","v":"社会人入試"},"修士課程サステイナビリティ学専攻社会人入試",{"$f":"COUNTIF($M$3:M113,M113)","v":1},"修士課程サステイナビリティ学専攻社会人入試1","修士課程公共政策研究科サステイナビリティ学専攻社会人入試",{"$f":"'「志願先」欄  選択一覧'!F113","v":"なし"},null,null,102,"",{"$f":"IF(COUNTIF($U$12:U113,U113)=1,V112+1,V112)","v":1},"",{"$error":"#N/A"},{"$f":"IF(COUNTIF($X$12:X113,X113)=1,Y112+1,Y112)","v":1},"",{"$error":"#N/A"},{"$f":"IF(COUNTIF($AA$12:AA113,AA113)=1,AB112+1,AB112)","v":1},"","",{"$f":"IF(COUNTIF($AD$12:AD113,AD113)=1,AE112+1,AE112)","v":1},""]
[{"$f":"'「志願先」欄  選択一覧'!A114","v":112},{"$f":"'「志願先」欄  選択一覧'!B114","v":"修士課程"},{"$f":"COUNTIF($B$3:B114,B114)","v":112},"修士課程112",{"$f":"'「志願先」欄  選択一覧'!C114","v":"連帯社会インスティテュート"},{"$f":"COUNTIF($E$3:E114,E114)","v":1},"連帯社会インスティテュート1",{"$f":"'「志願先」欄  選択一覧'!D114","v":"所属専攻：政治学専攻"},"修士課程所属専攻：政治学専攻",{"$f":"COUNTIF($I$3:I114,I114)","v":1},"修士課程所属専攻：政治学専攻1",{"$f":"'「志願先」欄  選択一覧'!E114","v":"一般入試"},"修士課程所属専攻：政治学専攻一般入試",{"$f":"COUNTIF($M$3:M114,M114)","v":1},"修士課程所属専攻：政治学専攻一般入試1","修士課程連帯社会インスティテュート所属専攻：政治学専攻一般入試",{"$f":"'「志願先」欄  選択一覧'!F114","v":"労働組合プログラム"},null,null,103,"",{"$f":"IF(COUNTIF($U$12:U114,U114)=1,V113+1,V113)","v":1},"",{"$error":"#N/A"},{"$f":"IF(COUNTIF($X$12:X114,X114)=1,Y113+1,Y113)","v":1},"",{"$error":"#N/A"},{"$f":"IF(COUNTIF($AA$12:AA114,AA114)=1,AB113+1,AB113)","v":1},"","",{"$f":"IF(COUNTIF($AD$12:AD114,AD114)=1,AE113+1,AE113)","v":1},""]
[{"$f":"'「志願先」欄  選択一覧'!A115","v":113},{"$f":"'「志願先」欄  選択一覧'!B115","v":"修士課程"},{"$f":"COUNTIF($B$3:B115,B115)","v":113},"修士課程113",{"$f":"'「志願先」欄  選択一覧'!C115","v":"連帯社会インスティテュート"},{"$f":"COUNTIF($E$3:E115,E115)","v":2},"連帯社会インスティテュート2",{"$f":"'「志願先」欄  選択一覧'!D115","v":"所属専攻：公共政策学専攻"},"修士課程所属専攻：公共政策学専攻",{"$f":"COUNTIF($I$3:I115,I115)","v":1},"修士課程所属専攻：公共政策学専攻1",{"$f":"'「志願先」欄  選択一覧'!E115","v":"一般入試"},"修士課程所属専攻：公共政策学専攻一般入試",{"$f":"COUNTIF($M$3:M115,M115)","v":1},"修士課程所属専攻：公共政策学専攻一般入試1","修士課程連帯社会インスティテュート所属専攻：公共政策学専攻一般入試",{"$f":"'「志願先」欄  選択一覧'!F115","v":"労働組合プログラム"},null,null,104,"",{"$f":"IF(COUNTIF($U$12:U115,U115)=1,V114+1,V114)","v":1},"",{"$error":"#N/A"},{"$f":"IF(COUNTIF($X$12:X115,X115)=1,Y114+1,Y114)","v":1},"",{"$error":"#N/A"},{"$f":"IF(COUNTIF($AA$12:AA115,AA115)=1,AB114+1,AB114)","v":1},"","",{"$f":"IF(COUNTIF($AD$12:AD115,AD115)=1,AE114+1,AE114)","v":1},""]
[{"$f":"'「志願先」欄  選択一覧'!A116","v":114},{"$f":"'「志願先」欄  選択一覧'!B116","v":"修士課程"},{"$f":"COUNTIF($B$3:B116,B116)","v":114},"修士課程114",{"$f":"'「志願先」欄  選択一覧'!C116","v":"連帯社会インスティテュート"},{"$f":"COUNTIF($E$3:E116,E116)","v":3},"連帯社会インスティテュート3",{"$f":"'「志願先」欄  選択一覧'!D116","v":"所属専攻：政治学専攻"},"修士課程所属専攻：政治学専攻",{"$f":"COUNTIF($I$3:I116,I116)","v":2},"修士課程所属専攻：政治学専攻2",{"$f":"'「志願先」欄  選択一覧'!E116","v":"一般入試"},"修士課程所属専攻：政治学専攻一般入試",{"$f":"COUNTIF($M$3:M116,M116)","v":2},"修士課程所属専攻：政治学専攻一般入試2","修士課程連帯社会インスティテュート所属専攻：政治学専攻一般入試",{"$f":"'「志願先」欄  選択一覧'!F116","v":"協同組合プログラム"},null,null,105,"",{"$f":"IF(COUNTIF($U$12:U116,U116)=1,V115+1,V115)","v":1},"",{"$error":"#N/A"},{"$f":"IF(COUNTIF($X$12:X116,X116)=1,Y115+1,Y115)","v":1},"",{"$error":"#N/A"},{"$f":"IF(COUNTIF($AA$12:AA116,AA116)=1,AB115+1,AB115)","v":1},"","",{"$f":"IF(COUNTIF($AD$12:AD116,AD116)=1,AE115+1,AE115)","v":1},""]
[{"$f":"'「志願先」欄  選択一覧'!A117","v":115},{"$f":"'「志願先」欄  選択一覧'!B117","v":"修士課程"},{"$f":"COUNTIF($B$3:B117,B117)","v":115},"修士課程115",{"$f":"'「志願先」欄  選択一覧'!C117","v":"連帯社会インスティテュート"},{"$f":"COUNTIF($E$3:E117,E117)","v":4},"連帯社会インスティテュート4",{"$f":"'「志願先」欄  選択一覧'!D117","v":"所属専攻：公共政策学専攻"},"修士課程所属専攻：公共政策学専攻",{"$f":"COUNTIF($I$3:I117,I117)","v":2},"修士課程所属専攻：公共政策学専攻2",{"$f":"'「志願先」欄  選択一覧'!E117","v":"一般入試"},"修士課程所属専攻：公共政策学専攻一般入試",{"$f":"COUNTIF($M$3:M117,M117)","v":2},"修士課程所属専攻：公共政策学専攻一般入試2","修士課程連帯社会インスティテュート所属専攻：公共政策学専攻一般入試",{"$f":"'「志願先」欄  選択一覧'!F117","v":"協同組合プログラム"},null,null,106,"",{"$f":"IF(COUNTIF($U$12:U117,U117)=1,V116+1,V116)","v":1},"",{"$error":"#N/A"},{"$f":"IF(COUNTIF($X$12:X117,X117)=1,Y116+1,Y116)","v":1},"",{"$error":"#N/A"},{"$f":"IF(COUNTIF($AA$12:AA117,AA117)=1,AB116+1,AB116)","v":1},"","",{"$f":"IF(COUNTIF($AD$12:AD117,AD117)=1,AE116+1,AE116)","v":1},""]
[{"$f":"'「志願先」欄  選択一覧'!A118","v":116},{"$f":"'「志願先」欄  選択一覧'!B118","v":"修士課程"},{"$f":"COUNTIF($B$3:B118,B118)","v":116},"修士課程116",{"$f":"'「志願先」欄  選択一覧'!C118","v":"連帯社会インスティテュート"},{"$f":"COUNTIF($E$3:E118,E118)","v":5},"連帯社会インスティテュート5",{"$f":"'「志願先」欄  選択一覧'!D118","v":"所属専攻：政治学専攻"},"修士課程所属専攻：政治学専攻",{"$f":"COUNTIF($I$3:I118,I118)","v":3},"修士課程所属専攻：政治学専攻3",{"$f":"'「志願先」欄  選択一覧'!E118","v":"一般入試"},"修士課程所属専攻：政治学専攻一般入試",{"$f":"COUNTIF($M$3:M118,M118)","v":3},"修士課程所属専攻：政治学専攻一般入試3","修士課程連帯社会インスティテュート所属専攻：政治学専攻一般入試",{"$f":"'「志願先」欄  選択一覧'!F118","v":"NPOプログラム"},null,null,107,"",{"$f":"IF(COUNTIF($U$12:U118,U118)=1,V117+1,V117)","v":1},"",{"$error":"#N/A"},{"$f":"IF(COUNTIF($X$12:X118,X118)=1,Y117+1,Y117)","v":1},"",{"$error":"#N/A"},{"$f":"IF(COUNTIF($AA$12:AA118,AA118)=1,AB117+1,AB117)","v":1},"","",{"$f":"IF(COUNTIF($AD$12:AD118,AD118)=1,AE117+1,AE117)","v":1},""]
[{"$f":"'「志願先」欄  選択一覧'!A119","v":117},{"$f":"'「志願先」欄  選択一覧'!B119","v":"修士課程"},{"$f":"COUNTIF($B$3:B119,B119)","v":117},"修士課程117",{"$f":"'「志願先」欄  選択一覧'!C119","v":"連帯社会インスティテュート"},{"$f":"COUNTIF($E$3:E119,E119)","v":6},"連帯社会インスティテュート6",{"$f":"'「志願先」欄  選択一覧'!D119","v":"所属専攻：公共政策学専攻"},"修士課程所属専攻：公共政策学専攻",{"$f":"COUNTIF($I$3:I119,I119)","v":3},"修士課程所属専攻：公共政策学専攻3",{"$f":"'「志願先」欄  選択一覧'!E119","v":"一般入試"},"修士課程所属専攻：公共政策学専攻一般入試",{"$f":"COUNTIF($M$3:M119,M119)","v":3},"修士課程所属専攻：公共政策学専攻一般入試3","修士課程連帯社会インスティテュート所属専攻：公共政策学専攻一般入試",{"$f":"'「志願先」欄  選択一覧'!F119","v":"NPOプログラム"},null,null,108,"",{"$f":"IF(COUNTIF($U$12:U119,U119)=1,V118+1,V118)","v":1},"",{"$error":"#N/A"},{"$f":"IF(COUNTIF($X$12:X119,X119)=1,Y118+1,Y118)","v":1},"",{"$error":"#N/A"},{"$f":"IF(COUNTIF($AA$12:AA119,AA119)=1,AB118+1,AB118)","v":1},"","",{"$f":"IF(COUNTIF($AD$12:AD119,AD119)=1,AE118+1,AE118)","v":1},""]
[{"$f":"'「志願先」欄  選択一覧'!A120","v":118},{"$f":"'「志願先」欄  選択一覧'!B120","v":"修士課程"},{"$f":"COUNTIF($B$3:B120,B120)","v":118},"修士課程118",{"$f":"'「志願先」欄  選択一覧'!C120","v":"連帯社会インスティテュート"},{"$f":"COUNTIF($E$3:E120,E120)","v":7},"連帯社会インスティテュート7",{"$f":"'「志願先」欄  選択一覧'!D120","v":"所属専攻：政治学専攻"},"修士課程所属専攻：政治学専攻",{"$f":"COUNTIF($I$3:I120,I120)","v":4},"修士課程所属専攻：政治学専攻4",{"$f":"'「志願先」欄  選択一覧'!E120","v":"社会人入試"},"修士課程所属専攻：政治学専攻社会人入試",{"$f":"COUNTIF($M$3:M120,M120)","v":1},"修士課程所属専攻：政治学専攻社会人入試1","修士課程連帯社会インスティテュート所属専攻：政治学専攻社会人入試",{"$f":"'「志願先」欄  選択一覧'!F120","v":"労働組合プログラム"},null,null,109,"",{"$f":"IF(COUNTIF($U$12:U120,U120)=1,V119+1,V119)","v":1},"",{"$error":"#N/A"},{"$f":"IF(COUNTIF($X$12:X120,X120)=1,Y119+1,Y119)","v":1},"",{"$error":"#N/A"},{"$f":"IF(COUNTIF($AA$12:AA120,AA120)=1,AB119+1,AB119)","v":1},"","",{"$f":"IF(COUNTIF($AD$12:AD120,AD120)=1,AE119+1,AE119)","v":1},""]
[{"$f":"'「志願先」欄  選択一覧'!A121","v":119},{"$f":"'「志願先」欄  選択一覧'!B121","v":"修士課程"},{"$f":"COUNTIF($B$3:B121,B121)","v":119},"修士課程119",{"$f":"'「志願先」欄  選択一覧'!C121","v":"連帯社会インスティテュート"},{"$f":"COUNTIF($E$3:E121,E121)","v":8},"連帯社会インスティテュート8",{"$f":"'「志願先」欄  選択一覧'!D121","v":"所属専攻：公共政策学専攻"},"修士課程所属専攻：公共政策学専攻",{"$f":"COUNTIF($I$3:I121,I121)","v":4},"修士課程所属専攻：公共政策学専攻4",{"$f":"'「志願先」欄  選択一覧'!E121","v":"社会人入試"},"修士課程所属専攻：公共政策学専攻社会人入試",{"$f":"COUNTIF($M$3:M121,M121)","v":1},"修士課程所属専攻：公共政策学専攻社会人入試1","修士課程連帯社会インスティテュート所属専攻：公共政策学専攻社会人入試",{"$f":"'「志願先」欄  選択一覧'!F121","v":"労働組合プログラム"},null,null,110,"",{"$f":"IF(COUNTIF($U$12:U121,U121)=1,V120+1,V120)","v":1},"",{"$error":"#N/A"},{"$f":"IF(COUNTIF($X$12:X121,X121)=1,Y120+1,Y120)","v":1},"",{"$error":"#N/A"},{"$f":"IF(COUNTIF($AA$12:AA121,AA121)=1,AB120+1,AB120)","v":1},"","",{"$f":"IF(COUNTIF($AD$12:AD121,AD121)=1,AE120+1,AE120)","v":1},""]
[{"$f":"'「志願先」欄  選択一覧'!A122","v":120},{"$f":"'「志願先」欄  選択一覧'!B122","v":"修士課程"},{"$f":"COUNTIF($B$3:B122,B122)","v":120},"修士課程120",{"$f":"'「志願先」欄  選択一覧'!C122","v":"連帯社会インスティテュート"},{"$f":"COUNTIF($E$3:E122,E122)","v":9},"連帯社会インスティテュート9",{"$f":"'「志願先」欄  選択一覧'!D122","v":"所属専攻：政治学専攻"},"修士課程所属専攻：政治学専攻",{"$f":"COUNTIF($I$3:I122,I122)","v":5},"修士課程所属専攻：政治学専攻5",{"$f":"'「志願先」欄  選択一覧'!E122","v":"社会人入試"},"修士課程所属専攻：政治学専攻社会人入試",{"$f":"COUNTIF($M$3:M122,M122)","v":2},"修士課程所属専攻：政治学専攻社会人入試2","修士課程連帯社会インスティテュート所属専攻：政治学専攻社会人入試",{"$f":"'「志願先」欄  選択一覧'!F122","v":"協同組合プログラム"},null,null,111,"",{"$f":"IF(COUNTIF($U$12:U122,U122)=1,V121+1,V121)","v":1},"",{"$error":"#N/A"},{"$f":"IF(COUNTIF($X$12:X122,X122)=1,Y121+1,Y121)","v":1},"",{"$error":"#N/A"},{"$f":"IF(COUNTIF($AA$12:AA122,AA122)=1,AB121+1,AB121)","v":1},"","",{"$f":"IF(COUNTIF($AD$12:AD122,AD122)=1,AE121+1,AE121)","v":1},""]
[{"$f":"'「志願先」欄  選択一覧'!A123","v":121},{"$f":"'「志願先」欄  選択一覧'!B123","v":"修士課程"},{"$f":"COUNTIF($B$3:B123,B123)","v":121},"修士課程121",{"$f":"'「志願先」欄  選択一覧'!C123","v":"連帯社会インスティテュート"},{"$f":"COUNTIF($E$3:E123,E123)","v":10},"連帯社会インスティテュート10",{"$f":"'「志願先」欄  選択一覧'!D123","v":"所属専攻：公共政策学専攻"},"修士課程所属専攻：公共政策学専攻",{"$f":"COUNTIF($I$3:I123,I123)","v":5},"修士課程所属専攻：公共政策学専攻5",{"$f":"'「志願先」欄  選択一覧'!E123","v":"社会人入試"},"修士課程所属専攻：公共政策学専攻社会人入試",{"$f":"COUNTIF($M$3:M123,M123)","v":2},"修士課程所属専攻：公共政策学専攻社会人入試2","修士課程連帯社会インスティテュート所属専攻：公共政策学専攻社会人入試",{"$f":"'「志願先」欄  選択一覧'!F123","v":"協同組合プログラム"},null,null,112,"",{"$f":"IF(COUNTIF($U$12:U123,U123)=1,V122+1,V122)","v":1},"",{"$error":"#N/A"},{"$f":"IF(COUNTIF($X$12:X123,X123)=1,Y122+1,Y122)","v":1},"",{"$error":"#N/A"},{"$f":"IF(COUNTIF($AA$12:AA123,AA123)=1,AB122+1,AB122)","v":1},"","",{"$f":"IF(COUNTIF($AD$12:AD123,AD123)=1,AE122+1,AE122)","v":1},""]
[{"$f":"'「志願先」欄  選択一覧'!A124","v":122},{"$f":"'「志願先」欄  選択一覧'!B124","v":"修士課程"},{"$f":"COUNTIF($B$3:B124,B124)","v":122},"修士課程122",{"$f":"'「志願先」欄  選択一覧'!C124","v":"連帯社会インスティテュート"},{"$f":"COUNTIF($E$3:E124,E124)","v":11},"連帯社会インスティテュート11",{"$f":"'「志願先」欄  選択一覧'!D124","v":"所属専攻：政治学専攻"},"修士課程所属専攻：政治学専攻",{"$f":"COUNTIF($I$3:I124,I124)","v":6},"修士課程所属専攻：政治学専攻6",{"$f":"'「志願先」欄  選択一覧'!E124","v":"社会人入試"},"修士課程所属専攻：政治学専攻社会人入試",{"$f":"COUNTIF($M$3:M124,M124)","v":3},"修士課程所属専攻：政治学専攻社会人入試3","修士課程連帯社会インスティテュート所属専攻：政治学専攻社会人入試",{"$f":"'「志願先」欄  選択一覧'!F124","v":"NPOプログラム"},null,null,113,"",{"$f":"IF(COUNTIF($U$12:U124,U124)=1,V123+1,V123)","v":1},"",{"$error":"#N/A"},{"$f":"IF(COUNTIF($X$12:X124,X124)=1,Y123+1,Y123)","v":1},"",{"$error":"#N/A"},{"$f":"IF(COUNTIF($AA$12:AA124,AA124)=1,AB123+1,AB123)","v":1},"","",{"$f":"IF(COUNTIF($AD$12:AD124,AD124)=1,AE123+1,AE123)","v":1},""]
[{"$f":"'「志願先」欄  選択一覧'!A125","v":123},{"$f":"'「志願先」欄  選択一覧'!B125","v":"修士課程"},{"$f":"COUNTIF($B$3:B125,B125)","v":123},"修士課程123",{"$f":"'「志願先」欄  選択一覧'!C125","v":"連帯社会インスティテュート"},{"$f":"COUNTIF($E$3:E125,E125)","v":12},"連帯社会インスティテュート12",{"$f":"'「志願先」欄  選択一覧'!D125","v":"所属専攻：公共政策学専攻"},"修士課程所属専攻：公共政策学専攻",{"$f":"COUNTIF($I$3:I125,I125)","v":6},"修士課程所属専攻：公共政策学専攻6",{"$f":"'「志願先」欄  選択一覧'!E125","v":"社会人入試"},"修士課程所属専攻：公共政策学専攻社会人入試",{"$f":"COUNTIF($M$3:M125,M125)","v":3},"修士課程所属専攻：公共政策学専攻社会人入試3","修士課程連帯社会インスティテュート所属専攻：公共政策学専攻社会人入試",{"$f":"'「志願先」欄  選択一覧'!F125","v":"NPOプログラム"},null,null,114,"",{"$f":"IF(COUNTIF($U$12:U125,U125)=1,V124+1,V124)","v":1},"",{"$error":"#N/A"},{"$f":"IF(COUNTIF($X$12:X125,X125)=1,Y124+1,Y124)","v":1},"",{"$error":"#N/A"},{"$f":"IF(COUNTIF($AA$12:AA125,AA125)=1,AB124+1,AB124)","v":1},"","",{"$f":"IF(COUNTIF($AD$12:AD125,AD125)=1,AE124+1,AE124)","v":1},""]
[{"$f":"'「志願先」欄  選択一覧'!A126","v":124},{"$f":"'「志願先」欄  選択一覧'!B126","v":"修士課程"},{"$f":"COUNTIF($B$3:B126,B126)","v":124},"修士課程124",{"$f":"'「志願先」欄  選択一覧'!C126","v":"連帯社会インスティテュート"},{"$f":"COUNTIF($E$3:E126,E126)","v":13},"連帯社会インスティテュート13",{"$f":"'「志願先」欄  選択一覧'!D126","v":"所属専攻：政治学専攻"},"修士課程所属専攻：政治学専攻",{"$f":"COUNTIF($I$3:I126,I126)","v":7},"修士課程所属専攻：政治学専攻7",{"$f":"'「志願先」欄  選択一覧'!E126","v":"指定団体推薦社会人入試"},"修士課程所属専攻：政治学専攻指定団体推薦社会人入試",{"$f":"COUNTIF($M$3:M126,M126)","v":1},"修士課程所属専攻：政治学専攻指定団体推薦社会人入試1","修士課程連帯社会インスティテュート所属専攻：政治学専攻指定団体推薦社会人入試",{"$f":"'「志願先」欄  選択一覧'!F126","v":"労働組合プログラム"},null,null,115,"",{"$f":"IF(COUNTIF($U$12:U126,U126)=1,V125+1,V125)","v":1},"",{"$error":"#N/A"},{"$f":"IF(COUNTIF($X$12:X126,X126)=1,Y125+1,Y125)","v":1},"",{"$error":"#N/A"},{"$f":"IF(COUNTIF($AA$12:AA126,AA126)=1,AB125+1,AB125)","v":1},"","",{"$f":"IF(COUNTIF($AD$12:AD126,AD126)=1,AE125+1,AE125)","v":1},""]
[{"$f":"'「志願先」欄  選択一覧'!A127","v":125},{"$f":"'「志願先」欄  選択一覧'!B127","v":"修士課程"},{"$f":"COUNTIF($B$3:B127,B127)","v":125},"修士課程125",{"$f":"'「志願先」欄  選択一覧'!C127","v":"連帯社会インスティテュート"},{"$f":"COUNTIF($E$3:E127,E127)","v":14},"連帯社会インスティテュート14",{"$f":"'「志願先」欄  選択一覧'!D127","v":"所属専攻：公共政策学専攻"},"修士課程所属専攻：公共政策学専攻",{"$f":"COUNTIF($I$3:I127,I127)","v":7},"修士課程所属専攻：公共政策学専攻7",{"$f":"'「志願先」欄  選択一覧'!E127","v":"指定団体推薦社会人入試"},"修士課程所属専攻：公共政策学専攻指定団体推薦社会人入試",{"$f":"COUNTIF($M$3:M127,M127)","v":1},"修士課程所属専攻：公共政策学専攻指定団体推薦社会人入試1","修士課程連帯社会インスティテュート所属専攻：公共政策学専攻指定団体推薦社会人入試",{"$f":"'「志願先」欄  選択一覧'!F127","v":"労働組合プログラム"},null,null,116,"",{"$f":"IF(COUNTIF($U$12:U127,U127)=1,V126+1,V126)","v":1},"",{"$error":"#N/A"},{"$f":"IF(COUNTIF($X$12:X127,X127)=1,Y126+1,Y126)","v":1},"",{"$error":"#N/A"},{"$f":"IF(COUNTIF($AA$12:AA127,AA127)=1,AB126+1,AB126)","v":1},"","",{"$f":"IF(COUNTIF($AD$12:AD127,AD127)=1,AE126+1,AE126)","v":1},""]
[{"$f":"'「志願先」欄  選択一覧'!A128","v":126},{"$f":"'「志願先」欄  選択一覧'!B128","v":"修士課程"},{"$f":"COUNTIF($B$3:B128,B128)","v":126},"修士課程126",{"$f":"'「志願先」欄  選択一覧'!C128","v":"連帯社会インスティテュート"},{"$f":"COUNTIF($E$3:E128,E128)","v":15},"連帯社会インスティテュート15",{"$f":"'「志願先」欄  選択一覧'!D128","v":"所属専攻：政治学専攻"},"修士課程所属専攻：政治学専攻",{"$f":"COUNTIF($I$3:I128,I128)","v":8},"修士課程所属専攻：政治学専攻8",{"$f":"'「志願先」欄  選択一覧'!E128","v":"指定団体推薦社会人入試"},"修士課程所属専攻：政治学専攻指定団体推薦社会人入試",{"$f":"COUNTIF($M$3:M128,M128)","v":2},"修士課程所属専攻：政治学専攻指定団体推薦社会人入試2","修士課程連帯社会インスティテュート所属専攻：政治学専攻指定団体推薦社会人入試",{"$f":"'「志願先」欄  選択一覧'!F128","v":"協同組合プログラム"},null,null,117,"",{"$f":"IF(COUNTIF($U$12:U128,U128)=1,V127+1,V127)","v":1},"",{"$error":"#N/A"},{"$f":"IF(COUNTIF($X$12:X128,X128)=1,Y127+1,Y127)","v":1},"",{"$error":"#N/A"},{"$f":"IF(COUNTIF($AA$12:AA128,AA128)=1,AB127+1,AB127)","v":1},"","",{"$f":"IF(COUNTIF($AD$12:AD128,AD128)=1,AE127+1,AE127)","v":1},""]
[{"$f":"'「志願先」欄  選択一覧'!A129","v":127},{"$f":"'「志願先」欄  選択一覧'!B129","v":"修士課程"},{"$f":"COUNTIF($B$3:B129,B129)","v":127},"修士課程127",{"$f":"'「志願先」欄  選択一覧'!C129","v":"連帯社会インスティテュート"},{"$f":"COUNTIF($E$3:E129,E129)","v":16},"連帯社会インスティテュート16",{"$f":"'「志願先」欄  選択一覧'!D129","v":"所属専攻：公共政策学専攻"},"修士課程所属専攻：公共政策学専攻",{"$f":"COUNTIF($I$3:I129,I129)","v":8},"修士課程所属専攻：公共政策学専攻8",{"$f":"'「志願先」欄  選択一覧'!E129","v":"指定団体推薦社会人入試"},"修士課程所属専攻：公共政策学専攻指定団体推薦社会人入試",{"$f":"COUNTIF($M$3:M129,M129)","v":2},"修士課程所属専攻：公共政策学専攻指定団体推薦社会人入試2","修士課程連帯社会インスティテュート所属専攻：公共政策学専攻指定団体推薦社会人入試",{"$f":"'「志願先」欄  選択一覧'!F129","v":"協同組合プログラム"},null,null,118,"",{"$f":"IF(COUNTIF($U$12:U129,U129)=1,V128+1,V128)","v":1},"",{"$error":"#N/A"},{"$f":"IF(COUNTIF($X$12:X129,X129)=1,Y128+1,Y128)","v":1},"",{"$error":"#N/A"},{"$f":"IF(COUNTIF($AA$12:AA129,AA129)=1,AB128+1,AB128)","v":1},"","",{"$f":"IF(COUNTIF($AD$12:AD129,AD129)=1,AE128+1,AE128)","v":1},""]
[{"$f":"'「志願先」欄  選択一覧'!A130","v":128},{"$f":"'「志願先」欄  選択一覧'!B130","v":"修士課程"},{"$f":"COUNTIF($B$3:B130,B130)","v":128},"修士課程128",{"$f":"'「志願先」欄  選択一覧'!C130","v":"連帯社会インスティテュート"},{"$f":"COUNTIF($E$3:E130,E130)","v":17},{"$f":"E130&F130","v":"連帯社会インスティテュート17"},{"$f":"'「志願先」欄  選択一覧'!D130","v":"所属専攻：政治学専攻"},"修士課程所属専攻：政治学専攻",{"$f":"COUNTIF($I$3:I130,I130)","v":9},"修士課程所属専攻：政治学専攻9",{"$f":"'「志願先」欄  選択一覧'!E130","v":"指定団体推薦社会人入試"},"修士課程所属専攻：政治学専攻指定団体推薦社会人入試",{"$f":"COUNTIF($M$3:M130,M130)","v":3},{"$f":"B130&H130&L130&N130","v":"修士課程所属専攻：政治学専攻指定団体推薦社会人入試3"},"修士課程連帯社会インスティテュート所属専攻：政治学専攻指定団体推薦社会人入試",{"$f":"'「志願先」欄  選択一覧'!F130","v":"NPOプログラム"},null,null,119,"",{"$f":"IF(COUNTIF($U$12:U130,U130)=1,V129+1,V129)","v":1},"",{"$error":"#N/A"},{"$f":"IF(COUNTIF($X$12:X130,X130)=1,Y129+1,Y129)","v":1},"",{"$error":"#N/A"},{"$f":"IF(COUNTIF($AA$12:AA130,AA130)=1,AB129+1,AB129)","v":1},"","",{"$f":"IF(COUNTIF($AD$12:AD130,AD130)=1,AE129+1,AE129)","v":1},""]
[{"$f":"'「志願先」欄  選択一覧'!A131","v":129},{"$f":"'「志願先」欄  選択一覧'!B131","v":"修士課程"},{"$f":"COUNTIF($B$3:B131,B131)","v":129},{"$f":"B131&C131","v":"修士課程129"},{"$f":"'「志願先」欄  選択一覧'!C131","v":"連帯社会インスティテュート"},{"$f":"COUNTIF($E$3:E131,E131)","v":18},"連帯社会インスティテュート18",{"$f":"'「志願先」欄  選択一覧'!D131","v":"所属専攻：公共政策学専攻"},{"$f":"B131&H131","v":"修士課程所属専攻：公共政策学専攻"},{"$f":"COUNTIF($I$3:I131,I131)","v":9},{"$f":"B131&H131&J131","v":"修士課程所属専攻：公共政策学専攻9"},{"$f":"'「志願先」欄  選択一覧'!E131","v":"指定団体推薦社会人入試"},{"$f":"B131&H131&L131","v":"修士課程所属専攻：公共政策学専攻指定団体推薦社会人入試"},{"$f":"COUNTIF($M$3:M131,M131)","v":3},"修士課程所属専攻：公共政策学専攻指定団体推薦社会人入試3","修士課程連帯社会インスティテュート所属専攻：公共政策学専攻指定団体推薦社会人入試",{"$f":"'「志願先」欄  選択一覧'!F131","v":"NPOプログラム"},null,null,120,"",{"$f":"IF(COUNTIF($U$12:U131,U131)=1,V130+1,V130)","v":1},"",{"$error":"#N/A"},{"$f":"IF(COUNTIF($X$12:X131,X131)=1,Y130+1,Y130)","v":1},"",{"$error":"#N/A"},{"$f":"IF(COUNTIF($AA$12:AA131,AA131)=1,AB130+1,AB130)","v":1},"","",{"$f":"IF(COUNTIF($AD$12:AD131,AD131)=1,AE130+1,AE130)","v":1},""]
[{"$f":"'「志願先」欄  選択一覧'!A132","v":130},{"$f":"'「志願先」欄  選択一覧'!B132","v":"博士後期課程"},{"$f":"COUNTIF($B$3:B132,B132)","v":1},"博士後期課程1",{"$f":"'「志願先」欄  選択一覧'!C132","v":"人文科学研究科"},{"$f":"COUNTIF($E$3:E132,E132)","v":34},"人文科学研究科34",{"$f":"'「志願先」欄  選択一覧'!D132","v":"哲学専攻"},"博士後期課程哲学専攻",{"$f":"COUNTIF($I$3:I132,I132)","v":1},"博士後期課程哲学専攻1",{"$f":"'「志願先」欄  選択一覧'!E132","v":"一般入試"},"博士後期課程哲学専攻一般入試",{"$f":"COUNTIF($M$3:M132,M132)","v":1},"博士後期課程哲学専攻一般入試1",{"$f":"B132&E132&H132&L132","v":"博士後期課程人文科学研究科哲学専攻一般入試"},{"$f":"'「志願先」欄  選択一覧'!F132","v":"なし"},null,null,121,"",{"$f":"IF(COUNTIF($U$12:U132,U132)=1,V131+1,V131)","v":1},"",{"$error":"#N/A"},{"$f":"IF(COUNTIF($X$12:X132,X132)=1,Y131+1,Y131)","v":1},"",{"$error":"#N/A"},{"$f":"IF(COUNTIF($AA$12:AA132,AA132)=1,AB131+1,AB131)","v":1},"","",{"$f":"IF(COUNTIF($AD$12:AD132,AD132)=1,AE131+1,AE131)","v":1},""]
[{"$f":"'「志願先」欄  選択一覧'!A133","v":131},{"$f":"'「志願先」欄  選択一覧'!B133","v":"博士後期課程"},{"$f":"COUNTIF($B$3:B133,B133)","v":2},"博士後期課程2",{"$f":"'「志願先」欄  選択一覧'!C133","v":"人文科学研究科"},{"$f":"COUNTIF($E$3:E133,E133)","v":35},"人文科学研究科35",{"$f":"'「志願先」欄  選択一覧'!D133","v":"日本文学専攻"},"博士後期課程日本文学専攻",{"$f":"COUNTIF($I$3:I133,I133)","v":1},"博士後期課程日本文学専攻1",{"$f":"'「志願先」欄  選択一覧'!E133","v":"一般入試"},"博士後期課程日本文学専攻一般入試",{"$f":"COUNTIF($M$3:M133,M133)","v":1},"博士後期課程日本文学専攻一般入試1","博士後期課程人文科学研究科日本文学専攻一般入試",{"$f":"'「志願先」欄  選択一覧'!F133","v":"なし"},null,null,122,"",{"$f":"IF(COUNTIF($U$12:U133,U133)=1,V132+1,V132)","v":1},"",{"$error":"#N/A"},{"$f":"IF(COUNTIF($X$12:X133,X133)=1,Y132+1,Y132)","v":1},"",{"$error":"#N/A"},{"$f":"IF(COUNTIF($AA$12:AA133,AA133)=1,AB132+1,AB132)","v":1},"","",{"$f":"IF(COUNTIF($AD$12:AD133,AD133)=1,AE132+1,AE132)","v":1},""]
[{"$f":"'「志願先」欄  選択一覧'!A134","v":132},{"$f":"'「志願先」欄  選択一覧'!B134","v":"博士後期課程"},{"$f":"COUNTIF($B$3:B134,B134)","v":3},"博士後期課程3",{"$f":"'「志願先」欄  選択一覧'!C134","v":"人文科学研究科"},{"$f":"COUNTIF($E$3:E134,E134)","v":36},"人文科学研究科36",{"$f":"'「志願先」欄  選択一覧'!D134","v":"英文学専攻"},"博士後期課程英文学専攻",{"$f":"COUNTIF($I$3:I134,I134)","v":1},"博士後期課程英文学専攻1",{"$f":"'「志願先」欄  選択一覧'!E134","v":"一般入試"},"博士後期課程英文学専攻一般入試",{"$f":"COUNTIF($M$3:M134,M134)","v":1},"博士後期課程英文学専攻一般入試1","博士後期課程人文科学研究科英文学専攻一般入試",{"$f":"'「志願先」欄  選択一覧'!F134","v":"なし"},null,null,123,"",{"$f":"IF(COUNTIF($U$12:U134,U134)=1,V133+1,V133)","v":1},"",{"$error":"#N/A"},{"$f":"IF(COUNTIF($X$12:X134,X134)=1,Y133+1,Y133)","v":1},"",{"$error":"#N/A"},{"$f":"IF(COUNTIF($AA$12:AA134,AA134)=1,AB133+1,AB133)","v":1},"","",{"$f":"IF(COUNTIF($AD$12:AD134,AD134)=1,AE133+1,AE133)","v":1},""]
[{"$f":"'「志願先」欄  選択一覧'!A135","v":133},{"$f":"'「志願先」欄  選択一覧'!B135","v":"博士後期課程"},{"$f":"COUNTIF($B$3:B135,B135)","v":4},"博士後期課程4",{"$f":"'「志願先」欄  選択一覧'!C135","v":"人文科学研究科"},{"$f":"COUNTIF($E$3:E135,E135)","v":37},"人文科学研究科37",{"$f":"'「志願先」欄  選択一覧'!D135","v":"史学専攻"},"博士後期課程史学専攻",{"$f":"COUNTIF($I$3:I135,I135)","v":1},"博士後期課程史学専攻1",{"$f":"'「志願先」欄  選択一覧'!E135","v":"一般入試"},"博士後期課程史学専攻一般入試",{"$f":"COUNTIF($M$3:M135,M135)","v":1},"博士後期課程史学専攻一般入試1","博士後期課程人文科学研究科史学専攻一般入試",{"$f":"'「志願先」欄  選択一覧'!F135","v":"なし"},null,null,124,"",{"$f":"IF(COUNTIF($U$12:U135,U135)=1,V134+1,V134)","v":1},"",{"$error":"#N/A"},{"$f":"IF(COUNTIF($X$12:X135,X135)=1,Y134+1,Y134)","v":1},"",{"$error":"#N/A"},{"$f":"IF(COUNTIF($AA$12:AA135,AA135)=1,AB134+1,AB134)","v":1},"","",{"$f":"IF(COUNTIF($AD$12:AD135,AD135)=1,AE134+1,AE134)","v":1},""]
[{"$f":"'「志願先」欄  選択一覧'!A136","v":134},{"$f":"'「志願先」欄  選択一覧'!B136","v":"博士後期課程"},{"$f":"COUNTIF($B$3:B136,B136)","v":5},"博士後期課程5",{"$f":"'「志願先」欄  選択一覧'!C136","v":"人文科学研究科"},{"$f":"COUNTIF($E$3:E136,E136)","v":38},"人文科学研究科38",{"$f":"'「志願先」欄  選択一覧'!D136","v":"史学専攻"},"博士後期課程史学専攻",{"$f":"COUNTIF($I$3:I136,I136)","v":2},"博士後期課程史学専攻2",{"$f":"'「志願先」欄  選択一覧'!E136","v":"社会人入試"},"博士後期課程史学専攻社会人入試",{"$f":"COUNTIF($M$3:M136,M136)","v":1},"博士後期課程史学専攻社会人入試1","博士後期課程人文科学研究科史学専攻社会人入試",{"$f":"'「志願先」欄  選択一覧'!F136","v":"なし"},null,null,125,"",{"$f":"IF(COUNTIF($U$12:U136,U136)=1,V135+1,V135)","v":1},"",{"$error":"#N/A"},{"$f":"IF(COUNTIF($X$12:X136,X136)=1,Y135+1,Y135)","v":1},"",{"$error":"#N/A"},{"$f":"IF(COUNTIF($AA$12:AA136,AA136)=1,AB135+1,AB135)","v":1},"","",{"$f":"IF(COUNTIF($AD$12:AD136,AD136)=1,AE135+1,AE135)","v":1},""]
[{"$f":"'「志願先」欄  選択一覧'!A137","v":135},{"$f":"'「志願先」欄  選択一覧'!B137","v":"博士後期課程"},{"$f":"COUNTIF($B$3:B137,B137)","v":6},"博士後期課程6",{"$f":"'「志願先」欄  選択一覧'!C137","v":"人文科学研究科"},{"$f":"COUNTIF($E$3:E137,E137)","v":39},"人文科学研究科39",{"$f":"'「志願先」欄  選択一覧'!D137","v":"地理学専攻"},"博士後期課程地理学専攻",{"$f":"COUNTIF($I$3:I137,I137)","v":1},"博士後期課程地理学専攻1",{"$f":"'「志願先」欄  選択一覧'!E137","v":"一般入試"},"博士後期課程地理学専攻一般入試",{"$f":"COUNTIF($M$3:M137,M137)","v":1},"博士後期課程地理学専攻一般入試1","博士後期課程人文科学研究科地理学専攻一般入試",{"$f":"'「志願先」欄  選択一覧'!F137","v":"なし"},null,null,126,"",{"$f":"IF(COUNTIF($U$12:U137,U137)=1,V136+1,V136)","v":1},"",{"$error":"#N/A"},{"$f":"IF(COUNTIF($X$12:X137,X137)=1,Y136+1,Y136)","v":1},"",{"$error":"#N/A"},{"$f":"IF(COUNTIF($AA$12:AA137,AA137)=1,AB136+1,AB136)","v":1},"","",{"$f":"IF(COUNTIF($AD$12:AD137,AD137)=1,AE136+1,AE136)","v":1},""]
[{"$f":"'「志願先」欄  選択一覧'!A138","v":136},{"$f":"'「志願先」欄  選択一覧'!B138","v":"博士後期課程"},{"$f":"COUNTIF($B$3:B138,B138)","v":7},"博士後期課程7",{"$f":"'「志願先」欄  選択一覧'!C138","v":"人文科学研究科"},{"$f":"COUNTIF($E$3:E138,E138)","v":40},"人文科学研究科40",{"$f":"'「志願先」欄  選択一覧'!D138","v":"心理学専攻"},"博士後期課程心理学専攻",{"$f":"COUNTIF($I$3:I138,I138)","v":1},"博士後期課程心理学専攻1",{"$f":"'「志願先」欄  選択一覧'!E138","v":"一般入試"},"博士後期課程心理学専攻一般入試",{"$f":"COUNTIF($M$3:M138,M138)","v":1},"博士後期課程心理学専攻一般入試1","博士後期課程人文科学研究科心理学専攻一般入試",{"$f":"'「志願先」欄  選択一覧'!F138","v":"なし"},null,null,127,"",{"$f":"IF(COUNTIF($U$12:U138,U138)=1,V137+1,V137)","v":1},"",{"$error":"#N/A"},{"$f":"IF(COUNTIF($X$12:X138,X138)=1,Y137+1,Y137)","v":1},"",{"$error":"#N/A"},{"$f":"IF(COUNTIF($AA$12:AA138,AA138)=1,AB137+1,AB137)","v":1},"","",{"$f":"IF(COUNTIF($AD$12:AD138,AD138)=1,AE137+1,AE137)","v":1},""]
[{"$f":"'「志願先」欄  選択一覧'!A139","v":137},{"$f":"'「志願先」欄  選択一覧'!B139","v":"博士後期課程"},{"$f":"COUNTIF($B$3:B139,B139)","v":8},"博士後期課程8",{"$f":"'「志願先」欄  選択一覧'!C139","v":"人文科学研究科"},{"$f":"COUNTIF($E$3:E139,E139)","v":41},"人文科学研究科41",{"$f":"'「志願先」欄  選択一覧'!D139","v":"国際日本学インスティテュート"},"博士後期課程国際日本学インスティテュート",{"$f":"COUNTIF($I$3:I139,I139)","v":1},"博士後期課程国際日本学インスティテュート1",{"$f":"'「志願先」欄  選択一覧'!E139","v":"一般入試"},"博士後期課程国際日本学インスティテュート一般入試",{"$f":"COUNTIF($M$3:M139,M139)","v":1},"博士後期課程国際日本学インスティテュート一般入試1","博士後期課程人文科学研究科国際日本学インスティテュート一般入試",{"$f":"'「志願先」欄  選択一覧'!F139","v":"所属専攻：哲学"},null,null,128,"",{"$f":"IF(COUNTIF($U$12:U139,U139)=1,V138+1,V138)","v":1},"",{"$error":"#N/A"},{"$f":"IF(COUNTIF($X$12:X139,X139)=1,Y138+1,Y138)","v":1},"",{"$error":"#N/A"},{"$f":"IF(COUNTIF($AA$12:AA139,AA139)=1,AB138+1,AB138)","v":1},"","",{"$f":"IF(COUNTIF($AD$12:AD139,AD139)=1,AE138+1,AE138)","v":1},""]
[{"$f":"'「志願先」欄  選択一覧'!A140","v":138},{"$f":"'「志願先」欄  選択一覧'!B140","v":"博士後期課程"},{"$f":"COUNTIF($B$3:B140,B140)","v":9},"博士後期課程9",{"$f":"'「志願先」欄  選択一覧'!C140","v":"人文科学研究科"},{"$f":"COUNTIF($E$3:E140,E140)","v":42},"人文科学研究科42",{"$f":"'「志願先」欄  選択一覧'!D140","v":"国際日本学インスティテュート"},"博士後期課程国際日本学インスティテュート",{"$f":"COUNTIF($I$3:I140,I140)","v":2},"博士後期課程国際日本学インスティテュート2",{"$f":"'「志願先」欄  選択一覧'!E140","v":"一般入試"},"博士後期課程国際日本学インスティテュート一般入試",{"$f":"COUNTIF($M$3:M140,M140)","v":2},"博士後期課程国際日本学インスティテュート一般入試2","博士後期課程人文科学研究科国際日本学インスティテュート一般入試",{"$f":"'「志願先」欄  選択一覧'!F140","v":"所属専攻：日本文学"},null,null,129,{"$f":"IFERROR(VLOOKUP($W$2&T140,$D:$E,2,0),\"\")","v":""},{"$f":"IF(COUNTIF($U$12:U140,U140)=1,V139+1,V139)","v":1},{"$f":"IFERROR(INDEX($U$12:$U$200,MATCH(ROW(W140)-11,$V$12:$V$200,0)),\"\")","v":""},{"$error":"#N/A"},{"$f":"IF(COUNTIF($X$12:X140,X140)=1,Y139+1,Y139)","v":1},{"$f":"IFERROR(INDEX($X$12:$X$200,MATCH(ROW(Z140)-11,$Y$12:$Y$200,0)),\"\")","v":""},{"$error":"#N/A"},{"$f":"IF(COUNTIF($AA$12:AA140,AA140)=1,AB139+1,AB139)","v":1},{"$f":"IFERROR(INDEX($AA$12:$AA$200,MATCH(ROW(AC140)-11,$AB$12:$AB$200,0)),\"\")","v":""},"",{"$f":"IF(COUNTIF($AD$12:AD140,AD140)=1,AE139+1,AE139)","v":1},""]
[{"$f":"'「志願先」欄  選択一覧'!A141","v":139},{"$f":"'「志願先」欄  選択一覧'!B141","v":"博士後期課程"},{"$f":"COUNTIF($B$3:B141,B141)","v":10},"博士後期課程10",{"$f":"'「志願先」欄  選択一覧'!C141","v":"人文科学研究科"},{"$f":"COUNTIF($E$3:E141,E141)","v":43},"人文科学研究科43",{"$f":"'「志願先」欄  選択一覧'!D141","v":"国際日本学インスティテュート"},"博士後期課程国際日本学インスティテュート",{"$f":"COUNTIF($I$3:I141,I141)","v":3},"博士後期課程国際日本学インスティテュート3",{"$f":"'「志願先」欄  選択一覧'!E141","v":"一般入試"},"博士後期課程国際日本学インスティテュート一般入試",{"$f":"COUNTIF($M$3:M141,M141)","v":3},"博士後期課程国際日本学インスティテュート一般入試3","博士後期課程人文科学研究科国際日本学インスティテュート一般入試",{"$f":"'「志願先」欄  選択一覧'!F141","v":"所属専攻：英文学"},null,null,130,"",{"$f":"IF(COUNTIF($U$12:U141,U141)=1,V140+1,V140)","v":1},"",{"$error":"#N/A"},{"$f":"IF(COUNTIF($X$12:X141,X141)=1,Y140+1,Y140)","v":1},"",{"$error":"#N/A"},{"$f":"IF(COUNTIF($AA$12:AA141,AA141)=1,AB140+1,AB140)","v":1},"",{"$f":"IFERROR(VLOOKUP($W$2&$W$4&$W$5&T141,$O:$Q,3,0),\"\")","v":""},{"$f":"IF(COUNTIF($AD$12:AD141,AD141)=1,AE140+1,AE140)","v":1},{"$f":"IF(AD141=\"なし\",\"\",\nIFERROR(INDEX($AD$12:$AD$200,MATCH(ROW(AF141)-11,$AE$12:$AE$200,0)),\"\")\n)","v":""}]
[{"$f":"'「志願先」欄  選択一覧'!A142","v":140},{"$f":"'「志願先」欄  選択一覧'!B142","v":"博士後期課程"},{"$f":"COUNTIF($B$3:B142,B142)","v":11},"博士後期課程11",{"$f":"'「志願先」欄  選択一覧'!C142","v":"人文科学研究科"},{"$f":"COUNTIF($E$3:E142,E142)","v":44},"人文科学研究科44",{"$f":"'「志願先」欄  選択一覧'!D142","v":"国際日本学インスティテュート"},"博士後期課程国際日本学インスティテュート",{"$f":"COUNTIF($I$3:I142,I142)","v":4},"博士後期課程国際日本学インスティテュート4",{"$f":"'「志願先」欄  選択一覧'!E142","v":"一般入試"},"博士後期課程国際日本学インスティテュート一般入試",{"$f":"COUNTIF($M$3:M142,M142)","v":4},"博士後期課程国際日本学インスティテュート一般入試4","博士後期課程人文科学研究科国際日本学インスティテュート一般入試",{"$f":"'「志願先」欄  選択一覧'!F142","v":"所属専攻：史学"},null,null,131,"",{"$f":"IF(COUNTIF($U$12:U142,U142)=1,V141+1,V141)","v":1},"",{"$error":"#N/A"},{"$f":"IF(COUNTIF($X$12:X142,X142)=1,Y141+1,Y141)","v":1},"",{"$error":"#N/A"},{"$f":"IF(COUNTIF($AA$12:AA142,AA142)=1,AB141+1,AB141)","v":1},"","",{"$f":"IF(COUNTIF($AD$12:AD142,AD142)=1,AE141+1,AE141)","v":1},""]
[{"$f":"'「志願先」欄  選択一覧'!A143","v":141},{"$f":"'「志願先」欄  選択一覧'!B143","v":"博士後期課程"},{"$f":"COUNTIF($B$3:B143,B143)","v":12},"博士後期課程12",{"$f":"'「志願先」欄  選択一覧'!C143","v":"人文科学研究科"},{"$f":"COUNTIF($E$3:E143,E143)","v":45},"人文科学研究科45",{"$f":"'「志願先」欄  選択一覧'!D143","v":"国際日本学インスティテュート"},"博士後期課程国際日本学インスティテュート",{"$f":"COUNTIF($I$3:I143,I143)","v":5},"博士後期課程国際日本学インスティテュート5",{"$f":"'「志願先」欄  選択一覧'!E143","v":"一般入試"},"博士後期課程国際日本学インスティテュート一般入試",{"$f":"COUNTIF($M$3:M143,M143)","v":5},"博士後期課程国際日本学インスティテュート一般入試5","博士後期課程人文科学研究科国際日本学インスティテュート一般入試",{"$f":"'「志願先」欄  選択一覧'!F143","v":"所属専攻：地理学"},null,null,132,"",{"$f":"IF(COUNTIF($U$12:U143,U143)=1,V142+1,V142)","v":1},"",{"$error":"#N/A"},{"$f":"IF(COUNTIF($X$12:X143,X143)=1,Y142+1,Y142)","v":1},"",{"$error":"#N/A"},{"$f":"IF(COUNTIF($AA$12:AA143,AA143)=1,AB142+1,AB142)","v":1},"","",{"$f":"IF(COUNTIF($AD$12:AD143,AD143)=1,AE142+1,AE142)","v":1},""]
[{"$f":"'「志願先」欄  選択一覧'!A144","v":142},{"$f":"'「志願先」欄  選択一覧'!B144","v":"博士後期課程"},{"$f":"COUNTIF($B$3:B144,B144)","v":13},"博士後期課程13",{"$f":"'「志願先」欄  選択一覧'!C144","v":"国際文化研究科"},{"$f":"COUNTIF($E$3:E144,E144)","v":4},"国際文化研究科4",{"$f":"'「志願先」欄  選択一覧'!D144","v":"国際文化専攻"},"博士後期課程国際文化専攻",{"$f":"COUNTIF($I$3:I144,I144)","v":1},"博士後期課程国際文化専攻1",{"$f":"'「志願先」欄  選択一覧'!E144","v":"一般入試"},"博士後期課程国際文化専攻一般入試",{"$f":"COUNTIF($M$3:M144,M144)","v":1},"博士後期課程国際文化専攻一般入試1","博士後期課程国際文化研究科国際文化専攻一般入試",{"$f":"'「志願先」欄  選択一覧'!F144","v":"なし"},null,null,133,"",{"$f":"IF(COUNTIF($U$12:U144,U144)=1,V143+1,V143)","v":1},"",{"$error":"#N/A"},{"$f":"IF(COUNTIF($X$12:X144,X144)=1,Y143+1,Y143)","v":1},"",{"$error":"#N/A"},{"$f":"IF(COUNTIF($AA$12:AA144,AA144)=1,AB143+1,AB143)","v":1},"","",{"$f":"IF(COUNTIF($AD$12:AD144,AD144)=1,AE143+1,AE143)","v":1},""]
[{"$f":"'「志願先」欄  選択一覧'!A145","v":143},{"$f":"'「志願先」欄  選択一覧'!B145","v":"博士後期課程"},{"$f":"COUNTIF($B$3:B145,B145)","v":14},"博士後期課程14",{"$f":"'「志願先」欄  選択一覧'!C145","v":"国際文化研究科"},{"$f":"COUNTIF($E$3:E145,E145)","v":5},"国際文化研究科5",{"$f":"'「志願先」欄  選択一覧'!D145","v":"国際文化専攻"},"博士後期課程国際文化専攻",{"$f":"COUNTIF($I$3:I145,I145)","v":2},"博士後期課程国際文化専攻2",{"$f":"'「志願先」欄  選択一覧'!E145","v":"外国人入試"},"博士後期課程国際文化専攻外国人入試",{"$f":"COUNTIF($M$3:M145,M145)","v":1},"博士後期課程国際文化専攻外国人入試1","博士後期課程国際文化研究科国際文化専攻外国人入試",{"$f":"'「志願先」欄  選択一覧'!F145","v":"なし"},null,null,134,"",{"$f":"IF(COUNTIF($U$12:U145,U145)=1,V144+1,V144)","v":1},"",{"$f":"VLOOKUP($W$3&T145,$G:$H,2,0)","v":{"$error":"#N/A"}},{"$f":"IF(COUNTIF($X$12:X145,X145)=1,Y144+1,Y144)","v":1},"",{"$error":"#N/A"},{"$f":"IF(COUNTIF($AA$12:AA145,AA145)=1,AB144+1,AB144)","v":1},"","",{"$f":"IF(COUNTIF($AD$12:AD145,AD145)=1,AE144+1,AE144)","v":1},""]
[{"$f":"'「志願先」欄  選択一覧'!A146","v":144},{"$f":"'「志願先」欄  選択一覧'!B146","v":"博士後期課程"},{"$f":"COUNTIF($B$3:B146,B146)","v":15},"博士後期課程15",{"$f":"'「志願先」欄  選択一覧'!C146","v":"国際文化研究科"},{"$f":"COUNTIF($E$3:E146,E146)","v":6},"国際文化研究科6",{"$f":"'「志願先」欄  選択一覧'!D146","v":"国際文化専攻"},"博士後期課程国際文化専攻",{"$f":"COUNTIF($I$3:I146,I146)","v":3},"博士後期課程国際文化専攻3",{"$f":"'「志願先」欄  選択一覧'!E146","v":"社会人入試"},"博士後期課程国際文化専攻社会人入試",{"$f":"COUNTIF($M$3:M146,M146)","v":1},"博士後期課程国際文化専攻社会人入試1","博士後期課程国際文化研究科国際文化専攻社会人入試",{"$f":"'「志願先」欄  選択一覧'!F146","v":"なし"},null,null,135,"",{"$f":"IF(COUNTIF($U$12:U146,U146)=1,V145+1,V145)","v":1},"",{"$error":"#N/A"},{"$f":"IF(COUNTIF($X$12:X146,X146)=1,Y145+1,Y145)","v":1},"",{"$f":"VLOOKUP($W$2&$W$4&T146,$K:$L,2,0)","v":{"$error":"#N/A"}},{"$f":"IF(COUNTIF($AA$12:AA146,AA146)=1,AB145+1,AB145)","v":1},"","",{"$f":"IF(COUNTIF($AD$12:AD146,AD146)=1,AE145+1,AE145)","v":1},""]
[{"$f":"'「志願先」欄  選択一覧'!A147","v":145},{"$f":"'「志願先」欄  選択一覧'!B147","v":"博士後期課程"},{"$f":"COUNTIF($B$3:B147,B147)","v":16},"博士後期課程16",{"$f":"'「志願先」欄  選択一覧'!C147","v":"経済学研究科"},{"$f":"COUNTIF($E$3:E147,E147)","v":41},"経済学研究科41",{"$f":"'「志願先」欄  選択一覧'!D147","v":"経済学専攻"},"博士後期課程経済学専攻",{"$f":"COUNTIF($I$3:I147,I147)","v":1},"博士後期課程経済学専攻1",{"$f":"'「志願先」欄  選択一覧'!E147","v":"一般入試"},"博士後期課程経済学専攻一般入試",{"$f":"COUNTIF($M$3:M147,M147)","v":1},"博士後期課程経済学専攻一般入試1","博士後期課程経済学研究科経済学専攻一般入試",{"$f":"'「志願先」欄  選択一覧'!F147","v":"歴史・思想・制度"},null,null,136,"",{"$f":"IF(COUNTIF($U$12:U147,U147)=1,V146+1,V146)","v":1},"",{"$error":"#N/A"},{"$f":"IF(COUNTIF($X$12:X147,X147)=1,Y146+1,Y146)","v":1},"",{"$error":"#N/A"},{"$f":"IF(COUNTIF($AA$12:AA147,AA147)=1,AB146+1,AB146)","v":1},"","",{"$f":"IF(COUNTIF($AD$12:AD147,AD147)=1,AE146+1,AE146)","v":1},""]
[{"$f":"'「志願先」欄  選択一覧'!A148","v":146},{"$f":"'「志願先」欄  選択一覧'!B148","v":"博士後期課程"},{"$f":"COUNTIF($B$3:B148,B148)","v":17},"博士後期課程17",{"$f":"'「志願先」欄  選択一覧'!C148","v":"経済学研究科"},{"$f":"COUNTIF($E$3:E148,E148)","v":42},"経済学研究科42",{"$f":"'「志願先」欄  選択一覧'!D148","v":"経済学専攻"},"博士後期課程経済学専攻",{"$f":"COUNTIF($I$3:I148,I148)","v":2},"博士後期課程経済学専攻2",{"$f":"'「志願先」欄  選択一覧'!E148","v":"一般入試"},"博士後期課程経済学専攻一般入試",{"$f":"COUNTIF($M$3:M148,M148)","v":2},"博士後期課程経済学専攻一般入試2","博士後期課程経済学研究科経済学専攻一般入試",{"$f":"'「志願先」欄  選択一覧'!F148","v":"金融・企業"},null,null,137,"",{"$f":"IF(COUNTIF($U$12:U148,U148)=1,V147+1,V147)","v":1},"",{"$error":"#N/A"},{"$f":"IF(COUNTIF($X$12:X148,X148)=1,Y147+1,Y147)","v":1},"",{"$error":"#N/A"},{"$f":"IF(COUNTIF($AA$12:AA148,AA148)=1,AB147+1,AB147)","v":1},"","",{"$f":"IF(COUNTIF($AD$12:AD148,AD148)=1,AE147+1,AE147)","v":1},""]
[{"$f":"'「志願先」欄  選択一覧'!A149","v":147},{"$f":"'「志願先」欄  選択一覧'!B149","v":"博士後期課程"},{"$f":"COUNTIF($B$3:B149,B149)","v":18},"博士後期課程18",{"$f":"'「志願先」欄  選択一覧'!C149","v":"経済学研究科"},{"$f":"COUNTIF($E$3:E149,E149)","v":43},"経済学研究科43",{"$f":"'「志願先」欄  選択一覧'!D149","v":"経済学専攻"},"博士後期課程経済学専攻",{"$f":"COUNTIF($I$3:I149,I149)","v":3},"博士後期課程経済学専攻3",{"$f":"'「志願先」欄  選択一覧'!E149","v":"一般入試"},"博士後期課程経済学専攻一般入試",{"$f":"COUNTIF($M$3:M149,M149)","v":3},"博士後期課程経済学専攻一般入試3","博士後期課程経済学研究科経済学専攻一般入試",{"$f":"'「志願先」欄  選択一覧'!F149","v":"政策・環境"},null,null,138,"",{"$f":"IF(COUNTIF($U$12:U149,U149)=1,V148+1,V148)","v":1},"",{"$error":"#N/A"},{"$f":"IF(COUNTIF($X$12:X149,X149)=1,Y148+1,Y148)","v":1},"",{"$error":"#N/A"},{"$f":"IF(COUNTIF($AA$12:AA149,AA149)=1,AB148+1,AB148)","v":1},"","",{"$f":"IF(COUNTIF($AD$12:AD149,AD149)=1,AE148+1,AE148)","v":1},""]
[{"$f":"'「志願先」欄  選択一覧'!A150","v":148},{"$f":"'「志願先」欄  選択一覧'!B150","v":"博士後期課程"},{"$f":"COUNTIF($B$3:B150,B150)","v":19},"博士後期課程19",{"$f":"'「志願先」欄  選択一覧'!C150","v":"経済学研究科"},{"$f":"COUNTIF($E$3:E150,E150)","v":44},"経済学研究科44",{"$f":"'「志願先」欄  選択一覧'!D150","v":"経済学専攻"},"博士後期課程経済学専攻",{"$f":"COUNTIF($I$3:I150,I150)","v":4},"博士後期課程経済学専攻4",{"$f":"'「志願先」欄  選択一覧'!E150","v":"一般入試"},"博士後期課程経済学専攻一般入試",{"$f":"COUNTIF($M$3:M150,M150)","v":4},"博士後期課程経済学専攻一般入試4","博士後期課程経済学研究科経済学専攻一般入試",{"$f":"'「志願先」欄  選択一覧'!F150","v":"国際・地域"},null,null,139,"",{"$f":"IF(COUNTIF($U$12:U150,U150)=1,V149+1,V149)","v":1},"",{"$error":"#N/A"},{"$f":"IF(COUNTIF($X$12:X150,X150)=1,Y149+1,Y149)","v":1},"",{"$error":"#N/A"},{"$f":"IF(COUNTIF($AA$12:AA150,AA150)=1,AB149+1,AB149)","v":1},"","",{"$f":"IF(COUNTIF($AD$12:AD150,AD150)=1,AE149+1,AE149)","v":1},""]
[{"$f":"'「志願先」欄  選択一覧'!A151","v":149},{"$f":"'「志願先」欄  選択一覧'!B151","v":"博士後期課程"},{"$f":"COUNTIF($B$3:B151,B151)","v":20},"博士後期課程20",{"$f":"'「志願先」欄  選択一覧'!C151","v":"経済学研究科"},{"$f":"COUNTIF($E$3:E151,E151)","v":45},"経済学研究科45",{"$f":"'「志願先」欄  選択一覧'!D151","v":"経済学専攻"},"博士後期課程経済学専攻",{"$f":"COUNTIF($I$3:I151,I151)","v":5},"博士後期課程経済学専攻5",{"$f":"'「志願先」欄  選択一覧'!E151","v":"一般入試"},"博士後期課程経済学専攻一般入試",{"$f":"COUNTIF($M$3:M151,M151)","v":5},"博士後期課程経済学専攻一般入試5","博士後期課程経済学研究科経済学専攻一般入試",{"$f":"'「志願先」欄  選択一覧'!F151","v":"応用ミクロ・応用マクロ・計量"},null,null,140,"",{"$f":"IF(COUNTIF($U$12:U151,U151)=1,V150+1,V150)","v":1},"",{"$error":"#N/A"},{"$f":"IF(COUNTIF($X$12:X151,X151)=1,Y150+1,Y150)","v":1},"",{"$error":"#N/A"},{"$f":"IF(COUNTIF($AA$12:AA151,AA151)=1,AB150+1,AB150)","v":1},"","",{"$f":"IF(COUNTIF($AD$12:AD151,AD151)=1,AE150+1,AE150)","v":1},""]
[{"$f":"'「志願先」欄  選択一覧'!A152","v":150},{"$f":"'「志願先」欄  選択一覧'!B152","v":"博士後期課程"},{"$f":"COUNTIF($B$3:B152,B152)","v":21},"博士後期課程21",{"$f":"'「志願先」欄  選択一覧'!C152","v":"経済学研究科"},{"$f":"COUNTIF($E$3:E152,E152)","v":46},"経済学研究科46",{"$f":"'「志願先」欄  選択一覧'!D152","v":"経済学専攻"},"博士後期課程経済学専攻",{"$f":"COUNTIF($I$3:I152,I152)","v":6},"博士後期課程経済学専攻6",{"$f":"'「志願先」欄  選択一覧'!E152","v":"社会人入試"},"博士後期課程経済学専攻社会人入試",{"$f":"COUNTIF($M$3:M152,M152)","v":1},"博士後期課程経済学専攻社会人入試1","博士後期課程経済学研究科経済学専攻社会人入試",{"$f":"'「志願先」欄  選択一覧'!F152","v":"歴史・思想・制度"},null,null,141,"",{"$f":"IF(COUNTIF($U$12:U152,U152)=1,V151+1,V151)","v":1},"",{"$error":"#N/A"},{"$f":"IF(COUNTIF($X$12:X152,X152)=1,Y151+1,Y151)","v":1},"",{"$error":"#N/A"},{"$f":"IF(COUNTIF($AA$12:AA152,AA152)=1,AB151+1,AB151)","v":1},"","",{"$f":"IF(COUNTIF($AD$12:AD152,AD152)=1,AE151+1,AE151)","v":1},""]
[{"$f":"'「志願先」欄  選択一覧'!A153","v":151},{"$f":"'「志願先」欄  選択一覧'!B153","v":"博士後期課程"},{"$f":"COUNTIF($B$3:B153,B153)","v":22},"博士後期課程22",{"$f":"'「志願先」欄  選択一覧'!C153","v":"経済学研究科"},{"$f":"COUNTIF($E$3:E153,E153)","v":47},"経済学研究科47",{"$f":"'「志願先」欄  選択一覧'!D153","v":"経済学専攻"},"博士後期課程経済学専攻",{"$f":"COUNTIF($I$3:I153,I153)","v":7},"博士後期課程経済学専攻7",{"$f":"'「志願先」欄  選択一覧'!E153","v":"社会人入試"},"博士後期課程経済学専攻社会人入試",{"$f":"COUNTIF($M$3:M153,M153)","v":2},"博士後期課程経済学専攻社会人入試2","博士後期課程経済学研究科経済学専攻社会人入試",{"$f":"'「志願先」欄  選択一覧'!F153","v":"金融・企業"},null,null,142,"",{"$f":"IF(COUNTIF($U$12:U153,U153)=1,V152+1,V152)","v":1},"",{"$error":"#N/A"},{"$f":"IF(COUNTIF($X$12:X153,X153)=1,Y152+1,Y152)","v":1},"",{"$error":"#N/A"},{"$f":"IF(COUNTIF($AA$12:AA153,AA153)=1,AB152+1,AB152)","v":1},"","",{"$f":"IF(COUNTIF($AD$12:AD153,AD153)=1,AE152+1,AE152)","v":1},""]
[{"$f":"'「志願先」欄  選択一覧'!A154","v":152},{"$f":"'「志願先」欄  選択一覧'!B154","v":"博士後期課程"},{"$f":"COUNTIF($B$3:B154,B154)","v":23},"博士後期課程23",{"$f":"'「志願先」欄  選択一覧'!C154","v":"経済学研究科"},{"$f":"COUNTIF($E$3:E154,E154)","v":48},"経済学研究科48",{"$f":"'「志願先」欄  選択一覧'!D154","v":"経済学専攻"},"博士後期課程経済学専攻",{"$f":"COUNTIF($I$3:I154,I154)","v":8},"博士後期課程経済学専攻8",{"$f":"'「志願先」欄  選択一覧'!E154","v":"社会人入試"},"博士後期課程経済学専攻社会人入試",{"$f":"COUNTIF($M$3:M154,M154)","v":3},"博士後期課程経済学専攻社会人入試3","博士後期課程経済学研究科経済学専攻社会人入試",{"$f":"'「志願先」欄  選択一覧'!F154","v":"政策・環境"},null,null,143,"",{"$f":"IF(COUNTIF($U$12:U154,U154)=1,V153+1,V153)","v":1},"",{"$error":"#N/A"},{"$f":"IF(COUNTIF($X$12:X154,X154)=1,Y153+1,Y153)","v":1},"",{"$error":"#N/A"},{"$f":"IF(COUNTIF($AA$12:AA154,AA154)=1,AB153+1,AB153)","v":1},"","",{"$f":"IF(COUNTIF($AD$12:AD154,AD154)=1,AE153+1,AE153)","v":1},""]
[{"$f":"'「志願先」欄  選択一覧'!A155","v":153},{"$f":"'「志願先」欄  選択一覧'!B155","v":"博士後期課程"},{"$f":"COUNTIF($B$3:B155,B155)","v":24},"博士後期課程24",{"$f":"'「志願先」欄  選択一覧'!C155","v":"経済学研究科"},{"$f":"COUNTIF($E$3:E155,E155)","v":49},"経済学研究科49",{"$f":"'「志願先」欄  選択一覧'!D155","v":"経済学専攻"},"博士後期課程経済学専攻",{"$f":"COUNTIF($I$3:I155,I155)","v":9},"博士後期課程経済学専攻9",{"$f":"'「志願先」欄  選択一覧'!E155","v":"社会人入試"},"博士後期課程経済学専攻社会人入試",{"$f":"COUNTIF($M$3:M155,M155)","v":4},"博士後期課程経済学専攻社会人入試4","博士後期課程経済学研究科経済学専攻社会人入試",{"$f":"'「志願先」欄  選択一覧'!F155","v":"国際・地域"},null,null,144,"",{"$f":"IF(COUNTIF($U$12:U155,U155)=1,V154+1,V154)","v":1},"",{"$error":"#N/A"},{"$f":"IF(COUNTIF($X$12:X155,X155)=1,Y154+1,Y154)","v":1},"",{"$error":"#N/A"},{"$f":"IF(COUNTIF($AA$12:AA155,AA155)=1,AB154+1,AB154)","v":1},"","",{"$f":"IF(COUNTIF($AD$12:AD155,AD155)=1,AE154+1,AE154)","v":1},""]
[{"$f":"'「志願先」欄  選択一覧'!A156","v":154},{"$f":"'「志願先」欄  選択一覧'!B156","v":"博士後期課程"},{"$f":"COUNTIF($B$3:B156,B156)","v":25},"博士後期課程25",{"$f":"'「志願先」欄  選択一覧'!C156","v":"経済学研究科"},{"$f":"COUNTIF($E$3:E156,E156)","v":50},"経済学研究科50",{"$f":"'「志願先」欄  選択一覧'!D156","v":"経済学専攻"},"博士後期課程経済学専攻",{"$f":"COUNTIF($I$3:I156,I156)","v":10},"博士後期課程経済学専攻10",{"$f":"'「志願先」欄  選択一覧'!E156","v":"社会人入試"},"博士後期課程経済学専攻社会人入試",{"$f":"COUNTIF($M$3:M156,M156)","v":5},"博士後期課程経済学専攻社会人入試5","博士後期課程経済学研究科経済学専攻社会人入試",{"$f":"'「志願先」欄  選択一覧'!F156","v":"応用ミクロ・応用マクロ・計量"},null,null,145,"",{"$f":"IF(COUNTIF($U$12:U156,U156)=1,V155+1,V155)","v":1},"",{"$error":"#N/A"},{"$f":"IF(COUNTIF($X$12:X156,X156)=1,Y155+1,Y155)","v":1},"",{"$error":"#N/A"},{"$f":"IF(COUNTIF($AA$12:AA156,AA156)=1,AB155+1,AB155)","v":1},"","",{"$f":"IF(COUNTIF($AD$12:AD156,AD156)=1,AE155+1,AE155)","v":1},""]
[{"$f":"'「志願先」欄  選択一覧'!A157","v":155},{"$f":"'「志願先」欄  選択一覧'!B157","v":"博士後期課程"},{"$f":"COUNTIF($B$3:B157,B157)","v":26},"博士後期課程26",{"$f":"'「志願先」欄  選択一覧'!C157","v":"法学研究科"},{"$f":"COUNTIF($E$3:E157,E157)","v":4},"法学研究科4",{"$f":"'「志願先」欄  選択一覧'!D157","v":"法律学専攻"},"博士後期課程法律学専攻",{"$f":"COUNTIF($I$3:I157,I157)","v":1},"博士後期課程法律学専攻1",{"$f":"'「志願先」欄  選択一覧'!E157","v":"一般入試"},"博士後期課程法律学専攻一般入試",{"$f":"COUNTIF($M$3:M157,M157)","v":1},"博士後期課程法律学専攻一般入試1","博士後期課程法学研究科法律学専攻一般入試",{"$f":"'「志願先」欄  選択一覧'!F157","v":"なし"},null,null,146,"",{"$f":"IF(COUNTIF($U$12:U157,U157)=1,V156+1,V156)","v":1},"",{"$error":"#N/A"},{"$f":"IF(COUNTIF($X$12:X157,X157)=1,Y156+1,Y156)","v":1},"",{"$error":"#N/A"},{"$f":"IF(COUNTIF($AA$12:AA157,AA157)=1,AB156+1,AB156)","v":1},"","",{"$f":"IF(COUNTIF($AD$12:AD157,AD157)=1,AE156+1,AE156)","v":1},""]
[{"$f":"'「志願先」欄  選択一覧'!A158","v":156},{"$f":"'「志願先」欄  選択一覧'!B158","v":"博士後期課程"},{"$f":"COUNTIF($B$3:B158,B158)","v":27},"博士後期課程27",{"$f":"'「志願先」欄  選択一覧'!C158","v":"政治学研究科"},{"$f":"COUNTIF($E$3:E158,E158)","v":6},"政治学研究科6",{"$f":"'「志願先」欄  選択一覧'!D158","v":"政治学専攻"},"博士後期課程政治学専攻",{"$f":"COUNTIF($I$3:I158,I158)","v":1},"博士後期課程政治学専攻1",{"$f":"'「志願先」欄  選択一覧'!E158","v":"一般入試"},"博士後期課程政治学専攻一般入試",{"$f":"COUNTIF($M$3:M158,M158)","v":1},"博士後期課程政治学専攻一般入試1","博士後期課程政治学研究科政治学専攻一般入試",{"$f":"'「志願先」欄  選択一覧'!F158","v":"なし"},null,null,147,"",{"$f":"IF(COUNTIF($U$12:U158,U158)=1,V157+1,V157)","v":1},"",{"$error":"#N/A"},{"$f":"IF(COUNTIF($X$12:X158,X158)=1,Y157+1,Y157)","v":1},"",{"$error":"#N/A"},{"$f":"IF(COUNTIF($AA$12:AA158,AA158)=1,AB157+1,AB157)","v":1},"","",{"$f":"IF(COUNTIF($AD$12:AD158,AD158)=1,AE157+1,AE157)","v":1},""]
[{"$f":"'「志願先」欄  選択一覧'!A159","v":157},{"$f":"'「志願先」欄  選択一覧'!B159","v":"博士後期課程"},{"$f":"COUNTIF($B$3:B159,B159)","v":28},"博士後期課程28",{"$f":"'「志願先」欄  選択一覧'!C159","v":"社会学研究科"},{"$f":"COUNTIF($E$3:E159,E159)","v":7},"社会学研究科7",{"$f":"'「志願先」欄  選択一覧'!D159","v":"社会学専攻"},"博士後期課程社会学専攻",{"$f":"COUNTIF($I$3:I159,I159)","v":1},"博士後期課程社会学専攻1",{"$f":"'「志願先」欄  選択一覧'!E159","v":"一般入試"},"博士後期課程社会学専攻一般入試",{"$f":"COUNTIF($M$3:M159,M159)","v":1},"博士後期課程社会学専攻一般入試1","博士後期課程社会学研究科社会学専攻一般入試",{"$f":"'「志願先」欄  選択一覧'!F159","v":"なし"},null,null,148,"",{"$f":"IF(COUNTIF($U$12:U159,U159)=1,V158+1,V158)","v":1},"",{"$error":"#N/A"},{"$f":"IF(COUNTIF($X$12:X159,X159)=1,Y158+1,Y158)","v":1},"",{"$error":"#N/A"},{"$f":"IF(COUNTIF($AA$12:AA159,AA159)=1,AB158+1,AB158)","v":1},"","",{"$f":"IF(COUNTIF($AD$12:AD159,AD159)=1,AE158+1,AE158)","v":1},""]
[{"$f":"'「志願先」欄  選択一覧'!A160","v":158},{"$f":"'「志願先」欄  選択一覧'!B160","v":"博士後期課程"},{"$f":"COUNTIF($B$3:B160,B160)","v":29},"博士後期課程29",{"$f":"'「志願先」欄  選択一覧'!C160","v":"経営学研究科"},{"$f":"COUNTIF($E$3:E160,E160)","v":14},"経営学研究科14",{"$f":"'「志願先」欄  選択一覧'!D160","v":"経営学専攻"},"博士後期課程経営学専攻",{"$f":"COUNTIF($I$3:I160,I160)","v":1},"博士後期課程経営学専攻1",{"$f":"'「志願先」欄  選択一覧'!E160","v":"一般入試"},"博士後期課程経営学専攻一般入試",{"$f":"COUNTIF($M$3:M160,M160)","v":1},"博士後期課程経営学専攻一般入試1","博士後期課程経営学研究科経営学専攻一般入試",{"$f":"'「志願先」欄  選択一覧'!F160","v":"なし"},null,null,149,"",{"$f":"IF(COUNTIF($U$12:U160,U160)=1,V159+1,V159)","v":1},"",{"$error":"#N/A"},{"$f":"IF(COUNTIF($X$12:X160,X160)=1,Y159+1,Y159)","v":1},"",{"$error":"#N/A"},{"$f":"IF(COUNTIF($AA$12:AA160,AA160)=1,AB159+1,AB159)","v":1},"","",{"$f":"IF(COUNTIF($AD$12:AD160,AD160)=1,AE159+1,AE159)","v":1},""]
[{"$f":"'「志願先」欄  選択一覧'!A161","v":159},{"$f":"'「志願先」欄  選択一覧'!B161","v":"博士後期課程"},{"$f":"COUNTIF($B$3:B161,B161)","v":30},"博士後期課程30",{"$f":"'「志願先」欄  選択一覧'!C161","v":"経営学研究科"},{"$f":"COUNTIF($E$3:E161,E161)","v":15},"経営学研究科15",{"$f":"'「志願先」欄  選択一覧'!D161","v":"経営学専攻"},"博士後期課程経営学専攻",{"$f":"COUNTIF($I$3:I161,I161)","v":2},"博士後期課程経営学専攻2",{"$f":"'「志願先」欄  選択一覧'!E161","v":"社会人入試"},"博士後期課程経営学専攻社会人入試",{"$f":"COUNTIF($M$3:M161,M161)","v":1},"博士後期課程経営学専攻社会人入試1","博士後期課程経営学研究科経営学専攻社会人入試",{"$f":"'「志願先」欄  選択一覧'!F161","v":"なし"},null,null,150,"",{"$f":"IF(COUNTIF($U$12:U161,U161)=1,V160+1,V160)","v":1},"",{"$error":"#N/A"},{"$f":"IF(COUNTIF($X$12:X161,X161)=1,Y160+1,Y160)","v":1},"",{"$error":"#N/A"},{"$f":"IF(COUNTIF($AA$12:AA161,AA161)=1,AB160+1,AB160)","v":1},"","",{"$f":"IF(COUNTIF($AD$12:AD161,AD161)=1,AE160+1,AE160)","v":1},""]
[{"$f":"'「志願先」欄  選択一覧'!A162","v":160},{"$f":"'「志願先」欄  選択一覧'!B162","v":"博士後期課程"},{"$f":"COUNTIF($B$3:B162,B162)","v":31},"博士後期課程31",{"$f":"'「志願先」欄  選択一覧'!C162","v":"公共政策研究科"},{"$f":"COUNTIF($E$3:E162,E162)","v":7},{"$f":"E162&F162","v":"公共政策研究科7"},{"$f":"'「志願先」欄  選択一覧'!D162","v":"公共政策学専攻"},"博士後期課程公共政策学専攻",{"$f":"COUNTIF($I$3:I162,I162)","v":1},"博士後期課程公共政策学専攻1",{"$f":"'「志願先」欄  選択一覧'!E162","v":"一般入試"},"博士後期課程公共政策学専攻一般入試",{"$f":"COUNTIF($M$3:M162,M162)","v":1},{"$f":"B162&H162&L162&N162","v":"博士後期課程公共政策学専攻一般入試1"},"博士後期課程公共政策研究科公共政策学専攻一般入試",{"$f":"'「志願先」欄  選択一覧'!F162","v":"なし"},null,null,151,"",{"$f":"IF(COUNTIF($U$12:U162,U162)=1,V161+1,V161)","v":1},"",{"$error":"#N/A"},{"$f":"IF(COUNTIF($X$12:X162,X162)=1,Y161+1,Y161)","v":1},"",{"$error":"#N/A"},{"$f":"IF(COUNTIF($AA$12:AA162,AA162)=1,AB161+1,AB161)","v":1},"","",{"$f":"IF(COUNTIF($AD$12:AD162,AD162)=1,AE161+1,AE161)","v":1},""]
[{"$f":"'「志願先」欄  選択一覧'!A163","v":161},{"$f":"'「志願先」欄  選択一覧'!B163","v":"博士後期課程"},{"$f":"COUNTIF($B$3:B163,B163)","v":32},"博士後期課程32",{"$f":"'「志願先」欄  選択一覧'!C163","v":"公共政策研究科"},{"$f":"COUNTIF($E$3:E163,E163)","v":8},"公共政策研究科8",{"$f":"'「志願先」欄  選択一覧'!D163","v":"サステイナビリティ学専攻"},"博士後期課程サステイナビリティ学専攻",{"$f":"COUNTIF($I$3:I163,I163)","v":1},"博士後期課程サステイナビリティ学専攻1",{"$f":"'「志願先」欄  選択一覧'!E163","v":"一般入試"},"博士後期課程サステイナビリティ学専攻一般入試",{"$f":"COUNTIF($M$3:M163,M163)","v":1},"博士後期課程サステイナビリティ学専攻一般入試1","博士後期課程公共政策研究科サステイナビリティ学専攻一般入試",{"$f":"'「志願先」欄  選択一覧'!F163","v":"なし"},null,null,152,"",{"$f":"IF(COUNTIF($U$12:U163,U163)=1,V162+1,V162)","v":1},"",{"$error":"#N/A"},{"$f":"IF(COUNTIF($X$12:X163,X163)=1,Y162+1,Y162)","v":1},"",{"$error":"#N/A"},{"$f":"IF(COUNTIF($AA$12:AA163,AA163)=1,AB162+1,AB162)","v":1},"","",{"$f":"IF(COUNTIF($AD$12:AD163,AD163)=1,AE162+1,AE162)","v":1},""]
[{"$f":"'「志願先」欄  選択一覧'!A164","v":162},{"$f":"'「志願先」欄  選択一覧'!B164","v":"博士後期課程"},{"$f":"COUNTIF($B$3:B164,B164)","v":33},"博士後期課程33",{"$f":"'「志願先」欄  選択一覧'!C164","v":"公共政策研究科"},{"$f":"COUNTIF($E$3:E164,E164)","v":9},"公共政策研究科9",{"$f":"'「志願先」欄  選択一覧'!D164","v":"公共政策学専攻"},"博士後期課程公共政策学専攻",{"$f":"COUNTIF($I$3:I164,I164)","v":2},"博士後期課程公共政策学専攻2",{"$f":"'「志願先」欄  選択一覧'!E164","v":"社会人入試"},"博士後期課程公共政策学専攻社会人入試",{"$f":"COUNTIF($M$3:M164,M164)","v":1},"博士後期課程公共政策学専攻社会人入試1","博士後期課程公共政策研究科公共政策学専攻社会人入試",{"$f":"'「志願先」欄  選択一覧'!F164","v":"なし"},null,null,153,"",{"$f":"IF(COUNTIF($U$12:U164,U164)=1,V163+1,V163)","v":1},"",{"$error":"#N/A"},{"$f":"IF(COUNTIF($X$12:X164,X164)=1,Y163+1,Y163)","v":1},"",{"$error":"#N/A"},{"$f":"IF(COUNTIF($AA$12:AA164,AA164)=1,AB163+1,AB163)","v":1},"","",{"$f":"IF(COUNTIF($AD$12:AD164,AD164)=1,AE163+1,AE163)","v":1},""]
[{"$f":"'「志願先」欄  選択一覧'!A165","v":163},{"$f":"'「志願先」欄  選択一覧'!B165","v":"博士後期課程"},{"$f":"COUNTIF($B$3:B165,B165)","v":34},"博士後期課程34",{"$f":"'「志願先」欄  選択一覧'!C165","v":"公共政策研究科"},{"$f":"COUNTIF($E$3:E165,E165)","v":10},"公共政策研究科10",{"$f":"'「志願先」欄  選択一覧'!D165","v":"サステイナビリティ学専攻"},"博士後期課程サステイナビリティ学専攻",{"$f":"COUNTIF($I$3:I165,I165)","v":2},"博士後期課程サステイナビリティ学専攻2",{"$f":"'「志願先」欄  選択一覧'!E165","v":"社会人入試"},"博士後期課程サステイナビリティ学専攻社会人入試",{"$f":"COUNTIF($M$3:M165,M165)","v":1},"博士後期課程サステイナビリティ学専攻社会人入試1","博士後期課程公共政策研究科サステイナビリティ学専攻社会人入試",{"$f":"'「志願先」欄  選択一覧'!F165","v":"なし"},null,null,154,"",{"$f":"IF(COUNTIF($U$12:U165,U165)=1,V164+1,V164)","v":1},"",{"$error":"#N/A"},{"$f":"IF(COUNTIF($X$12:X165,X165)=1,Y164+1,Y164)","v":1},"",{"$error":"#N/A"},{"$f":"IF(COUNTIF($AA$12:AA165,AA165)=1,AB164+1,AB164)","v":1},"","",{"$f":"IF(COUNTIF($AD$12:AD165,AD165)=1,AE164+1,AE164)","v":1},""]
[{"$f":"'「志願先」欄  選択一覧'!A166","v":164},{"$f":"'「志願先」欄  選択一覧'!B166","v":"研修生"},{"$f":"COUNTIF($B$3:B166,B166)","v":1},"研修生1",{"$f":"'「志願先」欄  選択一覧'!C166","v":"人文科学研究科"},{"$f":"COUNTIF($E$3:E166,E166)","v":46},"人文科学研究科46",{"$f":"'「志願先」欄  選択一覧'!D166","v":"哲学専攻"},"研修生哲学専攻",{"$f":"COUNTIF($I$3:I166,I166)","v":1},"研修生哲学専攻1",{"$f":"'「志願先」欄  選択一覧'!E166","v":"研修生入試（単願）"},"研修生哲学専攻研修生入試（単願）",{"$f":"COUNTIF($M$3:M166,M166)","v":1},"研修生哲学専攻研修生入試（単願）1","研修生人文科学研究科哲学専攻研修生入試（単願）",{"$f":"'「志願先」欄  選択一覧'!F166","v":"なし"},null,null,155,"",{"$f":"IF(COUNTIF($U$12:U166,U166)=1,V165+1,V165)","v":1},"",{"$error":"#N/A"},{"$f":"IF(COUNTIF($X$12:X166,X166)=1,Y165+1,Y165)","v":1},"",{"$error":"#N/A"},{"$f":"IF(COUNTIF($AA$12:AA166,AA166)=1,AB165+1,AB165)","v":1},"","",{"$f":"IF(COUNTIF($AD$12:AD166,AD166)=1,AE165+1,AE165)","v":1},""]
[{"$f":"'「志願先」欄  選択一覧'!A167","v":165},{"$f":"'「志願先」欄  選択一覧'!B167","v":"研修生"},{"$f":"COUNTIF($B$3:B167,B167)","v":2},"研修生2",{"$f":"'「志願先」欄  選択一覧'!C167","v":"人文科学研究科"},{"$f":"COUNTIF($E$3:E167,E167)","v":47},"人文科学研究科47",{"$f":"'「志願先」欄  選択一覧'!D167","v":"日本文学専攻"},"研修生日本文学専攻",{"$f":"COUNTIF($I$3:I167,I167)","v":1},"研修生日本文学専攻1",{"$f":"'「志願先」欄  選択一覧'!E167","v":"研修生入試（単願）"},"研修生日本文学専攻研修生入試（単願）",{"$f":"COUNTIF($M$3:M167,M167)","v":1},"研修生日本文学専攻研修生入試（単願）1","研修生人文科学研究科日本文学専攻研修生入試（単願）",{"$f":"'「志願先」欄  選択一覧'!F167","v":"なし"},null,null,156,"",{"$f":"IF(COUNTIF($U$12:U167,U167)=1,V166+1,V166)","v":1},"",{"$error":"#N/A"},{"$f":"IF(COUNTIF($X$12:X167,X167)=1,Y166+1,Y166)","v":1},"",{"$error":"#N/A"},{"$f":"IF(COUNTIF($AA$12:AA167,AA167)=1,AB166+1,AB166)","v":1},"","",{"$f":"IF(COUNTIF($AD$12:AD167,AD167)=1,AE166+1,AE166)","v":1},""]
[{"$f":"'「志願先」欄  選択一覧'!A168","v":166},{"$f":"'「志願先」欄  選択一覧'!B168","v":"研修生"},{"$f":"COUNTIF($B$3:B168,B168)","v":3},"研修生3",{"$f":"'「志願先」欄  選択一覧'!C168","v":"人文科学研究科"},{"$f":"COUNTIF($E$3:E168,E168)","v":48},"人文科学研究科48",{"$f":"'「志願先」欄  選択一覧'!D168","v":"英文学専攻"},"研修生英文学専攻",{"$f":"COUNTIF($I$3:I168,I168)","v":1},"研修生英文学専攻1",{"$f":"'「志願先」欄  選択一覧'!E168","v":"研修生入試（単願）"},"研修生英文学専攻研修生入試（単願）",{"$f":"COUNTIF($M$3:M168,M168)","v":1},"研修生英文学専攻研修生入試（単願）1","研修生人文科学研究科英文学専攻研修生入試（単願）",{"$f":"'「志願先」欄  選択一覧'!F168","v":"なし"},null,null,157,"",{"$f":"IF(COUNTIF($U$12:U168,U168)=1,V167+1,V167)","v":1},"",{"$error":"#N/A"},{"$f":"IF(COUNTIF($X$12:X168,X168)=1,Y167+1,Y167)","v":1},"",{"$error":"#N/A"},{"$f":"IF(COUNTIF($AA$12:AA168,AA168)=1,AB167+1,AB167)","v":1},"","",{"$f":"IF(COUNTIF($AD$12:AD168,AD168)=1,AE167+1,AE167)","v":1},""]
[{"$f":"'「志願先」欄  選択一覧'!A169","v":167},{"$f":"'「志願先」欄  選択一覧'!B169","v":"研修生"},{"$f":"COUNTIF($B$3:B169,B169)","v":4},"研修生4",{"$f":"'「志願先」欄  選択一覧'!C169","v":"人文科学研究科"},{"$f":"COUNTIF($E$3:E169,E169)","v":49},"人文科学研究科49",{"$f":"'「志願先」欄  選択一覧'!D169","v":"史学専攻"},"研修生史学専攻",{"$f":"COUNTIF($I$3:I169,I169)","v":1},"研修生史学専攻1",{"$f":"'「志願先」欄  選択一覧'!E169","v":"研修生入試（単願）"},"研修生史学専攻研修生入試（単願）",{"$f":"COUNTIF($M$3:M169,M169)","v":1},"研修生史学専攻研修生入試（単願）1","研修生人文科学研究科史学専攻研修生入試（単願）",{"$f":"'「志願先」欄  選択一覧'!F169","v":"なし"},null,null,158,"",{"$f":"IF(COUNTIF($U$12:U169,U169)=1,V168+1,V168)","v":1},"",{"$error":"#N/A"},{"$f":"IF(COUNTIF($X$12:X169,X169)=1,Y168+1,Y168)","v":1},"",{"$error":"#N/A"},{"$f":"IF(COUNTIF($AA$12:AA169,AA169)=1,AB168+1,AB168)","v":1},"","",{"$f":"IF(COUNTIF($AD$12:AD169,AD169)=1,AE168+1,AE168)","v":1},""]
[{"$f":"'「志願先」欄  選択一覧'!A170","v":168},{"$f":"'「志願先」欄  選択一覧'!B170","v":"研修生"},{"$f":"COUNTIF($B$3:B170,B170)","v":5},"研修生5",{"$f":"'「志願先」欄  選択一覧'!C170","v":"人文科学研究科"},{"$f":"COUNTIF($E$3:E170,E170)","v":50},"人文科学研究科50",{"$f":"'「志願先」欄  選択一覧'!D170","v":"地理学専攻"},"研修生地理学専攻",{"$f":"COUNTIF($I$3:I170,I170)","v":1},"研修生地理学専攻1",{"$f":"'「志願先」欄  選択一覧'!E170","v":"研修生入試（単願）"},"研修生地理学専攻研修生入試（単願）",{"$f":"COUNTIF($M$3:M170,M170)","v":1},"研修生地理学専攻研修生入試（単願）1","研修生人文科学研究科地理学専攻研修生入試（単願）",{"$f":"'「志願先」欄  選択一覧'!F170","v":"なし"},null,null,159,"",{"$f":"IF(COUNTIF($U$12:U170,U170)=1,V169+1,V169)","v":1},"",{"$error":"#N/A"},{"$f":"IF(COUNTIF($X$12:X170,X170)=1,Y169+1,Y169)","v":1},"",{"$error":"#N/A"},{"$f":"IF(COUNTIF($AA$12:AA170,AA170)=1,AB169+1,AB169)","v":1},"","",{"$f":"IF(COUNTIF($AD$12:AD170,AD170)=1,AE169+1,AE169)","v":1},""]
[{"$f":"'「志願先」欄  選択一覧'!A171","v":169},{"$f":"'「志願先」欄  選択一覧'!B171","v":"研修生"},{"$f":"COUNTIF($B$3:B171,B171)","v":6},"研修生6",{"$f":"'「志願先」欄  選択一覧'!C171","v":"人文科学研究科"},{"$f":"COUNTIF($E$3:E171,E171)","v":51},"人文科学研究科51",{"$f":"'「志願先」欄  選択一覧'!D171","v":"心理学専攻"},"研修生心理学専攻",{"$f":"COUNTIF($I$3:I171,I171)","v":1},"研修生心理学専攻1",{"$f":"'「志願先」欄  選択一覧'!E171","v":"研修生入試（単願）"},"研修生心理学専攻研修生入試（単願）",{"$f":"COUNTIF($M$3:M171,M171)","v":1},"研修生心理学専攻研修生入試（単願）1","研修生人文科学研究科心理学専攻研修生入試（単願）",{"$f":"'「志願先」欄  選択一覧'!F171","v":"なし"},null,null,160,"",{"$f":"IF(COUNTIF($U$12:U171,U171)=1,V170+1,V170)","v":1},"",{"$error":"#N/A"},{"$f":"IF(COUNTIF($X$12:X171,X171)=1,Y170+1,Y170)","v":1},"",{"$error":"#N/A"},{"$f":"IF(COUNTIF($AA$12:AA171,AA171)=1,AB170+1,AB170)","v":1},"","",{"$f":"IF(COUNTIF($AD$12:AD171,AD171)=1,AE170+1,AE170)","v":1},""]
[{"$f":"'「志願先」欄  選択一覧'!A172","v":170},{"$f":"'「志願先」欄  選択一覧'!B172","v":"研修生"},{"$f":"COUNTIF($B$3:B172,B172)","v":7},"研修生7",{"$f":"'「志願先」欄  選択一覧'!C172","v":"人文科学研究科"},{"$f":"COUNTIF($E$3:E172,E172)","v":52},"人文科学研究科52",{"$f":"'「志願先」欄  選択一覧'!D172","v":"国際日本学インスティテュート"},"研修生国際日本学インスティテュート",{"$f":"COUNTIF($I$3:I172,I172)","v":1},"研修生国際日本学インスティテュート1",{"$f":"'「志願先」欄  選択一覧'!E172","v":"研修生入試（単願）"},"研修生国際日本学インスティテュート研修生入試（単願）",{"$f":"COUNTIF($M$3:M172,M172)","v":1},"研修生国際日本学インスティテュート研修生入試（単願）1","研修生人文科学研究科国際日本学インスティテュート研修生入試（単願）",{"$f":"'「志願先」欄  選択一覧'!F172","v":"所属専攻：哲学"},null,null,161,"",{"$f":"IF(COUNTIF($U$12:U172,U172)=1,V171+1,V171)","v":1},"",{"$error":"#N/A"},{"$f":"IF(COUNTIF($X$12:X172,X172)=1,Y171+1,Y171)","v":1},"",{"$error":"#N/A"},{"$f":"IF(COUNTIF($AA$12:AA172,AA172)=1,AB171+1,AB171)","v":1},"","",{"$f":"IF(COUNTIF($AD$12:AD172,AD172)=1,AE171+1,AE171)","v":1},""]
[{"$f":"'「志願先」欄  選択一覧'!A173","v":171},{"$f":"'「志願先」欄  選択一覧'!B173","v":"研修生"},{"$f":"COUNTIF($B$3:B173,B173)","v":8},"研修生8",{"$f":"'「志願先」欄  選択一覧'!C173","v":"人文科学研究科"},{"$f":"COUNTIF($E$3:E173,E173)","v":53},"人文科学研究科53",{"$f":"'「志願先」欄  選択一覧'!D173","v":"国際日本学インスティテュート"},"研修生国際日本学インスティテュート",{"$f":"COUNTIF($I$3:I173,I173)","v":2},"研修生国際日本学インスティテュート2",{"$f":"'「志願先」欄  選択一覧'!E173","v":"研修生入試（単願）"},"研修生国際日本学インスティテュート研修生入試（単願）",{"$f":"COUNTIF($M$3:M173,M173)","v":2},"研修生国際日本学インスティテュート研修生入試（単願）2","研修生人文科学研究科国際日本学インスティテュート研修生入試（単願）",{"$f":"'「志願先」欄  選択一覧'!F173","v":"所属専攻：日本文学"},null,null,162,"",{"$f":"IF(COUNTIF($U$12:U173,U173)=1,V172+1,V172)","v":1},"",{"$error":"#N/A"},{"$f":"IF(COUNTIF($X$12:X173,X173)=1,Y172+1,Y172)","v":1},"",{"$error":"#N/A"},{"$f":"IF(COUNTIF($AA$12:AA173,AA173)=1,AB172+1,AB172)","v":1},"","",{"$f":"IF(COUNTIF($AD$12:AD173,AD173)=1,AE172+1,AE172)","v":1},""]
[{"$f":"'「志願先」欄  選択一覧'!A174","v":172},{"$f":"'「志願先」欄  選択一覧'!B174","v":"研修生"},{"$f":"COUNTIF($B$3:B174,B174)","v":9},"研修生9",{"$f":"'「志願先」欄  選択一覧'!C174","v":"人文科学研究科"},{"$f":"COUNTIF($E$3:E174,E174)","v":54},"人文科学研究科54",{"$f":"'「志願先」欄  選択一覧'!D174","v":"国際日本学インスティテュート"},"研修生国際日本学インスティテュート",{"$f":"COUNTIF($I$3:I174,I174)","v":3},"研修生国際日本学インスティテュート3",{"$f":"'「志願先」欄  選択一覧'!E174","v":"研修生入試（単願）"},"研修生国際日本学インスティテュート研修生入試（単願）",{"$f":"COUNTIF($M$3:M174,M174)","v":3},"研修生国際日本学インスティテュート研修生入試（単願）3","研修生人文科学研究科国際日本学インスティテュート研修生入試（単願）",{"$f":"'「志願先」欄  選択一覧'!F174","v":"所属専攻：英文学"},null,null,163,"",{"$f":"IF(COUNTIF($U$12:U174,U174)=1,V173+1,V173)","v":1},"",{"$error":"#N/A"},{"$f":"IF(COUNTIF($X$12:X174,X174)=1,Y173+1,Y173)","v":1},"",{"$error":"#N/A"},{"$f":"IF(COUNTIF($AA$12:AA174,AA174)=1,AB173+1,AB173)","v":1},"","",{"$f":"IF(COUNTIF($AD$12:AD174,AD174)=1,AE173+1,AE173)","v":1},""]
[{"$f":"'「志願先」欄  選択一覧'!A175","v":173},{"$f":"'「志願先」欄  選択一覧'!B175","v":"研修生"},{"$f":"COUNTIF($B$3:B175,B175)","v":10},"研修生10",{"$f":"'「志願先」欄  選択一覧'!C175","v":"人文科学研究科"},{"$f":"COUNTIF($E$3:E175,E175)","v":55},"人文科学研究科55",{"$f":"'「志願先」欄  選択一覧'!D175","v":"国際日本学インスティテュート"},"研修生国際日本学インスティテュート",{"$f":"COUNTIF($I$3:I175,I175)","v":4},"研修生国際日本学インスティテュート4",{"$f":"'「志願先」欄  選択一覧'!E175","v":"研修生入試（単願）"},"研修生国際日本学インスティテュート研修生入試（単願）",{"$f":"COUNTIF($M$3:M175,M175)","v":4},"研修生国際日本学インスティテュート研修生入試（単願）4","研修生人文科学研究科国際日本学インスティテュート研修生入試（単願）",{"$f":"'「志願先」欄  選択一覧'!F175","v":"所属専攻：史学"},null,null,164,"",{"$f":"IF(COUNTIF($U$12:U175,U175)=1,V174+1,V174)","v":1},"",{"$error":"#N/A"},{"$f":"IF(COUNTIF($X$12:X175,X175)=1,Y174+1,Y174)","v":1},"",{"$error":"#N/A"},{"$f":"IF(COUNTIF($AA$12:AA175,AA175)=1,AB174+1,AB174)","v":1},"","",{"$f":"IF(COUNTIF($AD$12:AD175,AD175)=1,AE174+1,AE174)","v":1},""]
[{"$f":"'「志願先」欄  選択一覧'!A176","v":174},{"$f":"'「志願先」欄  選択一覧'!B176","v":"研修生"},{"$f":"COUNTIF($B$3:B176,B176)","v":11},"研修生11",{"$f":"'「志願先」欄  選択一覧'!C176","v":"人文科学研究科"},{"$f":"COUNTIF($E$3:E176,E176)","v":56},"人文科学研究科56",{"$f":"'「志願先」欄  選択一覧'!D176","v":"国際日本学インスティテュート"},"研修生国際日本学インスティテュート",{"$f":"COUNTIF($I$3:I176,I176)","v":5},"研修生国際日本学インスティテュート5",{"$f":"'「志願先」欄  選択一覧'!E176","v":"研修生入試（単願）"},"研修生国際日本学インスティテュート研修生入試（単願）",{"$f":"COUNTIF($M$3:M176,M176)","v":5},"研修生国際日本学インスティテュート研修生入試（単願）5","研修生人文科学研究科国際日本学インスティテュート研修生入試（単願）",{"$f":"'「志願先」欄  選択一覧'!F176","v":"所属専攻：地理学"},null,null,165,"",{"$f":"IF(COUNTIF($U$12:U176,U176)=1,V175+1,V175)","v":1},"",{"$error":"#N/A"},{"$f":"IF(COUNTIF($X$12:X176,X176)=1,Y175+1,Y175)","v":1},"",{"$error":"#N/A"},{"$f":"IF(COUNTIF($AA$12:AA176,AA176)=1,AB175+1,AB175)","v":1},"","",{"$f":"IF(COUNTIF($AD$12:AD176,AD176)=1,AE175+1,AE175)","v":1},""]
[{"$f":"'「志願先」欄  選択一覧'!A177","v":175},{"$f":"'「志願先」欄  選択一覧'!B177","v":"研修生"},{"$f":"COUNTIF($B$3:B177,B177)","v":12},"研修生12",{"$f":"'「志願先」欄  選択一覧'!C177","v":"国際文化研究科"},{"$f":"COUNTIF($E$3:E177,E177)","v":7},"国際文化研究科7",{"$f":"'「志願先」欄  選択一覧'!D177","v":"国際文化専攻"},"研修生国際文化専攻",{"$f":"COUNTIF($I$3:I177,I177)","v":1},"研修生国際文化専攻1",{"$f":"'「志願先」欄  選択一覧'!E177","v":"研修生入試（単願）"},"研修生国際文化専攻研修生入試（単願）",{"$f":"COUNTIF($M$3:M177,M177)","v":1},"研修生国際文化専攻研修生入試（単願）1","研修生国際文化研究科国際文化専攻研修生入試（単願）",{"$f":"'「志願先」欄  選択一覧'!F177","v":"なし"},null,null,166,"",{"$f":"IF(COUNTIF($U$12:U177,U177)=1,V176+1,V176)","v":1},"",{"$error":"#N/A"},{"$f":"IF(COUNTIF($X$12:X177,X177)=1,Y176+1,Y176)","v":1},"",{"$error":"#N/A"},{"$f":"IF(COUNTIF($AA$12:AA177,AA177)=1,AB176+1,AB176)","v":1},"","",{"$f":"IF(COUNTIF($AD$12:AD177,AD177)=1,AE176+1,AE176)","v":1},""]
[{"$f":"'「志願先」欄  選択一覧'!A178","v":176},{"$f":"'「志願先」欄  選択一覧'!B178","v":"研修生"},{"$f":"COUNTIF($B$3:B178,B178)","v":13},"研修生13",{"$f":"'「志願先」欄  選択一覧'!C178","v":"経済学研究科"},{"$f":"COUNTIF($E$3:E178,E178)","v":51},"経済学研究科51",{"$f":"'「志願先」欄  選択一覧'!D178","v":"経済学専攻"},"研修生経済学専攻",{"$f":"COUNTIF($I$3:I178,I178)","v":1},"研修生経済学専攻1",{"$f":"'「志願先」欄  選択一覧'!E178","v":"研修生入試（単願）"},"研修生経済学専攻研修生入試（単願）",{"$f":"COUNTIF($M$3:M178,M178)","v":1},"研修生経済学専攻研修生入試（単願）1","研修生経済学研究科経済学専攻研修生入試（単願）",{"$f":"'「志願先」欄  選択一覧'!F178","v":"歴史・思想・制度"},null,null,167,"",{"$f":"IF(COUNTIF($U$12:U178,U178)=1,V177+1,V177)","v":1},"",{"$error":"#N/A"},{"$f":"IF(COUNTIF($X$12:X178,X178)=1,Y177+1,Y177)","v":1},"",{"$error":"#N/A"},{"$f":"IF(COUNTIF($AA$12:AA178,AA178)=1,AB177+1,AB177)","v":1},"","",{"$f":"IF(COUNTIF($AD$12:AD178,AD178)=1,AE177+1,AE177)","v":1},""]
[{"$f":"'「志願先」欄  選択一覧'!A179","v":177},{"$f":"'「志願先」欄  選択一覧'!B179","v":"研修生"},{"$f":"COUNTIF($B$3:B179,B179)","v":14},"研修生14",{"$f":"'「志願先」欄  選択一覧'!C179","v":"経済学研究科"},{"$f":"COUNTIF($E$3:E179,E179)","v":52},"経済学研究科52",{"$f":"'「志願先」欄  選択一覧'!D179","v":"経済学専攻"},"研修生経済学専攻",{"$f":"COUNTIF($I$3:I179,I179)","v":2},"研修生経済学専攻2",{"$f":"'「志願先」欄  選択一覧'!E179","v":"研修生入試（単願）"},"研修生経済学専攻研修生入試（単願）",{"$f":"COUNTIF($M$3:M179,M179)","v":2},"研修生経済学専攻研修生入試（単願）2","研修生経済学研究科経済学専攻研修生入試（単願）",{"$f":"'「志願先」欄  選択一覧'!F179","v":"金融・企業"},null,null,168,"",{"$f":"IF(COUNTIF($U$12:U179,U179)=1,V178+1,V178)","v":1},"",{"$error":"#N/A"},{"$f":"IF(COUNTIF($X$12:X179,X179)=1,Y178+1,Y178)","v":1},"",{"$error":"#N/A"},{"$f":"IF(COUNTIF($AA$12:AA179,AA179)=1,AB178+1,AB178)","v":1},"","",{"$f":"IF(COUNTIF($AD$12:AD179,AD179)=1,AE178+1,AE178)","v":1},""]
[{"$f":"'「志願先」欄  選択一覧'!A180","v":178},{"$f":"'「志願先」欄  選択一覧'!B180","v":"研修生"},{"$f":"COUNTIF($B$3:B180,B180)","v":15},"研修生15",{"$f":"'「志願先」欄  選択一覧'!C180","v":"経済学研究科"},{"$f":"COUNTIF($E$3:E180,E180)","v":53},"経済学研究科53",{"$f":"'「志願先」欄  選択一覧'!D180","v":"経済学専攻"},"研修生経済学専攻",{"$f":"COUNTIF($I$3:I180,I180)","v":3},"研修生経済学専攻3",{"$f":"'「志願先」欄  選択一覧'!E180","v":"研修生入試（単願）"},"研修生経済学専攻研修生入試（単願）",{"$f":"COUNTIF($M$3:M180,M180)","v":3},"研修生経済学専攻研修生入試（単願）3","研修生経済学研究科経済学専攻研修生入試（単願）",{"$f":"'「志願先」欄  選択一覧'!F180","v":"政策・環境"},null,null,169,"",{"$f":"IF(COUNTIF($U$12:U180,U180)=1,V179+1,V179)","v":1},"",{"$error":"#N/A"},{"$f":"IF(COUNTIF($X$12:X180,X180)=1,Y179+1,Y179)","v":1},"",{"$error":"#N/A"},{"$f":"IF(COUNTIF($AA$12:AA180,AA180)=1,AB179+1,AB179)","v":1},"","",{"$f":"IF(COUNTIF($AD$12:AD180,AD180)=1,AE179+1,AE179)","v":1},""]
[{"$f":"'「志願先」欄  選択一覧'!A181","v":179},{"$f":"'「志願先」欄  選択一覧'!B181","v":"研修生"},{"$f":"COUNTIF($B$3:B181,B181)","v":16},"研修生16",{"$f":"'「志願先」欄  選択一覧'!C181","v":"経済学研究科"},{"$f":"COUNTIF($E$3:E181,E181)","v":54},"経済学研究科54",{"$f":"'「志願先」欄  選択一覧'!D181","v":"経済学専攻"},"研修生経済学専攻",{"$f":"COUNTIF($I$3:I181,I181)","v":4},"研修生経済学専攻4",{"$f":"'「志願先」欄  選択一覧'!E181","v":"研修生入試（単願）"},"研修生経済学専攻研修生入試（単願）",{"$f":"COUNTIF($M$3:M181,M181)","v":4},"研修生経済学専攻研修生入試（単願）4","研修生経済学研究科経済学専攻研修生入試（単願）",{"$f":"'「志願先」欄  選択一覧'!F181","v":"国際・地域"},null,null,170,"",{"$f":"IF(COUNTIF($U$12:U181,U181)=1,V180+1,V180)","v":1},"",{"$error":"#N/A"},{"$f":"IF(COUNTIF($X$12:X181,X181)=1,Y180+1,Y180)","v":1},"",{"$error":"#N/A"},{"$f":"IF(COUNTIF($AA$12:AA181,AA181)=1,AB180+1,AB180)","v":1},"","",{"$f":"IF(COUNTIF($AD$12:AD181,AD181)=1,AE180+1,AE180)","v":1},""]
[{"$f":"'「志願先」欄  選択一覧'!A182","v":180},{"$f":"'「志願先」欄  選択一覧'!B182","v":"研修生"},{"$f":"COUNTIF($B$3:B182,B182)","v":17},"研修生17",{"$f":"'「志願先」欄  選択一覧'!C182","v":"経済学研究科"},{"$f":"COUNTIF($E$3:E182,E182)","v":55},"経済学研究科55",{"$f":"'「志願先」欄  選択一覧'!D182","v":"経済学専攻"},"研修生経済学専攻",{"$f":"COUNTIF($I$3:I182,I182)","v":5},"研修生経済学専攻5",{"$f":"'「志願先」欄  選択一覧'!E182","v":"研修生入試（単願）"},"研修生経済学専攻研修生入試（単願）",{"$f":"COUNTIF($M$3:M182,M182)","v":5},"研修生経済学専攻研修生入試（単願）5","研修生経済学研究科経済学専攻研修生入試（単願）",{"$f":"'「志願先」欄  選択一覧'!F182","v":"応用ミクロ・応用マクロ・計量"},null,null,171,"",{"$f":"IF(COUNTIF($U$12:U182,U182)=1,V181+1,V181)","v":1},"",{"$error":"#N/A"},{"$f":"IF(COUNTIF($X$12:X182,X182)=1,Y181+1,Y181)","v":1},"",{"$error":"#N/A"},{"$f":"IF(COUNTIF($AA$12:AA182,AA182)=1,AB181+1,AB181)","v":1},"","",{"$f":"IF(COUNTIF($AD$12:AD182,AD182)=1,AE181+1,AE181)","v":1},""]
[{"$f":"'「志願先」欄  選択一覧'!A183","v":181},{"$f":"'「志願先」欄  選択一覧'!B183","v":"研修生"},{"$f":"COUNTIF($B$3:B183,B183)","v":18},"研修生18",{"$f":"'「志願先」欄  選択一覧'!C183","v":"法学研究科"},{"$f":"COUNTIF($E$3:E183,E183)","v":5},"法学研究科5",{"$f":"'「志願先」欄  選択一覧'!D183","v":"法律学専攻"},"研修生法律学専攻",{"$f":"COUNTIF($I$3:I183,I183)","v":1},"研修生法律学専攻1",{"$f":"'「志願先」欄  選択一覧'!E183","v":"研修生入試（単願）"},"研修生法律学専攻研修生入試（単願）",{"$f":"COUNTIF($M$3:M183,M183)","v":1},"研修生法律学専攻研修生入試（単願）1","研修生法学研究科法律学専攻研修生入試（単願）",{"$f":"'「志願先」欄  選択一覧'!F183","v":"なし"},null,null,172,"",{"$f":"IF(COUNTIF($U$12:U183,U183)=1,V182+1,V182)","v":1},"",{"$error":"#N/A"},{"$f":"IF(COUNTIF($X$12:X183,X183)=1,Y182+1,Y182)","v":1},"",{"$error":"#N/A"},{"$f":"IF(COUNTIF($AA$12:AA183,AA183)=1,AB182+1,AB182)","v":1},"","",{"$f":"IF(COUNTIF($AD$12:AD183,AD183)=1,AE182+1,AE182)","v":1},""]
[{"$f":"'「志願先」欄  選択一覧'!A184","v":182},{"$f":"'「志願先」欄  選択一覧'!B184","v":"研修生"},{"$f":"COUNTIF($B$3:B184,B184)","v":19},"研修生19",{"$f":"'「志願先」欄  選択一覧'!C184","v":"政治学研究科"},{"$f":"COUNTIF($E$3:E184,E184)","v":7},"政治学研究科7",{"$f":"'「志願先」欄  選択一覧'!D184","v":"政治学専攻"},"研修生政治学専攻",{"$f":"COUNTIF($I$3:I184,I184)","v":1},"研修生政治学専攻1",{"$f":"'「志願先」欄  選択一覧'!E184","v":"研修生入試（単願）"},"研修生政治学専攻研修生入試（単願）",{"$f":"COUNTIF($M$3:M184,M184)","v":1},"研修生政治学専攻研修生入試（単願）1","研修生政治学研究科政治学専攻研修生入試（単願）",{"$f":"'「志願先」欄  選択一覧'!F184","v":"なし"},null,null,173,"",{"$f":"IF(COUNTIF($U$12:U184,U184)=1,V183+1,V183)","v":1},"",{"$error":"#N/A"},{"$f":"IF(COUNTIF($X$12:X184,X184)=1,Y183+1,Y183)","v":1},"",{"$error":"#N/A"},{"$f":"IF(COUNTIF($AA$12:AA184,AA184)=1,AB183+1,AB183)","v":1},"","",{"$f":"IF(COUNTIF($AD$12:AD184,AD184)=1,AE183+1,AE183)","v":1},""]
[{"$f":"'「志願先」欄  選択一覧'!A185","v":183},{"$f":"'「志願先」欄  選択一覧'!B185","v":"研修生"},{"$f":"COUNTIF($B$3:B185,B185)","v":20},"研修生20",{"$f":"'「志願先」欄  選択一覧'!C185","v":"政治学研究科"},{"$f":"COUNTIF($E$3:E185,E185)","v":8},"政治学研究科8",{"$f":"'「志願先」欄  選択一覧'!D185","v":"国際政治学専攻"},"研修生国際政治学専攻",{"$f":"COUNTIF($I$3:I185,I185)","v":1},"研修生国際政治学専攻1",{"$f":"'「志願先」欄  選択一覧'!E185","v":"研修生入試（単願）"},"研修生国際政治学専攻研修生入試（単願）",{"$f":"COUNTIF($M$3:M185,M185)","v":1},"研修生国際政治学専攻研修生入試（単願）1","研修生政治学研究科国際政治学専攻研修生入試（単願）",{"$f":"'「志願先」欄  選択一覧'!F185","v":"なし"},null,null,174,"",{"$f":"IF(COUNTIF($U$12:U185,U185)=1,V184+1,V184)","v":1},"",{"$error":"#N/A"},{"$f":"IF(COUNTIF($X$12:X185,X185)=1,Y184+1,Y184)","v":1},"",{"$error":"#N/A"},{"$f":"IF(COUNTIF($AA$12:AA185,AA185)=1,AB184+1,AB184)","v":1},"","",{"$f":"IF(COUNTIF($AD$12:AD185,AD185)=1,AE184+1,AE184)","v":1},""]
[{"$f":"'「志願先」欄  選択一覧'!A186","v":184},{"$f":"'「志願先」欄  選択一覧'!B186","v":"研修生"},{"$f":"COUNTIF($B$3:B186,B186)","v":21},"研修生21",{"$f":"'「志願先」欄  選択一覧'!C186","v":"社会学研究科"},{"$f":"COUNTIF($E$3:E186,E186)","v":8},"社会学研究科8",{"$f":"'「志願先」欄  選択一覧'!D186","v":"社会学専攻"},"研修生社会学専攻",{"$f":"COUNTIF($I$3:I186,I186)","v":1},"研修生社会学専攻1",{"$f":"'「志願先」欄  選択一覧'!E186","v":"研修生入試（単願）"},"研修生社会学専攻研修生入試（単願）",{"$f":"COUNTIF($M$3:M186,M186)","v":1},"研修生社会学専攻研修生入試（単願）1","研修生社会学研究科社会学専攻研修生入試（単願）",{"$f":"'「志願先」欄  選択一覧'!F186","v":"社会学コース"},null,null,175,"",{"$f":"IF(COUNTIF($U$12:U186,U186)=1,V185+1,V185)","v":1},"",{"$error":"#N/A"},{"$f":"IF(COUNTIF($X$12:X186,X186)=1,Y185+1,Y185)","v":1},"",{"$error":"#N/A"},{"$f":"IF(COUNTIF($AA$12:AA186,AA186)=1,AB185+1,AB185)","v":1},"","",{"$f":"IF(COUNTIF($AD$12:AD186,AD186)=1,AE185+1,AE185)","v":1},""]
[{"$f":"'「志願先」欄  選択一覧'!A187","v":185},{"$f":"'「志願先」欄  選択一覧'!B187","v":"研修生"},{"$f":"COUNTIF($B$3:B187,B187)","v":22},"研修生22",{"$f":"'「志願先」欄  選択一覧'!C187","v":"社会学研究科"},{"$f":"COUNTIF($E$3:E187,E187)","v":9},"社会学研究科9",{"$f":"'「志願先」欄  選択一覧'!D187","v":"社会学専攻"},"研修生社会学専攻",{"$f":"COUNTIF($I$3:I187,I187)","v":2},"研修生社会学専攻2",{"$f":"'「志願先」欄  選択一覧'!E187","v":"研修生入試（単願）"},"研修生社会学専攻研修生入試（単願）",{"$f":"COUNTIF($M$3:M187,M187)","v":2},"研修生社会学専攻研修生入試（単願）2","研修生社会学研究科社会学専攻研修生入試（単願）",{"$f":"'「志願先」欄  選択一覧'!F187","v":"メディアコース"},null,null,176,"",{"$f":"IF(COUNTIF($U$12:U187,U187)=1,V186+1,V186)","v":1},"",{"$error":"#N/A"},{"$f":"IF(COUNTIF($X$12:X187,X187)=1,Y186+1,Y186)","v":1},"",{"$error":"#N/A"},{"$f":"IF(COUNTIF($AA$12:AA187,AA187)=1,AB186+1,AB186)","v":1},"","",{"$f":"IF(COUNTIF($AD$12:AD187,AD187)=1,AE186+1,AE186)","v":1},""]
[{"$f":"'「志願先」欄  選択一覧'!A188","v":186},{"$f":"'「志願先」欄  選択一覧'!B188","v":"研修生"},{"$f":"COUNTIF($B$3:B188,B188)","v":23},"研修生23",{"$f":"'「志願先」欄  選択一覧'!C188","v":"経営学研究科"},{"$f":"COUNTIF($E$3:E188,E188)","v":16},"経営学研究科16",{"$f":"'「志願先」欄  選択一覧'!D188","v":"経営学専攻"},"研修生経営学専攻",{"$f":"COUNTIF($I$3:I188,I188)","v":1},"研修生経営学専攻1",{"$f":"'「志願先」欄  選択一覧'!E188","v":"研修生入試（単願）"},"研修生経営学専攻研修生入試（単願）",{"$f":"COUNTIF($M$3:M188,M188)","v":1},"研修生経営学専攻研修生入試（単願）1","研修生経営学研究科経営学専攻研修生入試（単願）",{"$f":"'「志願先」欄  選択一覧'!F188","v":"戦略・企業家"},null,null,177,"",{"$f":"IF(COUNTIF($U$12:U188,U188)=1,V187+1,V187)","v":1},"",{"$error":"#N/A"},{"$f":"IF(COUNTIF($X$12:X188,X188)=1,Y187+1,Y187)","v":1},"",{"$error":"#N/A"},{"$f":"IF(COUNTIF($AA$12:AA188,AA188)=1,AB187+1,AB187)","v":1},"","",{"$f":"IF(COUNTIF($AD$12:AD188,AD188)=1,AE187+1,AE187)","v":1},""]
[{"$f":"'「志願先」欄  選択一覧'!A189","v":187},{"$f":"'「志願先」欄  選択一覧'!B189","v":"研修生"},{"$f":"COUNTIF($B$3:B189,B189)","v":24},"研修生24",{"$f":"'「志願先」欄  選択一覧'!C189","v":"経営学研究科"},{"$f":"COUNTIF($E$3:E189,E189)","v":17},"経営学研究科17",{"$f":"'「志願先」欄  選択一覧'!D189","v":"経営学専攻"},"研修生経営学専攻",{"$f":"COUNTIF($I$3:I189,I189)","v":2},"研修生経営学専攻2",{"$f":"'「志願先」欄  選択一覧'!E189","v":"研修生入試（単願）"},"研修生経営学専攻研修生入試（単願）",{"$f":"COUNTIF($M$3:M189,M189)","v":2},"研修生経営学専攻研修生入試（単願）2","研修生経営学研究科経営学専攻研修生入試（単願）",{"$f":"'「志願先」欄  選択一覧'!F189","v":"マーケティング"},null,null,178,"",{"$f":"IF(COUNTIF($U$12:U189,U189)=1,V188+1,V188)","v":1},"",{"$error":"#N/A"},{"$f":"IF(COUNTIF($X$12:X189,X189)=1,Y188+1,Y188)","v":1},"",{"$error":"#N/A"},{"$f":"IF(COUNTIF($AA$12:AA189,AA189)=1,AB188+1,AB188)","v":1},"","",{"$f":"IF(COUNTIF($AD$12:AD189,AD189)=1,AE188+1,AE188)","v":1},""]
[{"$f":"'「志願先」欄  選択一覧'!A190","v":188},{"$f":"'「志願先」欄  選択一覧'!B190","v":"研修生"},{"$f":"COUNTIF($B$3:B190,B190)","v":25},"研修生25",{"$f":"'「志願先」欄  選択一覧'!C190","v":"経営学研究科"},{"$f":"COUNTIF($E$3:E190,E190)","v":18},"経営学研究科18",{"$f":"'「志願先」欄  選択一覧'!D190","v":"経営学専攻"},"研修生経営学専攻",{"$f":"COUNTIF($I$3:I190,I190)","v":3},"研修生経営学専攻3",{"$f":"'「志願先」欄  選択一覧'!E190","v":"研修生入試（単願）"},"研修生経営学専攻研修生入試（単願）",{"$f":"COUNTIF($M$3:M190,M190)","v":3},"研修生経営学専攻研修生入試（単願）3","研修生経営学研究科経営学専攻研修生入試（単願）",{"$f":"'「志願先」欄  選択一覧'!F190","v":"国際経営"},null,null,179,"",{"$f":"IF(COUNTIF($U$12:U190,U190)=1,V189+1,V189)","v":1},"",{"$error":"#N/A"},{"$f":"IF(COUNTIF($X$12:X190,X190)=1,Y189+1,Y189)","v":1},"",{"$error":"#N/A"},{"$f":"IF(COUNTIF($AA$12:AA190,AA190)=1,AB189+1,AB189)","v":1},"","",{"$f":"IF(COUNTIF($AD$12:AD190,AD190)=1,AE189+1,AE189)","v":1},""]
[{"$f":"'「志願先」欄  選択一覧'!A191","v":189},{"$f":"'「志願先」欄  選択一覧'!B191","v":"研修生"},{"$f":"COUNTIF($B$3:B191,B191)","v":26},"研修生26",{"$f":"'「志願先」欄  選択一覧'!C191","v":"経営学研究科"},{"$f":"COUNTIF($E$3:E191,E191)","v":19},"経営学研究科19",{"$f":"'「志願先」欄  選択一覧'!D191","v":"経営学専攻"},"研修生経営学専攻",{"$f":"COUNTIF($I$3:I191,I191)","v":4},"研修生経営学専攻4",{"$f":"'「志願先」欄  選択一覧'!E191","v":"研修生入試（単願）"},"研修生経営学専攻研修生入試（単願）",{"$f":"COUNTIF($M$3:M191,M191)","v":4},"研修生経営学専攻研修生入試（単願）4","研修生経営学研究科経営学専攻研修生入試（単願）",{"$f":"'「志願先」欄  選択一覧'!F191","v":"経営史"},null,null,180,"",{"$f":"IF(COUNTIF($U$12:U191,U191)=1,V190+1,V190)","v":1},"",{"$error":"#N/A"},{"$f":"IF(COUNTIF($X$12:X191,X191)=1,Y190+1,Y190)","v":1},"",{"$error":"#N/A"},{"$f":"IF(COUNTIF($AA$12:AA191,AA191)=1,AB190+1,AB190)","v":1},"","",{"$f":"IF(COUNTIF($AD$12:AD191,AD191)=1,AE190+1,AE190)","v":1},""]
[{"$f":"'「志願先」欄  選択一覧'!A192","v":190},{"$f":"'「志願先」欄  選択一覧'!B192","v":"研修生"},{"$f":"COUNTIF($B$3:B192,B192)","v":27},"研修生27",{"$f":"'「志願先」欄  選択一覧'!C192","v":"経営学研究科"},{"$f":"COUNTIF($E$3:E192,E192)","v":20},"経営学研究科20",{"$f":"'「志願先」欄  選択一覧'!D192","v":"経営学専攻"},"研修生経営学専攻",{"$f":"COUNTIF($I$3:I192,I192)","v":5},"研修生経営学専攻5",{"$f":"'「志願先」欄  選択一覧'!E192","v":"研修生入試（単願）"},"研修生経営学専攻研修生入試（単願）",{"$f":"COUNTIF($M$3:M192,M192)","v":5},"研修生経営学専攻研修生入試（単願）5","研修生経営学研究科経営学専攻研修生入試（単願）",{"$f":"'「志願先」欄  選択一覧'!F192","v":"会計"},null,null,181,"",{"$f":"IF(COUNTIF($U$12:U192,U192)=1,V191+1,V191)","v":1},"",{"$error":"#N/A"},{"$f":"IF(COUNTIF($X$12:X192,X192)=1,Y191+1,Y191)","v":1},"",{"$error":"#N/A"},{"$f":"IF(COUNTIF($AA$12:AA192,AA192)=1,AB191+1,AB191)","v":1},"","",{"$f":"IF(COUNTIF($AD$12:AD192,AD192)=1,AE191+1,AE191)","v":1},""]
[{"$f":"'「志願先」欄  選択一覧'!A193","v":191},{"$f":"'「志願先」欄  選択一覧'!B193","v":"研修生"},{"$f":"COUNTIF($B$3:B193,B193)","v":28},"研修生28",{"$f":"'「志願先」欄  選択一覧'!C193","v":"経営学研究科"},{"$f":"COUNTIF($E$3:E193,E193)","v":21},"経営学研究科21",{"$f":"'「志願先」欄  選択一覧'!D193","v":"経営学専攻"},"研修生経営学専攻",{"$f":"COUNTIF($I$3:I193,I193)","v":6},"研修生経営学専攻6",{"$f":"'「志願先」欄  選択一覧'!E193","v":"研修生入試（単願）"},"研修生経営学専攻研修生入試（単願）",{"$f":"COUNTIF($M$3:M193,M193)","v":6},"研修生経営学専攻研修生入試（単願）6","研修生経営学研究科経営学専攻研修生入試（単願）",{"$f":"'「志願先」欄  選択一覧'!F193","v":"経済"},null,null,182,"",{"$f":"IF(COUNTIF($U$12:U193,U193)=1,V192+1,V192)","v":1},"",{"$error":"#N/A"},{"$f":"IF(COUNTIF($X$12:X193,X193)=1,Y192+1,Y192)","v":1},"",{"$error":"#N/A"},{"$f":"IF(COUNTIF($AA$12:AA193,AA193)=1,AB192+1,AB192)","v":1},"","",{"$f":"IF(COUNTIF($AD$12:AD193,AD193)=1,AE192+1,AE192)","v":1},""]
[{"$f":"'「志願先」欄  選択一覧'!A194","v":192},{"$f":"'「志願先」欄  選択一覧'!B194","v":"研修生"},{"$f":"COUNTIF($B$3:B194,B194)","v":29},"研修生29",{"$f":"'「志願先」欄  選択一覧'!C194","v":"経営学研究科"},{"$f":"COUNTIF($E$3:E194,E194)","v":22},{"$f":"E194&F194","v":"経営学研究科22"},{"$f":"'「志願先」欄  選択一覧'!D194","v":"経営学専攻"},"研修生経営学専攻",{"$f":"COUNTIF($I$3:I194,I194)","v":7},"研修生経営学専攻7",{"$f":"'「志願先」欄  選択一覧'!E194","v":"研修生入試（単願）"},"研修生経営学専攻研修生入試（単願）",{"$f":"COUNTIF($M$3:M194,M194)","v":7},{"$f":"B194&H194&L194&N194","v":"研修生経営学専攻研修生入試（単願）7"},"研修生経営学研究科経営学専攻研修生入試（単願）",{"$f":"'「志願先」欄  選択一覧'!F194","v":"組織・人事"},null,null,183,"",{"$f":"IF(COUNTIF($U$12:U194,U194)=1,V193+1,V193)","v":1},"",{"$error":"#N/A"},{"$f":"IF(COUNTIF($X$12:X194,X194)=1,Y193+1,Y193)","v":1},"",{"$error":"#N/A"},{"$f":"IF(COUNTIF($AA$12:AA194,AA194)=1,AB193+1,AB193)","v":1},"","",{"$f":"IF(COUNTIF($AD$12:AD194,AD194)=1,AE193+1,AE193)","v":1},""]
[{"$f":"'「志願先」欄  選択一覧'!A195","v":193},{"$f":"'「志願先」欄  選択一覧'!B195","v":"研修生"},{"$f":"COUNTIF($B$3:B195,B195)","v":30},{"$f":"B195&C195","v":"研修生30"},{"$f":"'「志願先」欄  選択一覧'!C195","v":"経営学研究科"},{"$f":"COUNTIF($E$3:E195,E195)","v":23},"経営学研究科23",{"$f":"'「志願先」欄  選択一覧'!D195","v":"経営学専攻"},{"$f":"B195&H195","v":"研修生経営学専攻"},{"$f":"COUNTIF($I$3:I195,I195)","v":8},{"$f":"B195&H195&J195","v":"研修生経営学専攻8"},{"$f":"'「志願先」欄  選択一覧'!E195","v":"研修生入試（単願）"},{"$f":"B195&H195&L195","v":"研修生経営学専攻研修生入試（単願）"},{"$f":"COUNTIF($M$3:M195,M195)","v":8},"研修生経営学専攻研修生入試（単願）8","研修生経営学研究科経営学専攻研修生入試（単願）",{"$f":"'「志願先」欄  選択一覧'!F195","v":"ファイナンス"},null,null,184,"",{"$f":"IF(COUNTIF($U$12:U195,U195)=1,V194+1,V194)","v":1},"",{"$error":"#N/A"},{"$f":"IF(COUNTIF($X$12:X195,X195)=1,Y194+1,Y194)","v":1},"",{"$error":"#N/A"},{"$f":"IF(COUNTIF($AA$12:AA195,AA195)=1,AB194+1,AB194)","v":1},"","",{"$f":"IF(COUNTIF($AD$12:AD195,AD195)=1,AE194+1,AE194)","v":1},""]
[{"$f":"'「志願先」欄  選択一覧'!A196","v":194},{"$f":"'「志願先」欄  選択一覧'!B196","v":"研修生"},{"$f":"COUNTIF($B$3:B196,B196)","v":31},"研修生31",{"$f":"'「志願先」欄  選択一覧'!C196","v":"経営学研究科"},{"$f":"COUNTIF($E$3:E196,E196)","v":24},"経営学研究科24",{"$f":"'「志願先」欄  選択一覧'!D196","v":"経営学専攻"},"研修生経営学専攻",{"$f":"COUNTIF($I$3:I196,I196)","v":9},"研修生経営学専攻9",{"$f":"'「志願先」欄  選択一覧'!E196","v":"研修生入試（単願）"},"研修生経営学専攻研修生入試（単願）",{"$f":"COUNTIF($M$3:M196,M196)","v":9},"研修生経営学専攻研修生入試（単願）9",{"$f":"B196&E196&H196&L196","v":"研修生経営学研究科経営学専攻研修生入試（単願）"},{"$f":"'「志願先」欄  選択一覧'!F196","v":"AI・データサイエンス"},null,null,185,"",{"$f":"IF(COUNTIF($U$12:U196,U196)=1,V195+1,V195)","v":1},"",{"$error":"#N/A"},{"$f":"IF(COUNTIF($X$12:X196,X196)=1,Y195+1,Y195)","v":1},"",{"$error":"#N/A"},{"$f":"IF(COUNTIF($AA$12:AA196,AA196)=1,AB195+1,AB195)","v":1},"","",{"$f":"IF(COUNTIF($AD$12:AD196,AD196)=1,AE195+1,AE195)","v":1},""]
[{"$f":"'「志願先」欄  選択一覧'!A197","v":195},{"$f":"'「志願先」欄  選択一覧'!B197","v":"修士課程"},{"$f":"COUNTIF($B$3:B197,B197)","v":130},{"$f":"B197&C197","v":"修士課程130"},{"$f":"'「志願先」欄  選択一覧'!C197","v":"人文科学研究科"},{"$f":"COUNTIF($E$3:E197,E197)","v":57},{"$f":"E197&F197","v":"人文科学研究科57"},{"$f":"'「志願先」欄  選択一覧'!D197","v":"英文学専攻"},{"$f":"B197&H197","v":"修士課程英文学専攻"},{"$f":"COUNTIF($I$3:I197,I197)","v":3},{"$f":"B197&H197&J197","v":"修士課程英文学専攻3"},{"$f":"'「志願先」欄  選択一覧'!E197","v":"推薦枠入試"},{"$f":"B197&H197&L197","v":"修士課程英文学専攻推薦枠入試"},{"$f":"COUNTIF($M$3:M197,M197)","v":1},{"$f":"B197&H197&L197&N197","v":"修士課程英文学専攻推薦枠入試1"},"修士課程人文科学研究科英文学専攻推薦枠入試",{"$f":"'「志願先」欄  選択一覧'!F197","v":"なし"},null,null,186,"",{"$f":"IF(COUNTIF($U$12:U197,U197)=1,V196+1,V196)","v":1},"",{"$error":"#N/A"},{"$f":"IF(COUNTIF($X$12:X197,X197)=1,Y196+1,Y196)","v":1},"",{"$error":"#N/A"},{"$f":"IF(COUNTIF($AA$12:AA197,AA197)=1,AB196+1,AB196)","v":1},"","",{"$f":"IF(COUNTIF($AD$12:AD197,AD197)=1,AE196+1,AE196)","v":1},""]
[{"$f":"'「志願先」欄  選択一覧'!A198","v":196},{"$f":"'「志願先」欄  選択一覧'!B198","v":"修士課程"},{"$f":"COUNTIF($B$3:B198,B198)","v":131},"修士課程131",{"$f":"'「志願先」欄  選択一覧'!C198","v":"人文科学研究科"},{"$f":"COUNTIF($E$3:E198,E198)","v":58},"人文科学研究科58",{"$f":"'「志願先」欄  選択一覧'!D198","v":"地理学専攻"},"修士課程地理学専攻",{"$f":"COUNTIF($I$3:I198,I198)","v":3},"修士課程地理学専攻3",{"$f":"'「志願先」欄  選択一覧'!E198","v":"学内入試"},"修士課程地理学専攻学内入試",{"$f":"COUNTIF($M$3:M198,M198)","v":1},"修士課程地理学専攻学内入試1","修士課程人文科学研究科地理学専攻学内入試",{"$f":"'「志願先」欄  選択一覧'!F198","v":"なし"},null,null,187,"",{"$f":"IF(COUNTIF($U$12:U198,U198)=1,V197+1,V197)","v":1},"",{"$error":"#N/A"},{"$f":"IF(COUNTIF($X$12:X198,X198)=1,Y197+1,Y197)","v":1},"",{"$error":"#N/A"},{"$f":"IF(COUNTIF($AA$12:AA198,AA198)=1,AB197+1,AB197)","v":1},"","",{"$f":"IF(COUNTIF($AD$12:AD198,AD198)=1,AE197+1,AE197)","v":1},""]
[{"$f":"'「志願先」欄  選択一覧'!A199","v":197},{"$f":"'「志願先」欄  選択一覧'!B199","v":"修士課程"},{"$f":"COUNTIF($B$3:B199,B199)","v":132},"修士課程132",{"$f":"'「志願先」欄  選択一覧'!C199","v":"人文科学研究科"},{"$f":"COUNTIF($E$3:E199,E199)","v":59},"人文科学研究科59",{"$f":"'「志願先」欄  選択一覧'!D199","v":"心理学専攻"},"修士課程心理学専攻",{"$f":"COUNTIF($I$3:I199,I199)","v":2},"修士課程心理学専攻2",{"$f":"'「志願先」欄  選択一覧'!E199","v":"学内入試"},"修士課程心理学専攻学内入試",{"$f":"COUNTIF($M$3:M199,M199)","v":1},"修士課程心理学専攻学内入試1","修士課程人文科学研究科心理学専攻学内入試",{"$f":"'「志願先」欄  選択一覧'!F199","v":"なし"},null,null,188,"",{"$f":"IF(COUNTIF($U$12:U199,U199)=1,V198+1,V198)","v":1},"",{"$error":"#N/A"},{"$f":"IF(COUNTIF($X$12:X199,X199)=1,Y198+1,Y198)","v":1},"",{"$error":"#N/A"},{"$f":"IF(COUNTIF($AA$12:AA199,AA199)=1,AB198+1,AB198)","v":1},"","",{"$f":"IF(COUNTIF($AD$12:AD199,AD199)=1,AE198+1,AE198)","v":1},""]
[{"$f":"'「志願先」欄  選択一覧'!A200","v":198},{"$f":"'「志願先」欄  選択一覧'!B200","v":"修士課程"},{"$f":"COUNTIF($B$3:B200,B200)","v":133},"修士課程133",{"$f":"'「志願先」欄  選択一覧'!C200","v":"国際文化研究科"},{"$f":"COUNTIF($E$3:E200,E200)","v":8},"国際文化研究科8",{"$f":"'「志願先」欄  選択一覧'!D200","v":"国際文化専攻"},"修士課程国際文化専攻",{"$f":"COUNTIF($I$3:I200,I200)","v":4},"修士課程国際文化専攻4",{"$f":"'「志願先」欄  選択一覧'!E200","v":"学内入試"},"修士課程国際文化専攻学内入試",{"$f":"COUNTIF($M$3:M200,M200)","v":1},"修士課程国際文化専攻学内入試1","修士課程国際文化研究科国際文化専攻学内入試",{"$f":"'「志願先」欄  選択一覧'!F200","v":"なし"},null,null,189,"",{"$f":"IF(COUNTIF($U$12:U200,U200)=1,V199+1,V199)","v":1},"",{"$error":"#N/A"},{"$f":"IF(COUNTIF($X$12:X200,X200)=1,Y199+1,Y199)","v":1},"",{"$error":"#N/A"},{"$f":"IF(COUNTIF($AA$12:AA200,AA200)=1,AB199+1,AB199)","v":1},"","",{"$f":"IF(COUNTIF($AD$12:AD200,AD200)=1,AE199+1,AE199)","v":1},""]
[{"$f":"'「志願先」欄  選択一覧'!A201","v":199},{"$f":"'「志願先」欄  選択一覧'!B201","v":"修士課程"},{"$f":"COUNTIF($B$3:B201,B201)","v":134},"修士課程134",{"$f":"'「志願先」欄  選択一覧'!C201","v":"経済学研究科"},{"$f":"COUNTIF($E$3:E201,E201)","v":56},"経済学研究科56",{"$f":"'「志願先」欄  選択一覧'!D201","v":"経済学専攻"},"修士課程経済学専攻",{"$f":"COUNTIF($I$3:I201,I201)","v":41},"修士課程経済学専攻41",{"$f":"'「志願先」欄  選択一覧'!E201","v":"学部内入試"},"修士課程経済学専攻学部内入試",{"$f":"COUNTIF($M$3:M201,M201)","v":1},"修士課程経済学専攻学部内入試1","修士課程経済学研究科経済学専攻学部内入試",{"$f":"'「志願先」欄  選択一覧'!F201","v":"修士M.A.（歴史・思想・制度）"},null,null,190,"",{"$f":"IF(COUNTIF($U$12:U201,U201)=1,V200+1,V200)","v":1},"",{"$error":"#N/A"},{"$f":"IF(COUNTIF($X$12:X201,X201)=1,Y200+1,Y200)","v":1},"",{"$error":"#N/A"},{"$f":"IF(COUNTIF($AA$12:AA201,AA201)=1,AB200+1,AB200)","v":1},"","",{"$f":"IF(COUNTIF($AD$12:AD201,AD201)=1,AE200+1,AE200)","v":1},""]
[{"$f":"'「志願先」欄  選択一覧'!A202","v":200},{"$f":"'「志願先」欄  選択一覧'!B202","v":"修士課程"},{"$f":"COUNTIF($B$3:B202,B202)","v":135},"修士課程135",{"$f":"'「志願先」欄  選択一覧'!C202","v":"経済学研究科"},{"$f":"COUNTIF($E$3:E202,E202)","v":57},"経済学研究科57",{"$f":"'「志願先」欄  選択一覧'!D202","v":"経済学専攻"},"修士課程経済学専攻",{"$f":"COUNTIF($I$3:I202,I202)","v":42},"修士課程経済学専攻42",{"$f":"'「志願先」欄  選択一覧'!E202","v":"学部内入試"},"修士課程経済学専攻学部内入試",{"$f":"COUNTIF($M$3:M202,M202)","v":2},"修士課程経済学専攻学部内入試2","修士課程経済学研究科経済学専攻学部内入試",{"$f":"'「志願先」欄  選択一覧'!F202","v":"修士M.A.（金融・企業）"},null,null,191,"",{"$f":"IF(COUNTIF($U$12:U202,U202)=1,V201+1,V201)","v":1},"",{"$error":"#N/A"},{"$f":"IF(COUNTIF($X$12:X202,X202)=1,Y201+1,Y201)","v":1},"",{"$error":"#N/A"},{"$f":"IF(COUNTIF($AA$12:AA202,AA202)=1,AB201+1,AB201)","v":1},"","",{"$f":"IF(COUNTIF($AD$12:AD202,AD202)=1,AE201+1,AE201)","v":1},""]
[{"$f":"'「志願先」欄  選択一覧'!A203","v":201},{"$f":"'「志願先」欄  選択一覧'!B203","v":"修士課程"},{"$f":"COUNTIF($B$3:B203,B203)","v":136},"修士課程136",{"$f":"'「志願先」欄  選択一覧'!C203","v":"経済学研究科"},{"$f":"COUNTIF($E$3:E203,E203)","v":58},"経済学研究科58",{"$f":"'「志願先」欄  選択一覧'!D203","v":"経済学専攻"},"修士課程経済学専攻",{"$f":"COUNTIF($I$3:I203,I203)","v":43},"修士課程経済学専攻43",{"$f":"'「志願先」欄  選択一覧'!E203","v":"学部内入試"},"修士課程経済学専攻学部内入試",{"$f":"COUNTIF($M$3:M203,M203)","v":3},"修士課程経済学専攻学部内入試3","修士課程経済学研究科経済学専攻学部内入試",{"$f":"'「志願先」欄  選択一覧'!F203","v":"修士M.A.（政策・環境）"},null,null,192,"",{"$f":"IF(COUNTIF($U$12:U203,U203)=1,V202+1,V202)","v":1},"",{"$error":"#N/A"},{"$f":"IF(COUNTIF($X$12:X203,X203)=1,Y202+1,Y202)","v":1},"",{"$error":"#N/A"},{"$f":"IF(COUNTIF($AA$12:AA203,AA203)=1,AB202+1,AB202)","v":1},"","",{"$f":"IF(COUNTIF($AD$12:AD203,AD203)=1,AE202+1,AE202)","v":1},""]
[{"$f":"'「志願先」欄  選択一覧'!A204","v":202},{"$f":"'「志願先」欄  選択一覧'!B204","v":"修士課程"},{"$f":"COUNTIF($B$3:B204,B204)","v":137},"修士課程137",{"$f":"'「志願先」欄  選択一覧'!C204","v":"経済学研究科"},{"$f":"COUNTIF($E$3:E204,E204)","v":59},"経済学研究科59",{"$f":"'「志願先」欄  選択一覧'!D204","v":"経済学専攻"},"修士課程経済学専攻",{"$f":"COUNTIF($I$3:I204,I204)","v":44},"修士課程経済学専攻44",{"$f":"'「志願先」欄  選択一覧'!E204","v":"学部内入試"},"修士課程経済学専攻学部内入試",{"$f":"COUNTIF($M$3:M204,M204)","v":4},"修士課程経済学専攻学部内入試4","修士課程経済学研究科経済学専攻学部内入試",{"$f":"'「志願先」欄  選択一覧'!F204","v":"修士M.A.（国際・地域）"},null,null,193,{"$f":"IFERROR(VLOOKUP($W$2&T204,$D:$E,2,0),\"\")","v":""},{"$f":"IF(COUNTIF($U$12:U204,U204)=1,V203+1,V203)","v":1},{"$f":"IFERROR(INDEX($U$12:$U$200,MATCH(ROW(W204)-11,$V$12:$V$200,0)),\"\")","v":""},{"$error":"#N/A"},{"$f":"IF(COUNTIF($X$12:X204,X204)=1,Y203+1,Y203)","v":1},{"$f":"IFERROR(INDEX($X$12:$X$200,MATCH(ROW(Z204)-11,$Y$12:$Y$200,0)),\"\")","v":""},{"$error":"#N/A"},{"$f":"IF(COUNTIF($AA$12:AA204,AA204)=1,AB203+1,AB203)","v":1},{"$f":"IFERROR(INDEX($AA$12:$AA$200,MATCH(ROW(AC204)-11,$AB$12:$AB$200,0)),\"\")","v":""},"",{"$f":"IF(COUNTIF($AD$12:AD204,AD204)=1,AE203+1,AE203)","v":1},""]
[{"$f":"'「志願先」欄  選択一覧'!A205","v":203},{"$f":"'「志願先」欄  選択一覧'!B205","v":"修士課程"},{"$f":"COUNTIF($B$3:B205,B205)","v":138},"修士課程138",{"$f":"'「志願先」欄  選択一覧'!C205","v":"経済学研究科"},{"$f":"COUNTIF($E$3:E205,E205)","v":60},"経済学研究科60",{"$f":"'「志願先」欄  選択一覧'!D205","v":"経済学専攻"},"修士課程経済学専攻",{"$f":"COUNTIF($I$3:I205,I205)","v":45},"修士課程経済学専攻45",{"$f":"'「志願先」欄  選択一覧'!E205","v":"学部内入試"},"修士課程経済学専攻学部内入試",{"$f":"COUNTIF($M$3:M205,M205)","v":5},"修士課程経済学専攻学部内入試5","修士課程経済学研究科経済学専攻学部内入試",{"$f":"'「志願先」欄  選択一覧'!F205","v":"修士M.A.（応用ミクロ・応用マクロ・計量）"},null,null,194,"",{"$f":"IF(COUNTIF($U$12:U205,U205)=1,V204+1,V204)","v":1},"",{"$error":"#N/A"},{"$f":"IF(COUNTIF($X$12:X205,X205)=1,Y204+1,Y204)","v":1},"",{"$error":"#N/A"},{"$f":"IF(COUNTIF($AA$12:AA205,AA205)=1,AB204+1,AB204)","v":1},"",{"$f":"IFERROR(VLOOKUP($W$2&$W$4&$W$5&T205,$O:$Q,3,0),\"\")","v":""},{"$f":"IF(COUNTIF($AD$12:AD205,AD205)=1,AE204+1,AE204)","v":1},{"$f":"IF(AD205=\"なし\",\"\",\nIFERROR(INDEX($AD$12:$AD$200,MATCH(ROW(AF205)-11,$AE$12:$AE$200,0)),\"\")\n)","v":""}]
[{"$f":"'「志願先」欄  選択一覧'!A206","v":204},{"$f":"'「志願先」欄  選択一覧'!B206","v":"修士課程"},{"$f":"COUNTIF($B$3:B206,B206)","v":139},"修士課程139",{"$f":"'「志願先」欄  選択一覧'!C206","v":"経済学研究科"},{"$f":"COUNTIF($E$3:E206,E206)","v":61},"経済学研究科61",{"$f":"'「志願先」欄  選択一覧'!D206","v":"経済学専攻"},"修士課程経済学専攻",{"$f":"COUNTIF($I$3:I206,I206)","v":46},"修士課程経済学専攻46",{"$f":"'「志願先」欄  選択一覧'!E206","v":"学部内入試"},"修士課程経済学専攻学部内入試",{"$f":"COUNTIF($M$3:M206,M206)","v":6},"修士課程経済学専攻学部内入試6","修士課程経済学研究科経済学専攻学部内入試",{"$f":"'「志願先」欄  選択一覧'!F206","v":"博士5年Ph.D.（歴史・思想・制度）"},null,null,195,"",{"$f":"IF(COUNTIF($U$12:U206,U206)=1,V205+1,V205)","v":1},"",{"$error":"#N/A"},{"$f":"IF(COUNTIF($X$12:X206,X206)=1,Y205+1,Y205)","v":1},"",{"$error":"#N/A"},{"$f":"IF(COUNTIF($AA$12:AA206,AA206)=1,AB205+1,AB205)","v":1},"","",{"$f":"IF(COUNTIF($AD$12:AD206,AD206)=1,AE205+1,AE205)","v":1},""]
[{"$f":"'「志願先」欄  選択一覧'!A207","v":205},{"$f":"'「志願先」欄  選択一覧'!B207","v":"修士課程"},{"$f":"COUNTIF($B$3:B207,B207)","v":140},"修士課程140",{"$f":"'「志願先」欄  選択一覧'!C207","v":"経済学研究科"},{"$f":"COUNTIF($E$3:E207,E207)","v":62},"経済学研究科62",{"$f":"'「志願先」欄  選択一覧'!D207","v":"経済学専攻"},"修士課程経済学専攻",{"$f":"COUNTIF($I$3:I207,I207)","v":47},"修士課程経済学専攻47",{"$f":"'「志願先」欄  選択一覧'!E207","v":"学部内入試"},"修士課程経済学専攻学部内入試",{"$f":"COUNTIF($M$3:M207,M207)","v":7},"修士課程経済学専攻学部内入試7","修士課程経済学研究科経済学専攻学部内入試",{"$f":"'「志願先」欄  選択一覧'!F207","v":"博士5年Ph.D.（金融・企業）"},null,null,196,"",{"$f":"IF(COUNTIF($U$12:U207,U207)=1,V206+1,V206)","v":1},"",{"$error":"#N/A"},{"$f":"IF(COUNTIF($X$12:X207,X207)=1,Y206+1,Y206)","v":1},"",{"$error":"#N/A"},{"$f":"IF(COUNTIF($AA$12:AA207,AA207)=1,AB206+1,AB206)","v":1},"","",{"$f":"IF(COUNTIF($AD$12:AD207,AD207)=1,AE206+1,AE206)","v":1},""]
[{"$f":"'「志願先」欄  選択一覧'!A208","v":206},{"$f":"'「志願先」欄  選択一覧'!B208","v":"修士課程"},{"$f":"COUNTIF($B$3:B208,B208)","v":141},"修士課程141",{"$f":"'「志願先」欄  選択一覧'!C208","v":"経済学研究科"},{"$f":"COUNTIF($E$3:E208,E208)","v":63},"経済学研究科63",{"$f":"'「志願先」欄  選択一覧'!D208","v":"経済学専攻"},"修士課程経済学専攻",{"$f":"COUNTIF($I$3:I208,I208)","v":48},"修士課程経済学専攻48",{"$f":"'「志願先」欄  選択一覧'!E208","v":"学部内入試"},"修士課程経済学専攻学部内入試",{"$f":"COUNTIF($M$3:M208,M208)","v":8},"修士課程経済学専攻学部内入試8","修士課程経済学研究科経済学専攻学部内入試",{"$f":"'「志願先」欄  選択一覧'!F208","v":"博士5年Ph.D.（政策・環境）"},null,null,197,"",{"$f":"IF(COUNTIF($U$12:U208,U208)=1,V207+1,V207)","v":1},"",{"$error":"#N/A"},{"$f":"IF(COUNTIF($X$12:X208,X208)=1,Y207+1,Y207)","v":1},"",{"$error":"#N/A"},{"$f":"IF(COUNTIF($AA$12:AA208,AA208)=1,AB207+1,AB207)","v":1},"","",{"$f":"IF(COUNTIF($AD$12:AD208,AD208)=1,AE207+1,AE207)","v":1},""]
[{"$f":"'「志願先」欄  選択一覧'!A209","v":207},{"$f":"'「志願先」欄  選択一覧'!B209","v":"修士課程"},{"$f":"COUNTIF($B$3:B209,B209)","v":142},"修士課程142",{"$f":"'「志願先」欄  選択一覧'!C209","v":"経済学研究科"},{"$f":"COUNTIF($E$3:E209,E209)","v":64},"経済学研究科64",{"$f":"'「志願先」欄  選択一覧'!D209","v":"経済学専攻"},"修士課程経済学専攻",{"$f":"COUNTIF($I$3:I209,I209)","v":49},"修士課程経済学専攻49",{"$f":"'「志願先」欄  選択一覧'!E209","v":"学部内入試"},"修士課程経済学専攻学部内入試",{"$f":"COUNTIF($M$3:M209,M209)","v":9},"修士課程経済学専攻学部内入試9","修士課程経済学研究科経済学専攻学部内入試",{"$f":"'「志願先」欄  選択一覧'!F209","v":"博士5年Ph.D.（国際・地域）"},null,null,198,"",{"$f":"IF(COUNTIF($U$12:U209,U209)=1,V208+1,V208)","v":1},"",{"$f":"VLOOKUP($W$3&T209,$G:$H,2,0)","v":{"$error":"#N/A"}},{"$f":"IF(COUNTIF($X$12:X209,X209)=1,Y208+1,Y208)","v":1},"",{"$error":"#N/A"},{"$f":"IF(COUNTIF($AA$12:AA209,AA209)=1,AB208+1,AB208)","v":1},"","",{"$f":"IF(COUNTIF($AD$12:AD209,AD209)=1,AE208+1,AE208)","v":1},""]
[{"$f":"'「志願先」欄  選択一覧'!A210","v":208},{"$f":"'「志願先」欄  選択一覧'!B210","v":"修士課程"},{"$f":"COUNTIF($B$3:B210,B210)","v":143},"修士課程143",{"$f":"'「志願先」欄  選択一覧'!C210","v":"経済学研究科"},{"$f":"COUNTIF($E$3:E210,E210)","v":65},"経済学研究科65",{"$f":"'「志願先」欄  選択一覧'!D210","v":"経済学専攻"},"修士課程経済学専攻",{"$f":"COUNTIF($I$3:I210,I210)","v":50},"修士課程経済学専攻50",{"$f":"'「志願先」欄  選択一覧'!E210","v":"学部内入試"},"修士課程経済学専攻学部内入試",{"$f":"COUNTIF($M$3:M210,M210)","v":10},"修士課程経済学専攻学部内入試10","修士課程経済学研究科経済学専攻学部内入試",{"$f":"'「志願先」欄  選択一覧'!F210","v":"博士5年Ph.D.（応用ミクロ・応用マクロ・計量）"},null,null,199,"",{"$f":"IF(COUNTIF($U$12:U210,U210)=1,V209+1,V209)","v":1},"",{"$error":"#N/A"},{"$f":"IF(COUNTIF($X$12:X210,X210)=1,Y209+1,Y209)","v":1},"",{"$f":"VLOOKUP($W$2&$W$4&T210,$K:$L,2,0)","v":{"$error":"#N/A"}},{"$f":"IF(COUNTIF($AA$12:AA210,AA210)=1,AB209+1,AB209)","v":1},"","",{"$f":"IF(COUNTIF($AD$12:AD210,AD210)=1,AE209+1,AE209)","v":1},""]
[{"$f":"'「志願先」欄  選択一覧'!A211","v":209},{"$f":"'「志願先」欄  選択一覧'!B211","v":"修士課程"},{"$f":"COUNTIF($B$3:B211,B211)","v":144},"修士課程144",{"$f":"'「志願先」欄  選択一覧'!C211","v":"経済学研究科"},{"$f":"COUNTIF($E$3:E211,E211)","v":66},"経済学研究科66",{"$f":"'「志願先」欄  選択一覧'!D211","v":"経済学専攻"},"修士課程経済学専攻",{"$f":"COUNTIF($I$3:I211,I211)","v":51},"修士課程経済学専攻51",{"$f":"'「志願先」欄  選択一覧'!E211","v":"学部内入試"},"修士課程経済学専攻学部内入試",{"$f":"COUNTIF($M$3:M211,M211)","v":11},"修士課程経済学専攻学部内入試11","修士課程経済学研究科経済学専攻学部内入試",{"$f":"'「志願先」欄  選択一覧'!F211","v":"1年制"},null,null,200,"",{"$f":"IF(COUNTIF($U$12:U211,U211)=1,V210+1,V210)","v":1},"",{"$error":"#N/A"},{"$f":"IF(COUNTIF($X$12:X211,X211)=1,Y210+1,Y210)","v":1},"",{"$error":"#N/A"},{"$f":"IF(COUNTIF($AA$12:AA211,AA211)=1,AB210+1,AB210)","v":1},"","",{"$f":"IF(COUNTIF($AD$12:AD211,AD211)=1,AE210+1,AE210)","v":1},""]
[{"$f":"'「志願先」欄  選択一覧'!A212","v":210},{"$f":"'「志願先」欄  選択一覧'!B212","v":"修士課程"},{"$f":"COUNTIF($B$3:B212,B212)","v":145},"修士課程145",{"$f":"'「志願先」欄  選択一覧'!C212","v":"経済学研究科"},{"$f":"COUNTIF($E$3:E212,E212)","v":67},"経済学研究科67",{"$f":"'「志願先」欄  選択一覧'!D212","v":"経済学専攻"},"修士課程経済学専攻",{"$f":"COUNTIF($I$3:I212,I212)","v":52},"修士課程経済学専攻52",{"$f":"'「志願先」欄  選択一覧'!E212","v":"学部内入試"},"修士課程経済学専攻学部内入試",{"$f":"COUNTIF($M$3:M212,M212)","v":12},"修士課程経済学専攻学部内入試12","修士課程経済学研究科経済学専攻学部内入試",{"$f":"'「志願先」欄  選択一覧'!F212","v":"1年制"},null,null,201,"",{"$f":"IF(COUNTIF($U$12:U212,U212)=1,V211+1,V211)","v":1},"",{"$error":"#N/A"},{"$f":"IF(COUNTIF($X$12:X212,X212)=1,Y211+1,Y211)","v":1},"",{"$error":"#N/A"},{"$f":"IF(COUNTIF($AA$12:AA212,AA212)=1,AB211+1,AB211)","v":1},"","",{"$f":"IF(COUNTIF($AD$12:AD212,AD212)=1,AE211+1,AE211)","v":1},""]
[{"$f":"'「志願先」欄  選択一覧'!A213","v":211},{"$f":"'「志願先」欄  選択一覧'!B213","v":"修士課程"},{"$f":"COUNTIF($B$3:B213,B213)","v":146},"修士課程146",{"$f":"'「志願先」欄  選択一覧'!C213","v":"経済学研究科"},{"$f":"COUNTIF($E$3:E213,E213)","v":68},"経済学研究科68",{"$f":"'「志願先」欄  選択一覧'!D213","v":"経済学専攻"},"修士課程経済学専攻",{"$f":"COUNTIF($I$3:I213,I213)","v":53},"修士課程経済学専攻53",{"$f":"'「志願先」欄  選択一覧'!E213","v":"学部内入試"},"修士課程経済学専攻学部内入試",{"$f":"COUNTIF($M$3:M213,M213)","v":13},"修士課程経済学専攻学部内入試13","修士課程経済学研究科経済学専攻学部内入試",{"$f":"'「志願先」欄  選択一覧'!F213","v":"1年制"},null,null,202,"",{"$f":"IF(COUNTIF($U$12:U213,U213)=1,V212+1,V212)","v":1},"",{"$error":"#N/A"},{"$f":"IF(COUNTIF($X$12:X213,X213)=1,Y212+1,Y212)","v":1},"",{"$error":"#N/A"},{"$f":"IF(COUNTIF($AA$12:AA213,AA213)=1,AB212+1,AB212)","v":1},"","",{"$f":"IF(COUNTIF($AD$12:AD213,AD213)=1,AE212+1,AE212)","v":1},""]
[{"$f":"'「志願先」欄  選択一覧'!A214","v":212},{"$f":"'「志願先」欄  選択一覧'!B214","v":"修士課程"},{"$f":"COUNTIF($B$3:B214,B214)","v":147},"修士課程147",{"$f":"'「志願先」欄  選択一覧'!C214","v":"経済学研究科"},{"$f":"COUNTIF($E$3:E214,E214)","v":69},"経済学研究科69",{"$f":"'「志願先」欄  選択一覧'!D214","v":"経済学専攻"},"修士課程経済学専攻",{"$f":"COUNTIF($I$3:I214,I214)","v":54},"修士課程経済学専攻54",{"$f":"'「志願先」欄  選択一覧'!E214","v":"学部内入試"},"修士課程経済学専攻学部内入試",{"$f":"COUNTIF($M$3:M214,M214)","v":14},"修士課程経済学専攻学部内入試14","修士課程経済学研究科経済学専攻学部内入試",{"$f":"'「志願先」欄  選択一覧'!F214","v":"1年制"},null,null,203,"",{"$f":"IF(COUNTIF($U$12:U214,U214)=1,V213+1,V213)","v":1},"",{"$error":"#N/A"},{"$f":"IF(COUNTIF($X$12:X214,X214)=1,Y213+1,Y213)","v":1},"",{"$error":"#N/A"},{"$f":"IF(COUNTIF($AA$12:AA214,AA214)=1,AB213+1,AB213)","v":1},"","",{"$f":"IF(COUNTIF($AD$12:AD214,AD214)=1,AE213+1,AE213)","v":1},""]
[{"$f":"'「志願先」欄  選択一覧'!A215","v":213},{"$f":"'「志願先」欄  選択一覧'!B215","v":"修士課程"},{"$f":"COUNTIF($B$3:B215,B215)","v":148},"修士課程148",{"$f":"'「志願先」欄  選択一覧'!C215","v":"経済学研究科"},{"$f":"COUNTIF($E$3:E215,E215)","v":70},"経済学研究科70",{"$f":"'「志願先」欄  選択一覧'!D215","v":"経済学専攻"},"修士課程経済学専攻",{"$f":"COUNTIF($I$3:I215,I215)","v":55},"修士課程経済学専攻55",{"$f":"'「志願先」欄  選択一覧'!E215","v":"学部内入試"},"修士課程経済学専攻学部内入試",{"$f":"COUNTIF($M$3:M215,M215)","v":15},"修士課程経済学専攻学部内入試15","修士課程経済学研究科経済学専攻学部内入試",{"$f":"'「志願先」欄  選択一覧'!F215","v":"1年制"},null,null,204,"",{"$f":"IF(COUNTIF($U$12:U215,U215)=1,V214+1,V214)","v":1},"",{"$error":"#N/A"},{"$f":"IF(COUNTIF($X$12:X215,X215)=1,Y214+1,Y214)","v":1},"",{"$error":"#N/A"},{"$f":"IF(COUNTIF($AA$12:AA215,AA215)=1,AB214+1,AB214)","v":1},"","",{"$f":"IF(COUNTIF($AD$12:AD215,AD215)=1,AE214+1,AE214)","v":1},""]
[{"$f":"'「志願先」欄  選択一覧'!A216","v":214},{"$f":"'「志願先」欄  選択一覧'!B216","v":"修士課程"},{"$f":"COUNTIF($B$3:B216,B216)","v":149},"修士課程149",{"$f":"'「志願先」欄  選択一覧'!C216","v":"経済学研究科"},{"$f":"COUNTIF($E$3:E216,E216)","v":71},"経済学研究科71",{"$f":"'「志願先」欄  選択一覧'!D216","v":"経済学専攻"},"修士課程経済学専攻",{"$f":"COUNTIF($I$3:I216,I216)","v":56},"修士課程経済学専攻56",{"$f":"'「志願先」欄  選択一覧'!E216","v":"学部内入試"},"修士課程経済学専攻学部内入試",{"$f":"COUNTIF($M$3:M216,M216)","v":16},"修士課程経済学専攻学部内入試16","修士課程経済学研究科経済学専攻学部内入試",{"$f":"'「志願先」欄  選択一覧'!F216","v":"1年制"},null,null,205,"",{"$f":"IF(COUNTIF($U$12:U216,U216)=1,V215+1,V215)","v":1},"",{"$error":"#N/A"},{"$f":"IF(COUNTIF($X$12:X216,X216)=1,Y215+1,Y215)","v":1},"",{"$error":"#N/A"},{"$f":"IF(COUNTIF($AA$12:AA216,AA216)=1,AB215+1,AB215)","v":1},"","",{"$f":"IF(COUNTIF($AD$12:AD216,AD216)=1,AE215+1,AE215)","v":1},""]
[{"$f":"'「志願先」欄  選択一覧'!A217","v":215},{"$f":"'「志願先」欄  選択一覧'!B217","v":"修士課程"},{"$f":"COUNTIF($B$3:B217,B217)","v":150},"修士課程150",{"$f":"'「志願先」欄  選択一覧'!C217","v":"経済学研究科"},{"$f":"COUNTIF($E$3:E217,E217)","v":72},"経済学研究科72",{"$f":"'「志願先」欄  選択一覧'!D217","v":"経済学専攻"},"修士課程経済学専攻",{"$f":"COUNTIF($I$3:I217,I217)","v":57},"修士課程経済学専攻57",{"$f":"'「志願先」欄  選択一覧'!E217","v":"学部内入試"},"修士課程経済学専攻学部内入試",{"$f":"COUNTIF($M$3:M217,M217)","v":17},"修士課程経済学専攻学部内入試17","修士課程経済学研究科経済学専攻学部内入試",{"$f":"'「志願先」欄  選択一覧'!F217","v":"1年制"}]
[{"$f":"'「志願先」欄  選択一覧'!A218","v":216},{"$f":"'「志願先」欄  選択一覧'!B218","v":"修士課程"},{"$f":"COUNTIF($B$3:B218,B218)","v":151},"修士課程151",{"$f":"'「志願先」欄  選択一覧'!C218","v":"経済学研究科"},{"$f":"COUNTIF($E$3:E218,E218)","v":73},"経済学研究科73",{"$f":"'「志願先」欄  選択一覧'!D218","v":"経済学専攻"},"修士課程経済学専攻",{"$f":"COUNTIF($I$3:I218,I218)","v":58},"修士課程経済学専攻58",{"$f":"'「志願先」欄  選択一覧'!E218","v":"学部内入試"},"修士課程経済学専攻学部内入試",{"$f":"COUNTIF($M$3:M218,M218)","v":18},"修士課程経済学専攻学部内入試18","修士課程経済学研究科経済学専攻学部内入試",{"$f":"'「志願先」欄  選択一覧'!F218","v":"1年制"}]
[{"$f":"'「志願先」欄  選択一覧'!A219","v":217},{"$f":"'「志願先」欄  選択一覧'!B219","v":"修士課程"},{"$f":"COUNTIF($B$3:B219,B219)","v":152},"修士課程152",{"$f":"'「志願先」欄  選択一覧'!C219","v":"経済学研究科"},{"$f":"COUNTIF($E$3:E219,E219)","v":74},"経済学研究科74",{"$f":"'「志願先」欄  選択一覧'!D219","v":"経済学専攻"},"修士課程経済学専攻",{"$f":"COUNTIF($I$3:I219,I219)","v":59},"修士課程経済学専攻59",{"$f":"'「志願先」欄  選択一覧'!E219","v":"学部内入試"},"修士課程経済学専攻学部内入試",{"$f":"COUNTIF($M$3:M219,M219)","v":19},"修士課程経済学専攻学部内入試19","修士課程経済学研究科経済学専攻学部内入試",{"$f":"'「志願先」欄  選択一覧'!F219","v":"1年制"}]
[{"$f":"'「志願先」欄  選択一覧'!A220","v":218},{"$f":"'「志願先」欄  選択一覧'!B220","v":"修士課程"},{"$f":"COUNTIF($B$3:B220,B220)","v":153},"修士課程153",{"$f":"'「志願先」欄  選択一覧'!C220","v":"経済学研究科"},{"$f":"COUNTIF($E$3:E220,E220)","v":75},"経済学研究科75",{"$f":"'「志願先」欄  選択一覧'!D220","v":"経済学専攻"},"修士課程経済学専攻",{"$f":"COUNTIF($I$3:I220,I220)","v":60},"修士課程経済学専攻60",{"$f":"'「志願先」欄  選択一覧'!E220","v":"学部内入試"},"修士課程経済学専攻学部内入試",{"$f":"COUNTIF($M$3:M220,M220)","v":20},"修士課程経済学専攻学部内入試20","修士課程経済学研究科経済学専攻学部内入試",{"$f":"'「志願先」欄  選択一覧'!F220","v":"1年制"}]
[{"$f":"'「志願先」欄  選択一覧'!A221","v":219},{"$f":"'「志願先」欄  選択一覧'!B221","v":"修士課程"},{"$f":"COUNTIF($B$3:B221,B221)","v":154},"修士課程154",{"$f":"'「志願先」欄  選択一覧'!C221","v":"法学研究科"},{"$f":"COUNTIF($E$3:E221,E221)","v":6},"法学研究科6",{"$f":"'「志願先」欄  選択一覧'!D221","v":"法律学専攻"},"修士課程法律学専攻",{"$f":"COUNTIF($I$3:I221,I221)","v":4},"修士課程法律学専攻4",{"$f":"'「志願先」欄  選択一覧'!E221","v":"学科内入試"},"修士課程法律学専攻学科内入試",{"$f":"COUNTIF($M$3:M221,M221)","v":1},"修士課程法律学専攻学科内入試1","修士課程法学研究科法律学専攻学科内入試",{"$f":"'「志願先」欄  選択一覧'!F221","v":"なし"}]
[{"$f":"'「志願先」欄  選択一覧'!A222","v":220},{"$f":"'「志願先」欄  選択一覧'!B222","v":"修士課程"},{"$f":"COUNTIF($B$3:B222,B222)","v":155},"修士課程155",{"$f":"'「志願先」欄  選択一覧'!C222","v":"政治学研究科"},{"$f":"COUNTIF($E$3:E222,E222)","v":9},"政治学研究科9",{"$f":"'「志願先」欄  選択一覧'!D222","v":"政治学専攻"},"修士課程政治学専攻",{"$f":"COUNTIF($I$3:I222,I222)","v":3},"修士課程政治学専攻3",{"$f":"'「志願先」欄  選択一覧'!E222","v":"学内入試"},"修士課程政治学専攻学内入試",{"$f":"COUNTIF($M$3:M222,M222)","v":1},"修士課程政治学専攻学内入試1","修士課程政治学研究科政治学専攻学内入試",{"$f":"'「志願先」欄  選択一覧'!F222","v":"なし"}]
[{"$f":"'「志願先」欄  選択一覧'!A223","v":221},{"$f":"'「志願先」欄  選択一覧'!B223","v":"修士課程"},{"$f":"COUNTIF($B$3:B223,B223)","v":156},"修士課程156",{"$f":"'「志願先」欄  選択一覧'!C223","v":"政治学研究科"},{"$f":"COUNTIF($E$3:E223,E223)","v":10},"政治学研究科10",{"$f":"'「志願先」欄  選択一覧'!D223","v":"国際政治学専攻"},"修士課程国際政治学専攻",{"$f":"COUNTIF($I$3:I223,I223)","v":4},"修士課程国際政治学専攻4",{"$f":"'「志願先」欄  選択一覧'!E223","v":"学内入試"},"修士課程国際政治学専攻学内入試",{"$f":"COUNTIF($M$3:M223,M223)","v":1},"修士課程国際政治学専攻学内入試1","修士課程政治学研究科国際政治学専攻学内入試",{"$f":"'「志願先」欄  選択一覧'!F223","v":"なし"}]
[{"$f":"'「志願先」欄  選択一覧'!A224","v":222},{"$f":"'「志願先」欄  選択一覧'!B224","v":"修士課程"},{"$f":"COUNTIF($B$3:B224,B224)","v":157},"修士課程157",{"$f":"'「志願先」欄  選択一覧'!C224","v":"社会学研究科"},{"$f":"COUNTIF($E$3:E224,E224)","v":10},"社会学研究科10",{"$f":"'「志願先」欄  選択一覧'!D224","v":"社会学専攻"},"修士課程社会学専攻",{"$f":"COUNTIF($I$3:I224,I224)","v":7},"修士課程社会学専攻7",{"$f":"'「志願先」欄  選択一覧'!E224","v":"学内入試"},"修士課程社会学専攻学内入試",{"$f":"COUNTIF($M$3:M224,M224)","v":1},"修士課程社会学専攻学内入試1","修士課程社会学研究科社会学専攻学内入試",{"$f":"'「志願先」欄  選択一覧'!F224","v":"社会学コース"}]
[{"$f":"'「志願先」欄  選択一覧'!A225","v":223},{"$f":"'「志願先」欄  選択一覧'!B225","v":"修士課程"},{"$f":"COUNTIF($B$3:B225,B225)","v":158},"修士課程158",{"$f":"'「志願先」欄  選択一覧'!C225","v":"社会学研究科"},{"$f":"COUNTIF($E$3:E225,E225)","v":11},"社会学研究科11",{"$f":"'「志願先」欄  選択一覧'!D225","v":"社会学専攻"},"修士課程社会学専攻",{"$f":"COUNTIF($I$3:I225,I225)","v":8},"修士課程社会学専攻8",{"$f":"'「志願先」欄  選択一覧'!E225","v":"学内入試"},"修士課程社会学専攻学内入試",{"$f":"COUNTIF($M$3:M225,M225)","v":2},"修士課程社会学専攻学内入試2","修士課程社会学研究科社会学専攻学内入試",{"$f":"'「志願先」欄  選択一覧'!F225","v":"メディアコース"}]
[{"$f":"'「志願先」欄  選択一覧'!A226","v":224},{"$f":"'「志願先」欄  選択一覧'!B226","v":"修士課程"},{"$f":"COUNTIF($B$3:B226,B226)","v":159},"修士課程159",{"$f":"'「志願先」欄  選択一覧'!C226","v":"経営学研究科"},{"$f":"COUNTIF($E$3:E226,E226)","v":25},"経営学研究科25",{"$f":"'「志願先」欄  選択一覧'!D226","v":"経営学専攻"},"修士課程経営学専攻",{"$f":"COUNTIF($I$3:I226,I226)","v":14},"修士課程経営学専攻14",{"$f":"'「志願先」欄  選択一覧'!E226","v":"学内入試"},"修士課程経営学専攻学内入試",{"$f":"COUNTIF($M$3:M226,M226)","v":1},"修士課程経営学専攻学内入試1","修士課程経営学研究科経営学専攻学内入試",{"$f":"'「志願先」欄  選択一覧'!F226","v":"戦略・企業家"}]
[{"$f":"'「志願先」欄  選択一覧'!A227","v":225},{"$f":"'「志願先」欄  選択一覧'!B227","v":"修士課程"},{"$f":"COUNTIF($B$3:B227,B227)","v":160},"修士課程160",{"$f":"'「志願先」欄  選択一覧'!C227","v":"経営学研究科"},{"$f":"COUNTIF($E$3:E227,E227)","v":26},"経営学研究科26",{"$f":"'「志願先」欄  選択一覧'!D227","v":"経営学専攻"},"修士課程経営学専攻",{"$f":"COUNTIF($I$3:I227,I227)","v":15},"修士課程経営学専攻15",{"$f":"'「志願先」欄  選択一覧'!E227","v":"学内入試"},"修士課程経営学専攻学内入試",{"$f":"COUNTIF($M$3:M227,M227)","v":2},"修士課程経営学専攻学内入試2","修士課程経営学研究科経営学専攻学内入試",{"$f":"'「志願先」欄  選択一覧'!F227","v":"マーケティング"}]
[{"$f":"'「志願先」欄  選択一覧'!A228","v":226},{"$f":"'「志願先」欄  選択一覧'!B228","v":"修士課程"},{"$f":"COUNTIF($B$3:B228,B228)","v":161},"修士課程161",{"$f":"'「志願先」欄  選択一覧'!C228","v":"経営学研究科"},{"$f":"COUNTIF($E$3:E228,E228)","v":27},"経営学研究科27",{"$f":"'「志願先」欄  選択一覧'!D228","v":"経営学専攻"},"修士課程経営学専攻",{"$f":"COUNTIF($I$3:I228,I228)","v":16},"修士課程経営学専攻16",{"$f":"'「志願先」欄  選択一覧'!E228","v":"学内入試"},"修士課程経営学専攻学内入試",{"$f":"COUNTIF($M$3:M228,M228)","v":3},"修士課程経営学専攻学内入試3","修士課程経営学研究科経営学専攻学内入試",{"$f":"'「志願先」欄  選択一覧'!F228","v":"国際経営"}]
[{"$f":"'「志願先」欄  選択一覧'!A229","v":227},{"$f":"'「志願先」欄  選択一覧'!B229","v":"修士課程"},{"$f":"COUNTIF($B$3:B229,B229)","v":162},"修士課程162",{"$f":"'「志願先」欄  選択一覧'!C229","v":"経営学研究科"},{"$f":"COUNTIF($E$3:E229,E229)","v":28},"経営学研究科28",{"$f":"'「志願先」欄  選択一覧'!D229","v":"経営学専攻"},"修士課程経営学専攻",{"$f":"COUNTIF($I$3:I229,I229)","v":17},"修士課程経営学専攻17",{"$f":"'「志願先」欄  選択一覧'!E229","v":"学内入試"},"修士課程経営学専攻学内入試",{"$f":"COUNTIF($M$3:M229,M229)","v":4},"修士課程経営学専攻学内入試4","修士課程経営学研究科経営学専攻学内入試",{"$f":"'「志願先」欄  選択一覧'!F229","v":"経営史"}]
[{"$f":"'「志願先」欄  選択一覧'!A230","v":228},{"$f":"'「志願先」欄  選択一覧'!B230","v":"修士課程"},{"$f":"COUNTIF($B$3:B230,B230)","v":163},"修士課程163",{"$f":"'「志願先」欄  選択一覧'!C230","v":"経営学研究科"},{"$f":"COUNTIF($E$3:E230,E230)","v":29},"経営学研究科29",{"$f":"'「志願先」欄  選択一覧'!D230","v":"経営学専攻"},"修士課程経営学専攻",{"$f":"COUNTIF($I$3:I230,I230)","v":18},"修士課程経営学専攻18",{"$f":"'「志願先」欄  選択一覧'!E230","v":"学内入試"},"修士課程経営学専攻学内入試",{"$f":"COUNTIF($M$3:M230,M230)","v":5},"修士課程経営学専攻学内入試5","修士課程経営学研究科経営学専攻学内入試",{"$f":"'「志願先」欄  選択一覧'!F230","v":"会計"}]
[{"$f":"'「志願先」欄  選択一覧'!A231","v":229},{"$f":"'「志願先」欄  選択一覧'!B231","v":"修士課程"},{"$f":"COUNTIF($B$3:B231,B231)","v":164},"修士課程164",{"$f":"'「志願先」欄  選択一覧'!C231","v":"経営学研究科"},{"$f":"COUNTIF($E$3:E231,E231)","v":30},"経営学研究科30",{"$f":"'「志願先」欄  選択一覧'!D231","v":"経営学専攻"},"修士課程経営学専攻",{"$f":"COUNTIF($I$3:I231,I231)","v":19},"修士課程経営学専攻19",{"$f":"'「志願先」欄  選択一覧'!E231","v":"学内入試"},"修士課程経営学専攻学内入試",{"$f":"COUNTIF($M$3:M231,M231)","v":6},"修士課程経営学専攻学内入試6","修士課程経営学研究科経営学専攻学内入試",{"$f":"'「志願先」欄  選択一覧'!F231","v":"経済"}]
[{"$f":"'「志願先」欄  選択一覧'!A232","v":230},{"$f":"'「志願先」欄  選択一覧'!B232","v":"修士課程"},{"$f":"COUNTIF($B$3:B232,B232)","v":165},"修士課程165",{"$f":"'「志願先」欄  選択一覧'!C232","v":"経営学研究科"},{"$f":"COUNTIF($E$3:E232,E232)","v":31},"経営学研究科31",{"$f":"'「志願先」欄  選択一覧'!D232","v":"経営学専攻"},"修士課程経営学専攻",{"$f":"COUNTIF($I$3:I232,I232)","v":20},"修士課程経営学専攻20",{"$f":"'「志願先」欄  選択一覧'!E232","v":"学内入試"},"修士課程経営学専攻学内入試",{"$f":"COUNTIF($M$3:M232,M232)","v":7},"修士課程経営学専攻学内入試7","修士課程経営学研究科経営学専攻学内入試",{"$f":"'「志願先」欄  選択一覧'!F232","v":"組織・人事"}]
[{"$f":"'「志願先」欄  選択一覧'!A233","v":231},{"$f":"'「志願先」欄  選択一覧'!B233","v":"修士課程"},{"$f":"COUNTIF($B$3:B233,B233)","v":166},"修士課程166",{"$f":"'「志願先」欄  選択一覧'!C233","v":"経営学研究科"},{"$f":"COUNTIF($E$3:E233,E233)","v":32},"経営学研究科32",{"$f":"'「志願先」欄  選択一覧'!D233","v":"経営学専攻"},"修士課程経営学専攻",{"$f":"COUNTIF($I$3:I233,I233)","v":21},"修士課程経営学専攻21",{"$f":"'「志願先」欄  選択一覧'!E233","v":"学内入試"},"修士課程経営学専攻学内入試",{"$f":"COUNTIF($M$3:M233,M233)","v":8},"修士課程経営学専攻学内入試8","修士課程経営学研究科経営学専攻学内入試",{"$f":"'「志願先」欄  選択一覧'!F233","v":"ファイナンス"}]
[{"$f":"'「志願先」欄  選択一覧'!A234","v":232},{"$f":"'「志願先」欄  選択一覧'!B234","v":"修士課程"},{"$f":"COUNTIF($B$3:B234,B234)","v":167},"修士課程167",{"$f":"'「志願先」欄  選択一覧'!C234","v":"経営学研究科"},{"$f":"COUNTIF($E$3:E234,E234)","v":33},"経営学研究科33",{"$f":"'「志願先」欄  選択一覧'!D234","v":"経営学専攻"},"修士課程経営学専攻",{"$f":"COUNTIF($I$3:I234,I234)","v":22},"修士課程経営学専攻22",{"$f":"'「志願先」欄  選択一覧'!E234","v":"学内入試"},"修士課程経営学専攻学内入試",{"$f":"COUNTIF($M$3:M234,M234)","v":9},"修士課程経営学専攻学内入試9","修士課程経営学研究科経営学専攻学内入試",{"$f":"'「志願先」欄  選択一覧'!F234","v":"AI・データサイエンス"}]

{"sheet":"科目選択","index":3,"n_rows":410,"n_cols":24,"rows_kept":410,"cut":false,"hidden":true,"merged":[]}
[]
[null,"A_課程","B_研究科","C_専攻","D_入試経路","E_その他の選択","A＋B＋C＋D","A＋B＋C＋D 連番","A＋B＋C＋D 検索値","専門科目","外国語",null,null,null,null,null,null,"志願票選択値",{"$f":"'様式2_入学志願票（入学試験面接カード）'!D3&'様式2_入学志願票（入学試験面接カード）'!H3&'様式2_入学志願票（入学試験面接カード）'!N3&'様式2_入学志願票（入学試験面接カード）'!D4","v":""}]
[null,{"$f":"'「志願先」欄  選択一覧'!B3","v":"修士課程"},{"$f":"'「志願先」欄  選択一覧'!C3","v":"人文科学研究科"},{"$f":"'「志願先」欄  選択一覧'!D3","v":"哲学専攻"},{"$f":"'「志願先」欄  選択一覧'!E3","v":"一般入試"},"―",{"$f":"B3&C3&D3&E3","v":"修士課程人文科学研究科哲学専攻一般入試"},{"$f":"COUNTIF($G$3:G3,G3)","v":1},{"$f":"G3&H3","v":"修士課程人文科学研究科哲学専攻一般入試1"},"専門科目","外国語（言語は当日選択）"]
[null,{"$f":"'「志願先」欄  選択一覧'!B4","v":"修士課程"},{"$f":"'「志願先」欄  選択一覧'!C4","v":"人文科学研究科"},{"$f":"'「志願先」欄  選択一覧'!D4","v":"哲学専攻"},{"$f":"'「志願先」欄  選択一覧'!E4","v":"社会人入試"},{"$f":"'「志願先」欄  選択一覧'!F4","v":"なし"},{"$f":"B4&C4&D4&E4","v":"修士課程人文科学研究科哲学専攻社会人入試"},{"$f":"COUNTIF($G$3:G4,G4)","v":1},{"$f":"G4&H4","v":"修士課程人文科学研究科哲学専攻社会人入試1"},"専門科目","なし",null,null,null,null,null,null,"連番","A専門科目","A重複チェック","A重複除く一覧","B_外国語","B重複チェック","B重複除く一覧"]
[null,{"$f":"'「志願先」欄  選択一覧'!B5","v":"修士課程"},{"$f":"'「志願先」欄  選択一覧'!C5","v":"人文科学研究科"},{"$f":"'「志願先」欄  選択一覧'!D5","v":"日本文学専攻"},{"$f":"'「志願先」欄  選択一覧'!E5","v":"一般入試"},{"$f":"'「志願先」欄  選択一覧'!F5","v":"プログラム選択なし"},"修士課程人文科学研究科日本文学専攻一般入試",{"$f":"COUNTIF($G$3:G5,G5)","v":1},"修士課程人文科学研究科日本文学専攻一般入試1","専門科目","英語"]
[null,{"$f":"'「志願先」欄  選択一覧'!B6","v":"修士課程"},{"$f":"'「志願先」欄  選択一覧'!C6","v":"人文科学研究科"},{"$f":"'「志願先」欄  選択一覧'!D6","v":"日本文学専攻"},{"$f":"'「志願先」欄  選択一覧'!E6","v":"一般入試"},{"$f":"'「志願先」欄  選択一覧'!F6","v":"文芸創作研究プログラム"},"修士課程人文科学研究科日本文学専攻一般入試",{"$f":"COUNTIF($G$3:G6,G6)","v":2},"修士課程人文科学研究科日本文学専攻一般入試2","専門科目","英語",null,null,null,null,null,null,1,{"$f":"VLOOKUP($S$2&R6,$I:$K,2,0)","v":{"$error":"#N/A"}},{"$f":"IF(COUNTIF($S$6:S6,S6)=1,T5+1,T5)","v":1},{"$f":"IFERROR(INDEX($S$6:$S$75,MATCH(ROW(U6)-5,$T$6:$T$75,0)),\"\")","v":""},{"$f":"VLOOKUP($S$2&R6,$I:$K,3,0)","v":{"$error":"#N/A"}},{"$f":"IF(COUNTIF($V$6:V6,V6)=1,W5+1,W5)","v":1},{"$f":"IFERROR(INDEX($V$6:$V$75,MATCH(ROW(X6)-5,$W$6:$W$75,0)),\"\")","v":""}]
[null,{"$f":"'「志願先」欄  選択一覧'!B7","v":"修士課程"},{"$f":"'「志願先」欄  選択一覧'!C7","v":"人文科学研究科"},{"$f":"'「志願先」欄  選択一覧'!D7","v":"日本文学専攻"},{"$f":"'「志願先」欄  選択一覧'!E7","v":"一般入試"},{"$f":"'「志願先」欄  選択一覧'!F7","v":"能楽研究者育成プログラム"},"修士課程人文科学研究科日本文学専攻一般入試",{"$f":"COUNTIF($G$3:G7,G7)","v":3},"修士課程人文科学研究科日本文学専攻一般入試3","専門科目","英語",null,null,null,null,null,null,2,{"$error":"#N/A"},{"$f":"IF(COUNTIF($S$6:S7,S7)=1,T6+1,T6)","v":1},{"$f":"IFERROR(INDEX($S$6:$S$75,MATCH(ROW(U7)-5,$T$6:$T$75,0)),\"\")","v":""},{"$error":"#N/A"},{"$f":"IF(COUNTIF($V$6:V7,V7)=1,W6+1,W6)","v":1},{"$f":"IFERROR(INDEX($V$6:$V$75,MATCH(ROW(X7)-5,$W$6:$W$75,0)),\"\")","v":""}]
[null,{"$f":"'「志願先」欄  選択一覧'!B8","v":"修士課程"},{"$f":"'「志願先」欄  選択一覧'!C8","v":"人文科学研究科"},{"$f":"'「志願先」欄  選択一覧'!D8","v":"日本文学専攻"},{"$f":"'「志願先」欄  選択一覧'!E8","v":"外国人入試"},{"$f":"'「志願先」欄  選択一覧'!F8","v":"プログラム選択なし"},"修士課程人文科学研究科日本文学専攻外国人入試",{"$f":"COUNTIF($G$3:G8,G8)","v":1},"修士課程人文科学研究科日本文学専攻外国人入試1","専門科目","日本語",null,null,null,null,null,null,3,{"$error":"#N/A"},{"$f":"IF(COUNTIF($S$6:S8,S8)=1,T7+1,T7)","v":1},"",{"$error":"#N/A"},{"$f":"IF(COUNTIF($V$6:V8,V8)=1,W7+1,W7)","v":1},""]
[null,{"$f":"'「志願先」欄  選択一覧'!B9","v":"修士課程"},{"$f":"'「志願先」欄  選択一覧'!C9","v":"人文科学研究科"},{"$f":"'「志願先」欄  選択一覧'!D9","v":"日本文学専攻"},{"$f":"'「志願先」欄  選択一覧'!E9","v":"外国人入試"},{"$f":"'「志願先」欄  選択一覧'!F9","v":"文芸創作研究プログラム"},"修士課程人文科学研究科日本文学専攻外国人入試",{"$f":"COUNTIF($G$3:G9,G9)","v":2},"修士課程人文科学研究科日本文学専攻外国人入試2","専門科目","日本語",null,null,null,null,null,null,4,{"$error":"#N/A"},{"$f":"IF(COUNTIF($S$6:S9,S9)=1,T8+1,T8)","v":1},"",{"$error":"#N/A"},{"$f":"IF(COUNTIF($V$6:V9,V9)=1,W8+1,W8)","v":1},""]
[null,{"$f":"'「志願先」欄  選択一覧'!B10","v":"修士課程"},{"$f":"'「志願先」欄  選択一覧'!C10","v":"人文科学研究科"},{"$f":"'「志願先」欄  選択一覧'!D10","v":"日本文学専攻"},{"$f":"'「志願先」欄  選択一覧'!E10","v":"外国人入試"},{"$f":"'「志願先」欄  選択一覧'!F10","v":"能楽研究者育成プログラム"},"修士課程人文科学研究科日本文学専攻外国人入試",{"$f":"COUNTIF($G$3:G10,G10)","v":3},"修士課程人文科学研究科日本文学専攻外国人入試3","専門科目","日本語",null,null,null,null,null,null,5,{"$error":"#N/A"},{"$f":"IF(COUNTIF($S$6:S10,S10)=1,T9+1,T9)","v":1},"",{"$error":"#N/A"},{"$f":"IF(COUNTIF($V$6:V10,V10)=1,W9+1,W9)","v":1},""]
[null,{"$f":"'「志願先」欄  選択一覧'!B11","v":"修士課程"},{"$f":"'「志願先」欄  選択一覧'!C11","v":"人文科学研究科"},{"$f":"'「志願先」欄  選択一覧'!D11","v":"日本文学専攻"},{"$f":"'「志願先」欄  選択一覧'!E11","v":"社会人入試"},{"$f":"'「志願先」欄  選択一覧'!F11","v":"プログラム選択なし"},"修士課程人文科学研究科日本文学専攻社会人入試",{"$f":"COUNTIF($G$3:G11,G11)","v":1},"修士課程人文科学研究科日本文学専攻社会人入試1","専門科目","なし",null,null,null,null,null,null,6,{"$error":"#N/A"},{"$f":"IF(COUNTIF($S$6:S11,S11)=1,T10+1,T10)","v":1},"",{"$error":"#N/A"},{"$f":"IF(COUNTIF($V$6:V11,V11)=1,W10+1,W10)","v":1},""]
[null,{"$f":"'「志願先」欄  選択一覧'!B12","v":"修士課程"},{"$f":"'「志願先」欄  選択一覧'!C12","v":"人文科学研究科"},{"$f":"'「志願先」欄  選択一覧'!D12","v":"日本文学専攻"},{"$f":"'「志願先」欄  選択一覧'!E12","v":"社会人入試"},{"$f":"'「志願先」欄  選択一覧'!F12","v":"文芸創作研究プログラム"},"修士課程人文科学研究科日本文学専攻社会人入試",{"$f":"COUNTIF($G$3:G12,G12)","v":2},"修士課程人文科学研究科日本文学専攻社会人入試2",null,null,null,null,null,null,null,null,7,{"$error":"#N/A"},{"$f":"IF(COUNTIF($S$6:S12,S12)=1,T11+1,T11)","v":1},"",{"$error":"#N/A"},{"$f":"IF(COUNTIF($V$6:V12,V12)=1,W11+1,W11)","v":1},""]
[null,{"$f":"'「志願先」欄  選択一覧'!B13","v":"修士課程"},{"$f":"'「志願先」欄  選択一覧'!C13","v":"人文科学研究科"},{"$f":"'「志願先」欄  選択一覧'!D13","v":"日本文学専攻"},{"$f":"'「志願先」欄  選択一覧'!E13","v":"社会人入試"},{"$f":"'「志願先」欄  選択一覧'!F13","v":"能楽研究者育成プログラム"},"修士課程人文科学研究科日本文学専攻社会人入試",{"$f":"COUNTIF($G$3:G13,G13)","v":3},"修士課程人文科学研究科日本文学専攻社会人入試3",null,null,null,null,null,null,null,null,8,{"$error":"#N/A"},{"$f":"IF(COUNTIF($S$6:S13,S13)=1,T12+1,T12)","v":1},"",{"$error":"#N/A"},{"$f":"IF(COUNTIF($V$6:V13,V13)=1,W12+1,W12)","v":1},""]
[null,{"$f":"'「志願先」欄  選択一覧'!B14","v":"修士課程"},{"$f":"'「志願先」欄  選択一覧'!C14","v":"人文科学研究科"},{"$f":"'「志願先」欄  選択一覧'!D14","v":"英文学専攻"},{"$f":"'「志願先」欄  選択一覧'!E14","v":"一般入試"},{"$f":"'「志願先」欄  選択一覧'!F14","v":"なし"},"修士課程人文科学研究科英文学専攻一般入試",{"$f":"COUNTIF($G$3:G14,G14)","v":1},"修士課程人文科学研究科英文学専攻一般入試1","筆記試験なし","筆記試験なし",null,null,null,null,null,null,9,{"$error":"#N/A"},{"$f":"IF(COUNTIF($S$6:S14,S14)=1,T13+1,T13)","v":1},"",{"$error":"#N/A"},{"$f":"IF(COUNTIF($V$6:V14,V14)=1,W13+1,W13)","v":1},""]
[null,{"$f":"'「志願先」欄  選択一覧'!B15","v":"修士課程"},{"$f":"'「志願先」欄  選択一覧'!C15","v":"人文科学研究科"},{"$f":"'「志願先」欄  選択一覧'!D15","v":"英文学専攻"},{"$f":"'「志願先」欄  選択一覧'!E15","v":"社会人入試"},{"$f":"'「志願先」欄  選択一覧'!F15","v":"なし"},"修士課程人文科学研究科英文学専攻社会人入試",{"$f":"COUNTIF($G$3:G15,G15)","v":1},"修士課程人文科学研究科英文学専攻社会人入試1","筆記試験なし","筆記試験なし",null,null,null,null,null,null,10,{"$error":"#N/A"},{"$f":"IF(COUNTIF($S$6:S15,S15)=1,T14+1,T14)","v":1},"",{"$error":"#N/A"},{"$f":"IF(COUNTIF($V$6:V15,V15)=1,W14+1,W14)","v":1},""]
[null,{"$f":"'「志願先」欄  選択一覧'!B16","v":"修士課程"},{"$f":"'「志願先」欄  選択一覧'!C16","v":"人文科学研究科"},{"$f":"'「志願先」欄  選択一覧'!D16","v":"史学専攻"},{"$f":"'「志願先」欄  選択一覧'!E16","v":"一般入試"},{"$f":"'「志願先」欄  選択一覧'!F16","v":"なし"},"修士課程人文科学研究科史学専攻一般入試",{"$f":"COUNTIF($G$3:G16,G16)","v":1},"修士課程人文科学研究科史学専攻一般入試1","日本史分野","英語",null,null,null,null,null,null,11,{"$error":"#N/A"},{"$f":"IF(COUNTIF($S$6:S16,S16)=1,T15+1,T15)","v":1},"",{"$error":"#N/A"},{"$f":"IF(COUNTIF($V$6:V16,V16)=1,W15+1,W15)","v":1},""]
[null,"修士課程","人文科学研究科","史学専攻","一般入試","―","修士課程人文科学研究科史学専攻一般入試",{"$f":"COUNTIF($G$3:G17,G17)","v":2},"修士課程人文科学研究科史学専攻一般入試2","東洋史分野","英語",null,null,null,null,null,null,12,{"$error":"#N/A"},{"$f":"IF(COUNTIF($S$6:S17,S17)=1,T16+1,T16)","v":1},"",{"$error":"#N/A"},{"$f":"IF(COUNTIF($V$6:V17,V17)=1,W16+1,W16)","v":1},""]
[null,"修士課程","人文科学研究科","史学専攻","一般入試","―","修士課程人文科学研究科史学専攻一般入試",{"$f":"COUNTIF($G$3:G18,G18)","v":3},"修士課程人文科学研究科史学専攻一般入試3","西洋史分野","英語",null,null,null,null,null,null,13,{"$error":"#N/A"},{"$f":"IF(COUNTIF($S$6:S18,S18)=1,T17+1,T17)","v":1},"",{"$error":"#N/A"},{"$f":"IF(COUNTIF($V$6:V18,V18)=1,W17+1,W17)","v":1},""]
[null,{"$f":"'「志願先」欄  選択一覧'!B17","v":"修士課程"},{"$f":"'「志願先」欄  選択一覧'!C17","v":"人文科学研究科"},{"$f":"'「志願先」欄  選択一覧'!D17","v":"史学専攻"},{"$f":"'「志願先」欄  選択一覧'!E17","v":"社会人入試"},{"$f":"'「志願先」欄  選択一覧'!F17","v":"なし"},"修士課程人文科学研究科史学専攻社会人入試",{"$f":"COUNTIF($G$3:G19,G19)","v":1},"修士課程人文科学研究科史学専攻社会人入試1","小論文（日本史分野）","なし",null,null,null,null,null,null,14,{"$error":"#N/A"},{"$f":"IF(COUNTIF($S$6:S19,S19)=1,T18+1,T18)","v":1},"",{"$error":"#N/A"},{"$f":"IF(COUNTIF($V$6:V19,V19)=1,W18+1,W18)","v":1},""]
[null,"修士課程","人文科学研究科","史学専攻","社会人入試","―","修士課程人文科学研究科史学専攻社会人入試",{"$f":"COUNTIF($G$3:G20,G20)","v":2},"修士課程人文科学研究科史学専攻社会人入試2","小論文（東洋史分野）","なし",null,null,null,null,null,null,15,{"$error":"#N/A"},{"$f":"IF(COUNTIF($S$6:S20,S20)=1,T19+1,T19)","v":1},"",{"$error":"#N/A"},{"$f":"IF(COUNTIF($V$6:V20,V20)=1,W19+1,W19)","v":1},""]
[null,"修士課程","人文科学研究科","史学専攻","社会人入試","―","修士課程人文科学研究科史学専攻社会人入試",{"$f":"COUNTIF($G$3:G21,G21)","v":3},"修士課程人文科学研究科史学専攻社会人入試3","小論文（西洋史分野）","なし",null,null,null,null,null,null,16,{"$error":"#N/A"},{"$f":"IF(COUNTIF($S$6:S21,S21)=1,T20+1,T20)","v":1},"",{"$error":"#N/A"},{"$f":"IF(COUNTIF($V$6:V21,V21)=1,W20+1,W20)","v":1},""]
[null,{"$f":"'「志願先」欄  選択一覧'!B18","v":"修士課程"},{"$f":"'「志願先」欄  選択一覧'!C18","v":"人文科学研究科"},{"$f":"'「志願先」欄  選択一覧'!D18","v":"地理学専攻"},{"$f":"'「志願先」欄  選択一覧'!E18","v":"一般入試"},{"$f":"'「志願先」欄  選択一覧'!F18","v":"なし"},"修士課程人文科学研究科地理学専攻一般入試",{"$f":"COUNTIF($G$3:G22,G22)","v":1},"修士課程人文科学研究科地理学専攻一般入試1","自然地理分野","日本語（母語は選択不可）",null,null,null,null,null,null,17,{"$error":"#N/A"},{"$f":"IF(COUNTIF($S$6:S22,S22)=1,T21+1,T21)","v":1},"",{"$error":"#N/A"},{"$f":"IF(COUNTIF($V$6:V22,V22)=1,W21+1,W21)","v":1},""]
[null,"修士課程","人文科学研究科","地理学専攻","一般入試","―","修士課程人文科学研究科地理学専攻一般入試",{"$f":"COUNTIF($G$3:G23,G23)","v":2},"修士課程人文科学研究科地理学専攻一般入試2","自然地理分野","英語（母語は選択不可）",null,null,null,null,null,null,18,{"$error":"#N/A"},{"$f":"IF(COUNTIF($S$6:S23,S23)=1,T22+1,T22)","v":1},"",{"$error":"#N/A"},{"$f":"IF(COUNTIF($V$6:V23,V23)=1,W22+1,W22)","v":1},""]
[null,"修士課程","人文科学研究科","地理学専攻","一般入試","―","修士課程人文科学研究科地理学専攻一般入試",{"$f":"COUNTIF($G$3:G24,G24)","v":3},"修士課程人文科学研究科地理学専攻一般入試3","人文地理分野","日本語（母語は選択不可）",null,null,null,null,null,null,19,{"$error":"#N/A"},{"$f":"IF(COUNTIF($S$6:S24,S24)=1,T23+1,T23)","v":1},"",{"$error":"#N/A"},{"$f":"IF(COUNTIF($V$6:V24,V24)=1,W23+1,W23)","v":1},""]
[null,"修士課程","人文科学研究科","地理学専攻","一般入試","―","修士課程人文科学研究科地理学専攻一般入試",{"$f":"COUNTIF($G$3:G25,G25)","v":4},"修士課程人文科学研究科地理学専攻一般入試4","人文地理分野","英語（母語は選択不可）",null,null,null,null,null,null,20,{"$error":"#N/A"},{"$f":"IF(COUNTIF($S$6:S25,S25)=1,T24+1,T24)","v":1},"",{"$error":"#N/A"},{"$f":"IF(COUNTIF($V$6:V25,V25)=1,W24+1,W24)","v":1},""]
[null,{"$f":"'「志願先」欄  選択一覧'!B19","v":"修士課程"},{"$f":"'「志願先」欄  選択一覧'!C19","v":"人文科学研究科"},{"$f":"'「志願先」欄  選択一覧'!D19","v":"地理学専攻"},{"$f":"'「志願先」欄  選択一覧'!E19","v":"社会人入試"},{"$f":"'「志願先」欄  選択一覧'!F19","v":"なし"},"修士課程人文科学研究科地理学専攻社会人入試",{"$f":"COUNTIF($G$3:G26,G26)","v":1},"修士課程人文科学研究科地理学専攻社会人入試1","自然地理分野","なし",null,null,null,null,null,null,21,{"$error":"#N/A"},{"$f":"IF(COUNTIF($S$6:S26,S26)=1,T25+1,T25)","v":1},"",{"$error":"#N/A"},{"$f":"IF(COUNTIF($V$6:V26,V26)=1,W25+1,W25)","v":1},""]
[null,"修士課程","人文科学研究科","地理学専攻","社会人入試","―","修士課程人文科学研究科地理学専攻社会人入試",{"$f":"COUNTIF($G$3:G27,G27)","v":2},"修士課程人文科学研究科地理学専攻社会人入試2","人文地理分野","なし",null,null,null,null,null,null,22,{"$error":"#N/A"},{"$f":"IF(COUNTIF($S$6:S27,S27)=1,T26+1,T26)","v":1},"",{"$error":"#N/A"},{"$f":"IF(COUNTIF($V$6:V27,V27)=1,W26+1,W26)","v":1},""]
[null,{"$f":"'「志願先」欄  選択一覧'!B20","v":"修士課程"},{"$f":"'「志願先」欄  選択一覧'!C20","v":"人文科学研究科"},{"$f":"'「志願先」欄  選択一覧'!D20","v":"心理学専攻"},{"$f":"'「志願先」欄  選択一覧'!E20","v":"一般入試"},{"$f":"'「志願先」欄  選択一覧'!F20","v":"なし"},"修士課程人文科学研究科心理学専攻一般入試",{"$f":"COUNTIF($G$3:G28,G28)","v":1},"修士課程人文科学研究科心理学専攻一般入試1","専門科目","英語",null,null,null,null,null,null,23,{"$error":"#N/A"},{"$f":"IF(COUNTIF($S$6:S28,S28)=1,T27+1,T27)","v":1},"",{"$error":"#N/A"},{"$f":"IF(COUNTIF($V$6:V28,V28)=1,W27+1,W27)","v":1},""]
[null,{"$f":"'「志願先」欄  選択一覧'!B21","v":"修士課程"},{"$f":"'「志願先」欄  選択一覧'!C21","v":"人文科学研究科"},{"$f":"'「志願先」欄  選択一覧'!D21","v":"国際日本学インスティテュート"},{"$f":"'「志願先」欄  選択一覧'!E21","v":"一般入試"},{"$f":"'「志願先」欄  選択一覧'!F21","v":"所属専攻：哲学"},"修士課程人文科学研究科国際日本学インスティテュート一般入試",{"$f":"COUNTIF($G$3:G29,G29)","v":1},"修士課程人文科学研究科国際日本学インスティテュート一般入試1","小論文","口述試験語学試問：英語（母語は選択不可）",null,null,null,null,null,null,24,{"$error":"#N/A"},{"$f":"IF(COUNTIF($S$6:S29,S29)=1,T28+1,T28)","v":1},"",{"$error":"#N/A"},{"$f":"IF(COUNTIF($V$6:V29,V29)=1,W28+1,W28)","v":1},""]
[null,{"$f":"'「志願先」欄  選択一覧'!B22","v":"修士課程"},{"$f":"'「志願先」欄  選択一覧'!C22","v":"人文科学研究科"},{"$f":"'「志願先」欄  選択一覧'!D22","v":"国際日本学インスティテュート"},{"$f":"'「志願先」欄  選択一覧'!E22","v":"一般入試"},{"$f":"'「志願先」欄  選択一覧'!F22","v":"所属専攻：日本文学"},"修士課程人文科学研究科国際日本学インスティテュート一般入試",{"$f":"COUNTIF($G$3:G30,G30)","v":2},"修士課程人文科学研究科国際日本学インスティテュート一般入試2","小論文","口述試験語学試問：中国語（母語は選択不可）",null,null,null,null,null,null,25,{"$error":"#N/A"},{"$f":"IF(COUNTIF($S$6:S30,S30)=1,T29+1,T29)","v":1},"",{"$error":"#N/A"},{"$f":"IF(COUNTIF($V$6:V30,V30)=1,W29+1,W29)","v":1},""]
[null,{"$f":"'「志願先」欄  選択一覧'!B23","v":"修士課程"},{"$f":"'「志願先」欄  選択一覧'!C23","v":"人文科学研究科"},{"$f":"'「志願先」欄  選択一覧'!D23","v":"国際日本学インスティテュート"},{"$f":"'「志願先」欄  選択一覧'!E23","v":"一般入試"},{"$f":"'「志願先」欄  選択一覧'!F23","v":"所属専攻：英文学"},"修士課程人文科学研究科国際日本学インスティテュート一般入試",{"$f":"COUNTIF($G$3:G31,G31)","v":3},"修士課程人文科学研究科国際日本学インスティテュート一般入試3","小論文","口述試験語学試問：日本古典語",null,null,null,null,null,null,26,{"$error":"#N/A"},{"$f":"IF(COUNTIF($S$6:S31,S31)=1,T30+1,T30)","v":1},"",{"$error":"#N/A"},{"$f":"IF(COUNTIF($V$6:V31,V31)=1,W30+1,W30)","v":1},""]
[null,{"$f":"'「志願先」欄  選択一覧'!B24","v":"修士課程"},{"$f":"'「志願先」欄  選択一覧'!C24","v":"人文科学研究科"},{"$f":"'「志願先」欄  選択一覧'!D24","v":"国際日本学インスティテュート"},{"$f":"'「志願先」欄  選択一覧'!E24","v":"一般入試"},{"$f":"'「志願先」欄  選択一覧'!F24","v":"所属専攻：史学"},"修士課程人文科学研究科国際日本学インスティテュート一般入試",{"$f":"COUNTIF($G$3:G32,G32)","v":4},"修士課程人文科学研究科国際日本学インスティテュート一般入試4","小論文","口述試験語学試問：日本古文書",null,null,null,null,null,null,27,{"$error":"#N/A"},{"$f":"IF(COUNTIF($S$6:S32,S32)=1,T31+1,T31)","v":1},"",{"$error":"#N/A"},{"$f":"IF(COUNTIF($V$6:V32,V32)=1,W31+1,W31)","v":1},""]
[null,{"$f":"'「志願先」欄  選択一覧'!B25","v":"修士課程"},{"$f":"'「志願先」欄  選択一覧'!C25","v":"人文科学研究科"},{"$f":"'「志願先」欄  選択一覧'!D25","v":"国際日本学インスティテュート"},{"$f":"'「志願先」欄  選択一覧'!E25","v":"一般入試"},{"$f":"'「志願先」欄  選択一覧'!F25","v":"所属専攻：地理学"},"修士課程人文科学研究科国際日本学インスティテュート一般入試",{"$f":"COUNTIF($G$3:G33,G33)","v":5},"修士課程人文科学研究科国際日本学インスティテュート一般入試5",null,null,null,null,null,null,null,null,28,{"$error":"#N/A"},{"$f":"IF(COUNTIF($S$6:S33,S33)=1,T32+1,T32)","v":1},"",{"$error":"#N/A"},{"$f":"IF(COUNTIF($V$6:V33,V33)=1,W32+1,W32)","v":1},""]
[null,{"$f":"'「志願先」欄  選択一覧'!B26","v":"修士課程"},{"$f":"'「志願先」欄  選択一覧'!C26","v":"人文科学研究科"},{"$f":"'「志願先」欄  選択一覧'!D26","v":"国際日本学インスティテュート"},{"$f":"'「志願先」欄  選択一覧'!E26","v":"外国人入試"},{"$f":"'「志願先」欄  選択一覧'!F26","v":"所属専攻：哲学"},"修士課程人文科学研究科国際日本学インスティテュート外国人入試",{"$f":"COUNTIF($G$3:G34,G34)","v":1},"修士課程人文科学研究科国際日本学インスティテュート外国人入試1","小論文（日本語）","なし",null,null,null,null,null,null,29,{"$error":"#N/A"},{"$f":"IF(COUNTIF($S$6:S34,S34)=1,T33+1,T33)","v":1},"",{"$error":"#N/A"},{"$f":"IF(COUNTIF($V$6:V34,V34)=1,W33+1,W33)","v":1},""]
[null,{"$f":"'「志願先」欄  選択一覧'!B27","v":"修士課程"},{"$f":"'「志願先」欄  選択一覧'!C27","v":"人文科学研究科"},{"$f":"'「志願先」欄  選択一覧'!D27","v":"国際日本学インスティテュート"},{"$f":"'「志願先」欄  選択一覧'!E27","v":"外国人入試"},{"$f":"'「志願先」欄  選択一覧'!F27","v":"所属専攻：日本文学"},"修士課程人文科学研究科国際日本学インスティテュート外国人入試",{"$f":"COUNTIF($G$3:G35,G35)","v":2},"修士課程人文科学研究科国際日本学インスティテュート外国人入試2",null,null,null,null,null,null,null,null,30,{"$error":"#N/A"},{"$f":"IF(COUNTIF($S$6:S35,S35)=1,T34+1,T34)","v":1},"",{"$error":"#N/A"},{"$f":"IF(COUNTIF($V$6:V35,V35)=1,W34+1,W34)","v":1},""]
[null,{"$f":"'「志願先」欄  選択一覧'!B28","v":"修士課程"},{"$f":"'「志願先」欄  選択一覧'!C28","v":"人文科学研究科"},{"$f":"'「志願先」欄  選択一覧'!D28","v":"国際日本学インスティテュート"},{"$f":"'「志願先」欄  選択一覧'!E28","v":"外国人入試"},{"$f":"'「志願先」欄  選択一覧'!F28","v":"所属専攻：英文学"},"修士課程人文科学研究科国際日本学インスティテュート外国人入試",{"$f":"COUNTIF($G$3:G36,G36)","v":3},"修士課程人文科学研究科国際日本学インスティテュート外国人入試3",null,null,null,null,null,null,null,null,31,{"$error":"#N/A"},{"$f":"IF(COUNTIF($S$6:S36,S36)=1,T35+1,T35)","v":1},"",{"$error":"#N/A"},{"$f":"IF(COUNTIF($V$6:V36,V36)=1,W35+1,W35)","v":1},""]
[null,{"$f":"'「志願先」欄  選択一覧'!B29","v":"修士課程"},{"$f":"'「志願先」欄  選択一覧'!C29","v":"人文科学研究科"},{"$f":"'「志願先」欄  選択一覧'!D29","v":"国際日本学インスティテュート"},{"$f":"'「志願先」欄  選択一覧'!E29","v":"外国人入試"},{"$f":"'「志願先」欄  選択一覧'!F29","v":"所属専攻：史学"},"修士課程人文科学研究科国際日本学インスティテュート外国人入試",{"$f":"COUNTIF($G$3:G37,G37)","v":4},"修士課程人文科学研究科国際日本学インスティテュート外国人入試4",null,null,null,null,null,null,null,null,32,{"$error":"#N/A"},{"$f":"IF(COUNTIF($S$6:S37,S37)=1,T36+1,T36)","v":1},"",{"$error":"#N/A"},{"$f":"IF(COUNTIF($V$6:V37,V37)=1,W36+1,W36)","v":1},""]
[null,{"$f":"'「志願先」欄  選択一覧'!B30","v":"修士課程"},{"$f":"'「志願先」欄  選択一覧'!C30","v":"人文科学研究科"},{"$f":"'「志願先」欄  選択一覧'!D30","v":"国際日本学インスティテュート"},{"$f":"'「志願先」欄  選択一覧'!E30","v":"外国人入試"},{"$f":"'「志願先」欄  選択一覧'!F30","v":"所属専攻：地理学"},"修士課程人文科学研究科国際日本学インスティテュート外国人入試",{"$f":"COUNTIF($G$3:G38,G38)","v":5},"修士課程人文科学研究科国際日本学インスティテュート外国人入試5",null,null,null,null,null,null,null,null,33,{"$f":"VLOOKUP($S$2&R38,$I:$K,2,0)","v":{"$error":"#N/A"}},{"$f":"IF(COUNTIF($S$6:S38,S38)=1,T37+1,T37)","v":1},"",{"$f":"VLOOKUP($S$2&R38,$I:$K,3,0)","v":{"$error":"#N/A"}},{"$f":"IF(COUNTIF($V$6:V38,V38)=1,W37+1,W37)","v":1},""]
[null,{"$f":"'「志願先」欄  選択一覧'!B31","v":"修士課程"},{"$f":"'「志願先」欄  選択一覧'!C31","v":"人文科学研究科"},{"$f":"'「志願先」欄  選択一覧'!D31","v":"国際日本学インスティテュート"},{"$f":"'「志願先」欄  選択一覧'!E31","v":"社会人入試"},{"$f":"'「志願先」欄  選択一覧'!F31","v":"所属専攻：哲学"},"修士課程人文科学研究科国際日本学インスティテュート社会人入試",{"$f":"COUNTIF($G$3:G39,G39)","v":1},"修士課程人文科学研究科国際日本学インスティテュート社会人入試1","筆記試験なし","筆記試験なし",null,null,null,null,null,null,34,{"$error":"#N/A"},{"$f":"IF(COUNTIF($S$6:S39,S39)=1,T38+1,T38)","v":1},"",{"$error":"#N/A"},{"$f":"IF(COUNTIF($V$6:V39,V39)=1,W38+1,W38)","v":1},""]
[null,{"$f":"'「志願先」欄  選択一覧'!B32","v":"修士課程"},{"$f":"'「志願先」欄  選択一覧'!C32","v":"人文科学研究科"},{"$f":"'「志願先」欄  選択一覧'!D32","v":"国際日本学インスティテュート"},{"$f":"'「志願先」欄  選択一覧'!E32","v":"社会人入試"},{"$f":"'「志願先」欄  選択一覧'!F32","v":"所属専攻：日本文学"},"修士課程人文科学研究科国際日本学インスティテュート社会人入試",{"$f":"COUNTIF($G$3:G40,G40)","v":2},"修士課程人文科学研究科国際日本学インスティテュート社会人入試2",null,null,null,null,null,null,null,null,35,{"$error":"#N/A"},{"$f":"IF(COUNTIF($S$6:S40,S40)=1,T39+1,T39)","v":1},"",{"$error":"#N/A"},{"$f":"IF(COUNTIF($V$6:V40,V40)=1,W39+1,W39)","v":1},""]
[null,{"$f":"'「志願先」欄  選択一覧'!B33","v":"修士課程"},{"$f":"'「志願先」欄  選択一覧'!C33","v":"人文科学研究科"},{"$f":"'「志願先」欄  選択一覧'!D33","v":"国際日本学インスティテュート"},{"$f":"'「志願先」欄  選択一覧'!E33","v":"社会人入試"},{"$f":"'「志願先」欄  選択一覧'!F33","v":"所属専攻：英文学"},"修士課程人文科学研究科国際日本学インスティテュート社会人入試",{"$f":"COUNTIF($G$3:G41,G41)","v":3},"修士課程人文科学研究科国際日本学インスティテュート社会人入試3",null,null,null,null,null,null,null,null,36,{"$error":"#N/A"},{"$f":"IF(COUNTIF($S$6:S41,S41)=1,T40+1,T40)","v":1},"",{"$error":"#N/A"},{"$f":"IF(COUNTIF($V$6:V41,V41)=1,W40+1,W40)","v":1},""]
[null,{"$f":"'「志願先」欄  選択一覧'!B34","v":"修士課程"},{"$f":"'「志願先」欄  選択一覧'!C34","v":"人文科学研究科"},{"$f":"'「志願先」欄  選択一覧'!D34","v":"国際日本学インスティテュート"},{"$f":"'「志願先」欄  選択一覧'!E34","v":"社会人入試"},{"$f":"'「志願先」欄  選択一覧'!F34","v":"所属専攻：史学"},"修士課程人文科学研究科国際日本学インスティテュート社会人入試",{"$f":"COUNTIF($G$3:G42,G42)","v":4},"修士課程人文科学研究科国際日本学インスティテュート社会人入試4",null,null,null,null,null,null,null,null,37,{"$error":"#N/A"},{"$f":"IF(COUNTIF($S$6:S42,S42)=1,T41+1,T41)","v":1},"",{"$error":"#N/A"},{"$f":"IF(COUNTIF($V$6:V42,V42)=1,W41+1,W41)","v":1},""]
[null,{"$f":"'「志願先」欄  選択一覧'!B35","v":"修士課程"},{"$f":"'「志願先」欄  選択一覧'!C35","v":"人文科学研究科"},{"$f":"'「志願先」欄  選択一覧'!D35","v":"国際日本学インスティテュート"},{"$f":"'「志願先」欄  選択一覧'!E35","v":"社会人入試"},{"$f":"'「志願先」欄  選択一覧'!F35","v":"所属専攻：地理学"},"修士課程人文科学研究科国際日本学インスティテュート社会人入試",{"$f":"COUNTIF($G$3:G43,G43)","v":5},"修士課程人文科学研究科国際日本学インスティテュート社会人入試5",null,null,null,null,null,null,null,null,38,{"$error":"#N/A"},{"$f":"IF(COUNTIF($S$6:S43,S43)=1,T42+1,T42)","v":1},"",{"$error":"#N/A"},{"$f":"IF(COUNTIF($V$6:V43,V43)=1,W42+1,W42)","v":1},""]
[null,{"$f":"'「志願先」欄  選択一覧'!B36","v":"修士課程"},{"$f":"'「志願先」欄  選択一覧'!C36","v":"国際文化研究科"},{"$f":"'「志願先」欄  選択一覧'!D36","v":"国際文化専攻"},{"$f":"'「志願先」欄  選択一覧'!E36","v":"一般入試"},{"$f":"'「志願先」欄  選択一覧'!F36","v":"なし"},"修士課程国際文化研究科国際文化専攻一般入試",{"$f":"COUNTIF($G$3:G44,G44)","v":1},"修士課程国際文化研究科国際文化専攻一般入試1","筆記試験なし","筆記試験なし",null,null,null,null,null,null,39,{"$error":"#N/A"},{"$f":"IF(COUNTIF($S$6:S44,S44)=1,T43+1,T43)","v":1},"",{"$error":"#N/A"},{"$f":"IF(COUNTIF($V$6:V44,V44)=1,W43+1,W43)","v":1},""]
[null,{"$f":"'「志願先」欄  選択一覧'!B37","v":"修士課程"},{"$f":"'「志願先」欄  選択一覧'!C37","v":"国際文化研究科"},{"$f":"'「志願先」欄  選択一覧'!D37","v":"国際文化専攻"},{"$f":"'「志願先」欄  選択一覧'!E37","v":"外国人入試"},{"$f":"'「志願先」欄  選択一覧'!F37","v":"なし"},"修士課程国際文化研究科国際文化専攻外国人入試",{"$f":"COUNTIF($G$3:G45,G45)","v":1},"修士課程国際文化研究科国際文化専攻外国人入試1","筆記試験なし","筆記試験なし",null,null,null,null,null,null,40,{"$error":"#N/A"},{"$f":"IF(COUNTIF($S$6:S45,S45)=1,T44+1,T44)","v":1},"",{"$error":"#N/A"},{"$f":"IF(COUNTIF($V$6:V45,V45)=1,W44+1,W44)","v":1},""]
[null,{"$f":"'「志願先」欄  選択一覧'!B38","v":"修士課程"},{"$f":"'「志願先」欄  選択一覧'!C38","v":"国際文化研究科"},{"$f":"'「志願先」欄  選択一覧'!D38","v":"国際文化専攻"},{"$f":"'「志願先」欄  選択一覧'!E38","v":"社会人入試"},{"$f":"'「志願先」欄  選択一覧'!F38","v":"なし"},"修士課程国際文化研究科国際文化専攻社会人入試",{"$f":"COUNTIF($G$3:G46,G46)","v":1},"修士課程国際文化研究科国際文化専攻社会人入試1","筆記試験なし","筆記試験なし",null,null,null,null,null,null,41,{"$error":"#N/A"},{"$f":"IF(COUNTIF($S$6:S46,S46)=1,T45+1,T45)","v":1},"",{"$error":"#N/A"},{"$f":"IF(COUNTIF($V$6:V46,V46)=1,W45+1,W45)","v":1},""]
[null,{"$f":"'「志願先」欄  選択一覧'!B39","v":"修士課程"},{"$f":"'「志願先」欄  選択一覧'!C39","v":"経済学研究科"},{"$f":"'「志願先」欄  選択一覧'!D39","v":"経済学専攻"},{"$f":"'「志願先」欄  選択一覧'!E39","v":"一般入試"},{"$f":"'「志願先」欄  選択一覧'!F39","v":"修士M.A.（歴史・思想・制度）"},"修士課程経済学研究科経済学専攻一般入試",{"$f":"COUNTIF($G$3:G47,G47)","v":1},"修士課程経済学研究科経済学専攻一般入試1","ミクロ経済学・マクロ経済学【秋季入試時のみ】","なし",null,null,null,null,null,null,42,{"$error":"#N/A"},{"$f":"IF(COUNTIF($S$6:S47,S47)=1,T46+1,T46)","v":1},"",{"$error":"#N/A"},{"$f":"IF(COUNTIF($V$6:V47,V47)=1,W46+1,W46)","v":1},""]
[null,{"$f":"'「志願先」欄  選択一覧'!B40","v":"修士課程"},{"$f":"'「志願先」欄  選択一覧'!C40","v":"経済学研究科"},{"$f":"'「志願先」欄  選択一覧'!D40","v":"経済学専攻"},{"$f":"'「志願先」欄  選択一覧'!E40","v":"一般入試"},{"$f":"'「志願先」欄  選択一覧'!F40","v":"修士M.A.（金融・企業）"},"修士課程経済学研究科経済学専攻一般入試",{"$f":"COUNTIF($G$3:G48,G48)","v":2},"修士課程経済学研究科経済学専攻一般入試2","筆記試験なし・経済学検定試験の書類提出【春季入試時のみ】","なし",null,null,null,null,null,null,43,{"$error":"#N/A"},{"$f":"IF(COUNTIF($S$6:S48,S48)=1,T47+1,T47)","v":1},"",{"$error":"#N/A"},{"$f":"IF(COUNTIF($V$6:V48,V48)=1,W47+1,W47)","v":1},""]
[null,{"$f":"'「志願先」欄  選択一覧'!B41","v":"修士課程"},{"$f":"'「志願先」欄  選択一覧'!C41","v":"経済学研究科"},{"$f":"'「志願先」欄  選択一覧'!D41","v":"経済学専攻"},{"$f":"'「志願先」欄  選択一覧'!E41","v":"一般入試"},{"$f":"'「志願先」欄  選択一覧'!F41","v":"修士M.A.（政策・環境）"},"修士課程経済学研究科経済学専攻一般入試",{"$f":"COUNTIF($G$3:G49,G49)","v":3},"修士課程経済学研究科経済学専攻一般入試3",null,null,null,null,null,null,null,null,44,{"$error":"#N/A"},{"$f":"IF(COUNTIF($S$6:S49,S49)=1,T48+1,T48)","v":1},"",{"$error":"#N/A"},{"$f":"IF(COUNTIF($V$6:V49,V49)=1,W48+1,W48)","v":1},""]
[null,{"$f":"'「志願先」欄  選択一覧'!B42","v":"修士課程"},{"$f":"'「志願先」欄  選択一覧'!C42","v":"経済学研究科"},{"$f":"'「志願先」欄  選択一覧'!D42","v":"経済学専攻"},{"$f":"'「志願先」欄  選択一覧'!E42","v":"一般入試"},{"$f":"'「志願先」欄  選択一覧'!F42","v":"修士M.A.（国際・地域）"},"修士課程経済学研究科経済学専攻一般入試",{"$f":"COUNTIF($G$3:G50,G50)","v":4},"修士課程経済学研究科経済学専攻一般入試4",null,null,null,null,null,null,null,null,45,{"$error":"#N/A"},{"$f":"IF(COUNTIF($S$6:S50,S50)=1,T49+1,T49)","v":1},"",{"$error":"#N/A"},{"$f":"IF(COUNTIF($V$6:V50,V50)=1,W49+1,W49)","v":1},""]
[null,{"$f":"'「志願先」欄  選択一覧'!B43","v":"修士課程"},{"$f":"'「志願先」欄  選択一覧'!C43","v":"経済学研究科"},{"$f":"'「志願先」欄  選択一覧'!D43","v":"経済学専攻"},{"$f":"'「志願先」欄  選択一覧'!E43","v":"一般入試"},{"$f":"'「志願先」欄  選択一覧'!F43","v":"修士M.A.（応用ミクロ・応用マクロ・計量）"},"修士課程経済学研究科経済学専攻一般入試",{"$f":"COUNTIF($G$3:G51,G51)","v":5},"修士課程経済学研究科経済学専攻一般入試5",null,null,null,null,null,null,null,null,46,{"$error":"#N/A"},{"$f":"IF(COUNTIF($S$6:S51,S51)=1,T50+1,T50)","v":1},"",{"$error":"#N/A"},{"$f":"IF(COUNTIF($V$6:V51,V51)=1,W50+1,W50)","v":1},""]
[null,{"$f":"'「志願先」欄  選択一覧'!B44","v":"修士課程"},{"$f":"'「志願先」欄  選択一覧'!C44","v":"経済学研究科"},{"$f":"'「志願先」欄  選択一覧'!D44","v":"経済学専攻"},{"$f":"'「志願先」欄  選択一覧'!E44","v":"一般入試"},{"$f":"'「志願先」欄  選択一覧'!F44","v":"博士5年Ph.D.（歴史・思想・制度）"},"修士課程経済学研究科経済学専攻一般入試",{"$f":"COUNTIF($G$3:G52,G52)","v":6},"修士課程経済学研究科経済学専攻一般入試6",null,null,null,null,null,null,null,null,47,{"$error":"#N/A"},{"$f":"IF(COUNTIF($S$6:S52,S52)=1,T51+1,T51)","v":1},"",{"$error":"#N/A"},{"$f":"IF(COUNTIF($V$6:V52,V52)=1,W51+1,W51)","v":1},""]
[null,{"$f":"'「志願先」欄  選択一覧'!B45","v":"修士課程"},{"$f":"'「志願先」欄  選択一覧'!C45","v":"経済学研究科"},{"$f":"'「志願先」欄  選択一覧'!D45","v":"経済学専攻"},{"$f":"'「志願先」欄  選択一覧'!E45","v":"一般入試"},{"$f":"'「志願先」欄  選択一覧'!F45","v":"博士5年Ph.D.（金融・企業）"},"修士課程経済学研究科経済学専攻一般入試",{"$f":"COUNTIF($G$3:G53,G53)","v":7},"修士課程経済学研究科経済学専攻一般入試7",null,null,null,null,null,null,null,null,48,{"$error":"#N/A"},{"$f":"IF(COUNTIF($S$6:S53,S53)=1,T52+1,T52)","v":1},"",{"$error":"#N/A"},{"$f":"IF(COUNTIF($V$6:V53,V53)=1,W52+1,W52)","v":1},""]
[null,{"$f":"'「志願先」欄  選択一覧'!B46","v":"修士課程"},{"$f":"'「志願先」欄  選択一覧'!C46","v":"経済学研究科"},{"$f":"'「志願先」欄  選択一覧'!D46","v":"経済学専攻"},{"$f":"'「志願先」欄  選択一覧'!E46","v":"一般入試"},{"$f":"'「志願先」欄  選択一覧'!F46","v":"博士5年Ph.D.（政策・環境）"},"修士課程経済学研究科経済学専攻一般入試",{"$f":"COUNTIF($G$3:G54,G54)","v":8},"修士課程経済学研究科経済学専攻一般入試8",null,null,null,null,null,null,null,null,49,{"$error":"#N/A"},{"$f":"IF(COUNTIF($S$6:S54,S54)=1,T53+1,T53)","v":1},"",{"$error":"#N/A"},{"$f":"IF(COUNTIF($V$6:V54,V54)=1,W53+1,W53)","v":1},""]
[null,{"$f":"'「志願先」欄  選択一覧'!B47","v":"修士課程"},{"$f":"'「志願先」欄  選択一覧'!C47","v":"経済学研究科"},{"$f":"'「志願先」欄  選択一覧'!D47","v":"経済学専攻"},{"$f":"'「志願先」欄  選択一覧'!E47","v":"一般入試"},{"$f":"'「志願先」欄  選択一覧'!F47","v":"博士5年Ph.D.（国際・地域）"},"修士課程経済学研究科経済学専攻一般入試",{"$f":"COUNTIF($G$3:G55,G55)","v":9},"修士課程経済学研究科経済学専攻一般入試9",null,null,null,null,null,null,null,null,50,{"$error":"#N/A"},{"$f":"IF(COUNTIF($S$6:S55,S55)=1,T54+1,T54)","v":1},"",{"$error":"#N/A"},{"$f":"IF(COUNTIF($V$6:V55,V55)=1,W54+1,W54)","v":1},""]
[null,{"$f":"'「志願先」欄  選択一覧'!B48","v":"修士課程"},{"$f":"'「志願先」欄  選択一覧'!C48","v":"経済学研究科"},{"$f":"'「志願先」欄  選択一覧'!D48","v":"経済学専攻"},{"$f":"'「志願先」欄  選択一覧'!E48","v":"一般入試"},{"$f":"'「志願先」欄  選択一覧'!F48","v":"博士5年Ph.D.（応用ミクロ・応用マクロ・計量）"},"修士課程経済学研究科経済学専攻一般入試",{"$f":"COUNTIF($G$3:G56,G56)","v":10},"修士課程経済学研究科経済学専攻一般入試10",null,null,null,null,null,null,null,null,51,{"$error":"#N/A"},{"$f":"IF(COUNTIF($S$6:S56,S56)=1,T55+1,T55)","v":1},"",{"$error":"#N/A"},{"$f":"IF(COUNTIF($V$6:V56,V56)=1,W55+1,W55)","v":1},""]
[null,{"$f":"'「志願先」欄  選択一覧'!B49","v":"修士課程"},{"$f":"'「志願先」欄  選択一覧'!C49","v":"経済学研究科"},{"$f":"'「志願先」欄  選択一覧'!D49","v":"経済学専攻"},{"$f":"'「志願先」欄  選択一覧'!E49","v":"外国人入試"},{"$f":"'「志願先」欄  選択一覧'!F49","v":"修士M.A.（歴史・思想・制度）"},"修士課程経済学研究科経済学専攻外国人入試",{"$f":"COUNTIF($G$3:G57,G57)","v":1},"修士課程経済学研究科経済学専攻外国人入試1","経済学【秋季入試時のみ】","なし",null,null,null,null,null,null,52,{"$error":"#N/A"},{"$f":"IF(COUNTIF($S$6:S57,S57)=1,T56+1,T56)","v":1},"",{"$error":"#N/A"},{"$f":"IF(COUNTIF($V$6:V57,V57)=1,W56+1,W56)","v":1},""]
[null,{"$f":"'「志願先」欄  選択一覧'!B50","v":"修士課程"},{"$f":"'「志願先」欄  選択一覧'!C50","v":"経済学研究科"},{"$f":"'「志願先」欄  選択一覧'!D50","v":"経済学専攻"},{"$f":"'「志願先」欄  選択一覧'!E50","v":"外国人入試"},{"$f":"'「志願先」欄  選択一覧'!F50","v":"修士M.A.（金融・企業）"},"修士課程経済学研究科経済学専攻外国人入試",{"$f":"COUNTIF($G$3:G58,G58)","v":2},"修士課程経済学研究科経済学専攻外国人入試2","筆記試験なし・経済学検定試験の書類提出【春季入試時のみ】","なし",null,null,null,null,null,null,53,{"$error":"#N/A"},{"$f":"IF(COUNTIF($S$6:S58,S58)=1,T57+1,T57)","v":1},"",{"$error":"#N/A"},{"$f":"IF(COUNTIF($V$6:V58,V58)=1,W57+1,W57)","v":1},""]
[null,{"$f":"'「志願先」欄  選択一覧'!B51","v":"修士課程"},{"$f":"'「志願先」欄  選択一覧'!C51","v":"経済学研究科"},{"$f":"'「志願先」欄  選択一覧'!D51","v":"経済学専攻"},{"$f":"'「志願先」欄  選択一覧'!E51","v":"外国人入試"},{"$f":"'「志願先」欄  選択一覧'!F51","v":"修士M.A.（政策・環境）"},"修士課程経済学研究科経済学専攻外国人入試",{"$f":"COUNTIF($G$3:G59,G59)","v":3},"修士課程経済学研究科経済学専攻外国人入試3",null,null,null,null,null,null,null,null,54,{"$error":"#N/A"},{"$f":"IF(COUNTIF($S$6:S59,S59)=1,T58+1,T58)","v":1},"",{"$error":"#N/A"},{"$f":"IF(COUNTIF($V$6:V59,V59)=1,W58+1,W58)","v":1},""]
[null,{"$f":"'「志願先」欄  選択一覧'!B52","v":"修士課程"},{"$f":"'「志願先」欄  選択一覧'!C52","v":"経済学研究科"},{"$f":"'「志願先」欄  選択一覧'!D52","v":"経済学専攻"},{"$f":"'「志願先」欄  選択一覧'!E52","v":"外国人入試"},{"$f":"'「志願先」欄  選択一覧'!F52","v":"修士M.A.（国際・地域）"},"修士課程経済学研究科経済学専攻外国人入試",{"$f":"COUNTIF($G$3:G60,G60)","v":4},"修士課程経済学研究科経済学専攻外国人入試4",null,null,null,null,null,null,null,null,55,{"$error":"#N/A"},{"$f":"IF(COUNTIF($S$6:S60,S60)=1,T59+1,T59)","v":1},"",{"$error":"#N/A"},{"$f":"IF(COUNTIF($V$6:V60,V60)=1,W59+1,W59)","v":1},""]
[null,{"$f":"'「志願先」欄  選択一覧'!B53","v":"修士課程"},{"$f":"'「志願先」欄  選択一覧'!C53","v":"経済学研究科"},{"$f":"'「志願先」欄  選択一覧'!D53","v":"経済学専攻"},{"$f":"'「志願先」欄  選択一覧'!E53","v":"外国人入試"},{"$f":"'「志願先」欄  選択一覧'!F53","v":"修士M.A.（応用ミクロ・応用マクロ・計量）"},"修士課程経済学研究科経済学専攻外国人入試",{"$f":"COUNTIF($G$3:G61,G61)","v":5},"修士課程経済学研究科経済学専攻外国人入試5",null,null,null,null,null,null,null,null,56,{"$error":"#N/A"},{"$f":"IF(COUNTIF($S$6:S61,S61)=1,T60+1,T60)","v":1},"",{"$error":"#N/A"},{"$f":"IF(COUNTIF($V$6:V61,V61)=1,W60+1,W60)","v":1},""]
[null,{"$f":"'「志願先」欄  選択一覧'!B54","v":"修士課程"},{"$f":"'「志願先」欄  選択一覧'!C54","v":"経済学研究科"},{"$f":"'「志願先」欄  選択一覧'!D54","v":"経済学専攻"},{"$f":"'「志願先」欄  選択一覧'!E54","v":"外国人入試"},{"$f":"'「志願先」欄  選択一覧'!F54","v":"博士5年Ph.D.（歴史・思想・制度）"},"修士課程経済学研究科経済学専攻外国人入試",{"$f":"COUNTIF($G$3:G62,G62)","v":6},"修士課程経済学研究科経済学専攻外国人入試6",null,null,null,null,null,null,null,null,57,{"$error":"#N/A"},{"$f":"IF(COUNTIF($S$6:S62,S62)=1,T61+1,T61)","v":1},"",{"$error":"#N/A"},{"$f":"IF(COUNTIF($V$6:V62,V62)=1,W61+1,W61)","v":1},""]
[null,{"$f":"'「志願先」欄  選択一覧'!B55","v":"修士課程"},{"$f":"'「志願先」欄  選択一覧'!C55","v":"経済学研究科"},{"$f":"'「志願先」欄  選択一覧'!D55","v":"経済学専攻"},{"$f":"'「志願先」欄  選択一覧'!E55","v":"外国人入試"},{"$f":"'「志願先」欄  選択一覧'!F55","v":"博士5年Ph.D.（金融・企業）"},"修士課程経済学研究科経済学専攻外国人入試",{"$f":"COUNTIF($G$3:G63,G63)","v":7},"修士課程経済学研究科経済学専攻外国人入試7",null,null,null,null,null,null,null,null,58,{"$error":"#N/A"},{"$f":"IF(COUNTIF($S$6:S63,S63)=1,T62+1,T62)","v":1},"",{"$error":"#N/A"},{"$f":"IF(COUNTIF($V$6:V63,V63)=1,W62+1,W62)","v":1},""]
[null,{"$f":"'「志願先」欄  選択一覧'!B56","v":"修士課程"},{"$f":"'「志願先」欄  選択一覧'!C56","v":"経済学研究科"},{"$f":"'「志願先」欄  選択一覧'!D56","v":"経済学専攻"},{"$f":"'「志願先」欄  選択一覧'!E56","v":"外国人入試"},{"$f":"'「志願先」欄  選択一覧'!F56","v":"博士5年Ph.D.（政策・環境）"},"修士課程経済学研究科経済学専攻外国人入試",{"$f":"COUNTIF($G$3:G64,G64)","v":8},"修士課程経済学研究科経済学専攻外国人入試8",null,null,null,null,null,null,null,null,59,{"$error":"#N/A"},{"$f":"IF(COUNTIF($S$6:S64,S64)=1,T63+1,T63)","v":1},"",{"$error":"#N/A"},{"$f":"IF(COUNTIF($V$6:V64,V64)=1,W63+1,W63)","v":1},""]
[null,{"$f":"'「志願先」欄  選択一覧'!B57","v":"修士課程"},{"$f":"'「志願先」欄  選択一覧'!C57","v":"経済学研究科"},{"$f":"'「志願先」欄  選択一覧'!D57","v":"経済学専攻"},{"$f":"'「志願先」欄  選択一覧'!E57","v":"外国人入試"},{"$f":"'「志願先」欄  選択一覧'!F57","v":"博士5年Ph.D.（国際・地域）"},"修士課程経済学研究科経済学専攻外国人入試",{"$f":"COUNTIF($G$3:G65,G65)","v":9},"修士課程経済学研究科経済学専攻外国人入試9",null,null,null,null,null,null,null,null,60,{"$error":"#N/A"},{"$f":"IF(COUNTIF($S$6:S65,S65)=1,T64+1,T64)","v":1},"",{"$error":"#N/A"},{"$f":"IF(COUNTIF($V$6:V65,V65)=1,W64+1,W64)","v":1},""]
[null,{"$f":"'「志願先」欄  選択一覧'!B58","v":"修士課程"},{"$f":"'「志願先」欄  選択一覧'!C58","v":"経済学研究科"},{"$f":"'「志願先」欄  選択一覧'!D58","v":"経済学専攻"},{"$f":"'「志願先」欄  選択一覧'!E58","v":"外国人入試"},{"$f":"'「志願先」欄  選択一覧'!F58","v":"博士5年Ph.D.（応用ミクロ・応用マクロ・計量）"},"修士課程経済学研究科経済学専攻外国人入試",{"$f":"COUNTIF($G$3:G66,G66)","v":10},"修士課程経済学研究科経済学専攻外国人入試10",null,null,null,null,null,null,null,null,61,{"$error":"#N/A"},{"$f":"IF(COUNTIF($S$6:S66,S66)=1,T65+1,T65)","v":1},"",{"$error":"#N/A"},{"$f":"IF(COUNTIF($V$6:V66,V66)=1,W65+1,W65)","v":1},""]
[null,{"$f":"'「志願先」欄  選択一覧'!B59","v":"修士課程"},{"$f":"'「志願先」欄  選択一覧'!C59","v":"経済学研究科"},{"$f":"'「志願先」欄  選択一覧'!D59","v":"経済学専攻"},{"$f":"'「志願先」欄  選択一覧'!E59","v":"社会人入試"},{"$f":"'「志願先」欄  選択一覧'!F59","v":"修士M.A.（歴史・思想・制度）"},"修士課程経済学研究科経済学専攻社会人入試",{"$f":"COUNTIF($G$3:G67,G67)","v":1},"修士課程経済学研究科経済学専攻社会人入試1","筆記試験なし","筆記試験なし",null,null,null,null,null,null,62,{"$error":"#N/A"},{"$f":"IF(COUNTIF($S$6:S67,S67)=1,T66+1,T66)","v":1},"",{"$error":"#N/A"},{"$f":"IF(COUNTIF($V$6:V67,V67)=1,W66+1,W66)","v":1},""]
[null,{"$f":"'「志願先」欄  選択一覧'!B60","v":"修士課程"},{"$f":"'「志願先」欄  選択一覧'!C60","v":"経済学研究科"},{"$f":"'「志願先」欄  選択一覧'!D60","v":"経済学専攻"},{"$f":"'「志願先」欄  選択一覧'!E60","v":"社会人入試"},{"$f":"'「志願先」欄  選択一覧'!F60","v":"修士M.A.（金融・企業）"},{"$f":"B68&C68&D68&E68","v":"修士課程経済学研究科経済学専攻社会人入試"},{"$f":"COUNTIF($G$3:G68,G68)","v":2},{"$f":"G68&H68","v":"修士課程経済学研究科経済学専攻社会人入試2"},null,null,null,null,null,null,null,null,63,{"$error":"#N/A"},{"$f":"IF(COUNTIF($S$6:S68,S68)=1,T67+1,T67)","v":1},"",{"$error":"#N/A"},{"$f":"IF(COUNTIF($V$6:V68,V68)=1,W67+1,W67)","v":1},""]
[null,{"$f":"'「志願先」欄  選択一覧'!B61","v":"修士課程"},{"$f":"'「志願先」欄  選択一覧'!C61","v":"経済学研究科"},{"$f":"'「志願先」欄  選択一覧'!D61","v":"経済学専攻"},{"$f":"'「志願先」欄  選択一覧'!E61","v":"社会人入試"},{"$f":"'「志願先」欄  選択一覧'!F61","v":"修士M.A.（政策・環境）"},"修士課程経済学研究科経済学専攻社会人入試",{"$f":"COUNTIF($G$3:G69,G69)","v":3},"修士課程経済学研究科経済学専攻社会人入試3",null,null,null,null,null,null,null,null,64,{"$error":"#N/A"},{"$f":"IF(COUNTIF($S$6:S69,S69)=1,T68+1,T68)","v":1},"",{"$error":"#N/A"},{"$f":"IF(COUNTIF($V$6:V69,V69)=1,W68+1,W68)","v":1},""]
[null,{"$f":"'「志願先」欄  選択一覧'!B62","v":"修士課程"},{"$f":"'「志願先」欄  選択一覧'!C62","v":"経済学研究科"},{"$f":"'「志願先」欄  選択一覧'!D62","v":"経済学専攻"},{"$f":"'「志願先」欄  選択一覧'!E62","v":"社会人入試"},{"$f":"'「志願先」欄  選択一覧'!F62","v":"修士M.A.（国際・地域）"},"修士課程経済学研究科経済学専攻社会人入試",{"$f":"COUNTIF($G$3:G70,G70)","v":4},"修士課程経済学研究科経済学専攻社会人入試4",null,null,null,null,null,null,null,null,65,{"$f":"VLOOKUP($S$2&R70,$I:$K,2,0)","v":{"$error":"#N/A"}},{"$f":"IF(COUNTIF($S$6:S70,S70)=1,T69+1,T69)","v":1},"",{"$f":"VLOOKUP($S$2&R70,$I:$K,3,0)","v":{"$error":"#N/A"}},{"$f":"IF(COUNTIF($V$6:V70,V70)=1,W69+1,W69)","v":1},""]
[null,{"$f":"'「志願先」欄  選択一覧'!B63","v":"修士課程"},{"$f":"'「志願先」欄  選択一覧'!C63","v":"経済学研究科"},{"$f":"'「志願先」欄  選択一覧'!D63","v":"経済学専攻"},{"$f":"'「志願先」欄  選択一覧'!E63","v":"社会人入試"},{"$f":"'「志願先」欄  選択一覧'!F63","v":"修士M.A.（応用ミクロ・応用マクロ・計量）"},"修士課程経済学研究科経済学専攻社会人入試",{"$f":"COUNTIF($G$3:G71,G71)","v":5},"修士課程経済学研究科経済学専攻社会人入試5",null,null,null,null,null,null,null,null,66,{"$error":"#N/A"},{"$f":"IF(COUNTIF($S$6:S71,S71)=1,T70+1,T70)","v":1},{"$f":"IFERROR(INDEX($S$6:$S$75,MATCH(ROW(U71)-5,$T$6:$T$75,0)),\"\")","v":""},{"$error":"#N/A"},{"$f":"IF(COUNTIF($V$6:V71,V71)=1,W70+1,W70)","v":1},{"$f":"IFERROR(INDEX($V$6:$V$75,MATCH(ROW(X71)-5,$W$6:$W$75,0)),\"\")","v":""}]
[null,{"$f":"'「志願先」欄  選択一覧'!B64","v":"修士課程"},{"$f":"'「志願先」欄  選択一覧'!C64","v":"経済学研究科"},{"$f":"'「志願先」欄  選択一覧'!D64","v":"経済学専攻"},{"$f":"'「志願先」欄  選択一覧'!E64","v":"社会人入試"},{"$f":"'「志願先」欄  選択一覧'!F64","v":"博士5年Ph.D.（歴史・思想・制度）"},"修士課程経済学研究科経済学専攻社会人入試",{"$f":"COUNTIF($G$3:G72,G72)","v":6},"修士課程経済学研究科経済学専攻社会人入試6",null,null,null,null,null,null,null,null,67,{"$error":"#N/A"},{"$f":"IF(COUNTIF($S$6:S72,S72)=1,T71+1,T71)","v":1},"",{"$error":"#N/A"},{"$f":"IF(COUNTIF($V$6:V72,V72)=1,W71+1,W71)","v":1},""]
[null,{"$f":"'「志願先」欄  選択一覧'!B65","v":"修士課程"},{"$f":"'「志願先」欄  選択一覧'!C65","v":"経済学研究科"},{"$f":"'「志願先」欄  選択一覧'!D65","v":"経済学専攻"},{"$f":"'「志願先」欄  選択一覧'!E65","v":"社会人入試"},{"$f":"'「志願先」欄  選択一覧'!F65","v":"博士5年Ph.D.（金融・企業）"},"修士課程経済学研究科経済学専攻社会人入試",{"$f":"COUNTIF($G$3:G73,G73)","v":7},"修士課程経済学研究科経済学専攻社会人入試7",null,null,null,null,null,null,null,null,68,{"$error":"#N/A"},{"$f":"IF(COUNTIF($S$6:S73,S73)=1,T72+1,T72)","v":1},"",{"$error":"#N/A"},{"$f":"IF(COUNTIF($V$6:V73,V73)=1,W72+1,W72)","v":1},""]
[null,{"$f":"'「志願先」欄  選択一覧'!B66","v":"修士課程"},{"$f":"'「志願先」欄  選択一覧'!C66","v":"経済学研究科"},{"$f":"'「志願先」欄  選択一覧'!D66","v":"経済学専攻"},{"$f":"'「志願先」欄  選択一覧'!E66","v":"社会人入試"},{"$f":"'「志願先」欄  選択一覧'!F66","v":"博士5年Ph.D.（政策・環境）"},"修士課程経済学研究科経済学専攻社会人入試",{"$f":"COUNTIF($G$3:G74,G74)","v":8},"修士課程経済学研究科経済学専攻社会人入試8",null,null,null,null,null,null,null,null,69,{"$error":"#N/A"},{"$f":"IF(COUNTIF($S$6:S74,S74)=1,T73+1,T73)","v":1},"",{"$error":"#N/A"},{"$f":"IF(COUNTIF($V$6:V74,V74)=1,W73+1,W73)","v":1},""]
[null,{"$f":"'「志願先」欄  選択一覧'!B67","v":"修士課程"},{"$f":"'「志願先」欄  選択一覧'!C67","v":"経済学研究科"},{"$f":"'「志願先」欄  選択一覧'!D67","v":"経済学専攻"},{"$f":"'「志願先」欄  選択一覧'!E67","v":"社会人入試"},{"$f":"'「志願先」欄  選択一覧'!F67","v":"博士5年Ph.D.（国際・地域）"},"修士課程経済学研究科経済学専攻社会人入試",{"$f":"COUNTIF($G$3:G75,G75)","v":9},"修士課程経済学研究科経済学専攻社会人入試9",null,null,null,null,null,null,null,null,70,{"$error":"#N/A"},{"$f":"IF(COUNTIF($S$6:S75,S75)=1,T74+1,T74)","v":1},"",{"$error":"#N/A"},{"$f":"IF(COUNTIF($V$6:V75,V75)=1,W74+1,W74)","v":1},""]
[null,{"$f":"'「志願先」欄  選択一覧'!B68","v":"修士課程"},{"$f":"'「志願先」欄  選択一覧'!C68","v":"経済学研究科"},{"$f":"'「志願先」欄  選択一覧'!D68","v":"経済学専攻"},{"$f":"'「志願先」欄  選択一覧'!E68","v":"社会人入試"},{"$f":"'「志願先」欄  選択一覧'!F68","v":"博士5年Ph.D.（応用ミクロ・応用マクロ・計量）"},"修士課程経済学研究科経済学専攻社会人入試",{"$f":"COUNTIF($G$3:G76,G76)","v":10},"修士課程経済学研究科経済学専攻社会人入試10"]
[null,{"$f":"'「志願先」欄  選択一覧'!B69","v":"修士課程"},{"$f":"'「志願先」欄  選択一覧'!C69","v":"経済学研究科"},{"$f":"'「志願先」欄  選択一覧'!D69","v":"経済学専攻"},{"$f":"'「志願先」欄  選択一覧'!E69","v":"社会人選抜入試"},{"$f":"'「志願先」欄  選択一覧'!F69","v":"1年（歴史・思想・制度）"},"修士課程経済学研究科経済学専攻社会人選抜入試",{"$f":"COUNTIF($G$3:G77,G77)","v":1},"修士課程経済学研究科経済学専攻社会人選抜入試1","筆記試験なし","筆記試験なし"]
[null,{"$f":"'「志願先」欄  選択一覧'!B70","v":"修士課程"},{"$f":"'「志願先」欄  選択一覧'!C70","v":"経済学研究科"},{"$f":"'「志願先」欄  選択一覧'!D70","v":"経済学専攻"},{"$f":"'「志願先」欄  選択一覧'!E70","v":"社会人選抜入試"},{"$f":"'「志願先」欄  選択一覧'!F70","v":"1年（金融・企業）"},"修士課程経済学研究科経済学専攻社会人選抜入試",{"$f":"COUNTIF($G$3:G78,G78)","v":2},"修士課程経済学研究科経済学専攻社会人選抜入試2"]
[null,{"$f":"'「志願先」欄  選択一覧'!B71","v":"修士課程"},{"$f":"'「志願先」欄  選択一覧'!C71","v":"経済学研究科"},{"$f":"'「志願先」欄  選択一覧'!D71","v":"経済学専攻"},{"$f":"'「志願先」欄  選択一覧'!E71","v":"社会人選抜入試"},{"$f":"'「志願先」欄  選択一覧'!F71","v":"1年（政策・環境）"},"修士課程経済学研究科経済学専攻社会人選抜入試",{"$f":"COUNTIF($G$3:G79,G79)","v":3},"修士課程経済学研究科経済学専攻社会人選抜入試3"]
[null,{"$f":"'「志願先」欄  選択一覧'!B72","v":"修士課程"},{"$f":"'「志願先」欄  選択一覧'!C72","v":"経済学研究科"},{"$f":"'「志願先」欄  選択一覧'!D72","v":"経済学専攻"},{"$f":"'「志願先」欄  選択一覧'!E72","v":"社会人選抜入試"},{"$f":"'「志願先」欄  選択一覧'!F72","v":"1年（国際・地域）"},"修士課程経済学研究科経済学専攻社会人選抜入試",{"$f":"COUNTIF($G$3:G80,G80)","v":4},"修士課程経済学研究科経済学専攻社会人選抜入試4"]
[null,{"$f":"'「志願先」欄  選択一覧'!B73","v":"修士課程"},{"$f":"'「志願先」欄  選択一覧'!C73","v":"経済学研究科"},{"$f":"'「志願先」欄  選択一覧'!D73","v":"経済学専攻"},{"$f":"'「志願先」欄  選択一覧'!E73","v":"社会人選抜入試"},{"$f":"'「志願先」欄  選択一覧'!F73","v":"1年（応用ミクロ・応用マクロ・計量）"},"修士課程経済学研究科経済学専攻社会人選抜入試",{"$f":"COUNTIF($G$3:G81,G81)","v":5},"修士課程経済学研究科経済学専攻社会人選抜入試5"]
[null,{"$f":"'「志願先」欄  選択一覧'!B74","v":"修士課程"},{"$f":"'「志願先」欄  選択一覧'!C74","v":"経済学研究科"},{"$f":"'「志願先」欄  選択一覧'!D74","v":"経済学専攻"},{"$f":"'「志願先」欄  選択一覧'!E74","v":"社会人選抜入試"},{"$f":"'「志願先」欄  選択一覧'!F74","v":"1＋3年（歴史・思想・制度）"},"修士課程経済学研究科経済学専攻社会人選抜入試",{"$f":"COUNTIF($G$3:G82,G82)","v":6},"修士課程経済学研究科経済学専攻社会人選抜入試6"]
[null,{"$f":"'「志願先」欄  選択一覧'!B75","v":"修士課程"},{"$f":"'「志願先」欄  選択一覧'!C75","v":"経済学研究科"},{"$f":"'「志願先」欄  選択一覧'!D75","v":"経済学専攻"},{"$f":"'「志願先」欄  選択一覧'!E75","v":"社会人選抜入試"},{"$f":"'「志願先」欄  選択一覧'!F75","v":"1＋3年（金融・企業）"},"修士課程経済学研究科経済学専攻社会人選抜入試",{"$f":"COUNTIF($G$3:G83,G83)","v":7},"修士課程経済学研究科経済学専攻社会人選抜入試7"]
[null,{"$f":"'「志願先」欄  選択一覧'!B76","v":"修士課程"},{"$f":"'「志願先」欄  選択一覧'!C76","v":"経済学研究科"},{"$f":"'「志願先」欄  選択一覧'!D76","v":"経済学専攻"},{"$f":"'「志願先」欄  選択一覧'!E76","v":"社会人選抜入試"},{"$f":"'「志願先」欄  選択一覧'!F76","v":"1＋3年（政策・環境）"},"修士課程経済学研究科経済学専攻社会人選抜入試",{"$f":"COUNTIF($G$3:G84,G84)","v":8},"修士課程経済学研究科経済学専攻社会人選抜入試8"]
[null,{"$f":"'「志願先」欄  選択一覧'!B77","v":"修士課程"},{"$f":"'「志願先」欄  選択一覧'!C77","v":"経済学研究科"},{"$f":"'「志願先」欄  選択一覧'!D77","v":"経済学専攻"},{"$f":"'「志願先」欄  選択一覧'!E77","v":"社会人選抜入試"},{"$f":"'「志願先」欄  選択一覧'!F77","v":"1＋3年（国際・地域）"},"修士課程経済学研究科経済学専攻社会人選抜入試",{"$f":"COUNTIF($G$3:G85,G85)","v":9},"修士課程経済学研究科経済学専攻社会人選抜入試9"]
[null,{"$f":"'「志願先」欄  選択一覧'!B78","v":"修士課程"},{"$f":"'「志願先」欄  選択一覧'!C78","v":"経済学研究科"},{"$f":"'「志願先」欄  選択一覧'!D78","v":"経済学専攻"},{"$f":"'「志願先」欄  選択一覧'!E78","v":"社会人選抜入試"},{"$f":"'「志願先」欄  選択一覧'!F78","v":"1＋3年（応用ミクロ・応用マクロ・計量）"},"修士課程経済学研究科経済学専攻社会人選抜入試",{"$f":"COUNTIF($G$3:G86,G86)","v":10},"修士課程経済学研究科経済学専攻社会人選抜入試10"]
[null,{"$f":"'「志願先」欄  選択一覧'!B79","v":"修士課程"},{"$f":"'「志願先」欄  選択一覧'!C79","v":"法学研究科"},{"$f":"'「志願先」欄  選択一覧'!D79","v":"法律学専攻"},{"$f":"'「志願先」欄  選択一覧'!E79","v":"一般入試"},{"$f":"'「志願先」欄  選択一覧'!F79","v":"なし"},"修士課程法学研究科法律学専攻一般入試",{"$f":"COUNTIF($G$3:G87,G87)","v":1},"修士課程法学研究科法律学専攻一般入試1","憲法","英語（母語を除く）"]
[null,"修士課程","法学研究科","法律学専攻","一般入試","―","修士課程法学研究科法律学専攻一般入試",{"$f":"COUNTIF($G$3:G88,G88)","v":2},"修士課程法学研究科法律学専攻一般入試2","刑法","英語（母語を除く）"]
[null,"修士課程","法学研究科","法律学専攻","一般入試","―","修士課程法学研究科法律学専攻一般入試",{"$f":"COUNTIF($G$3:G89,G89)","v":3},"修士課程法学研究科法律学専攻一般入試3","経済法","英語（母語を除く）"]
[null,"修士課程","法学研究科","法律学専攻","一般入試","―","修士課程法学研究科法律学専攻一般入試",{"$f":"COUNTIF($G$3:G90,G90)","v":4},"修士課程法学研究科法律学専攻一般入試4","労働法","英語（母語を除く）"]
[null,"修士課程","法学研究科","法律学専攻","一般入試","―","修士課程法学研究科法律学専攻一般入試",{"$f":"COUNTIF($G$3:G91,G91)","v":5},"修士課程法学研究科法律学専攻一般入試5","行政法","英語（母語を除く）"]
[null,"修士課程","法学研究科","法律学専攻","一般入試","―","修士課程法学研究科法律学専攻一般入試",{"$f":"COUNTIF($G$3:G92,G92)","v":6},"修士課程法学研究科法律学専攻一般入試6","民法（家族法を除く）","英語（母語を除く）"]
[null,"修士課程","法学研究科","法律学専攻","一般入試","―","修士課程法学研究科法律学専攻一般入試",{"$f":"COUNTIF($G$3:G93,G93)","v":7},"修士課程法学研究科法律学専攻一般入試7","商法（商法総則、会社法、手形・小切手法）","英語（母語を除く）"]
[null,"修士課程","法学研究科","法律学専攻","一般入試","―","修士課程法学研究科法律学専攻一般入試",{"$f":"COUNTIF($G$3:G94,G94)","v":8},"修士課程法学研究科法律学専攻一般入試8","民事訴訟法（判決手続のみ）","英語（母語を除く）"]
[null,"修士課程","法学研究科","法律学専攻","一般入試","―","修士課程法学研究科法律学専攻一般入試",{"$f":"COUNTIF($G$3:G95,G95)","v":9},"修士課程法学研究科法律学専攻一般入試9","社会保障法","英語（母語を除く）"]
[null,"修士課程","法学研究科","法律学専攻","一般入試","―","修士課程法学研究科法律学専攻一般入試",{"$f":"COUNTIF($G$3:G96,G96)","v":10},"修士課程法学研究科法律学専攻一般入試10","法哲学","英語（母語を除く）"]
[null,"修士課程","法学研究科","法律学専攻","一般入試","―","修士課程法学研究科法律学専攻一般入試",{"$f":"COUNTIF($G$3:G97,G97)","v":11},"修士課程法学研究科法律学専攻一般入試11","日本法制史","英語（母語を除く）"]
[null,"修士課程","法学研究科","法律学専攻","一般入試","―","修士課程法学研究科法律学専攻一般入試",{"$f":"COUNTIF($G$3:G98,G98)","v":12},"修士課程法学研究科法律学専攻一般入試12","国際法","英語（母語を除く）"]
[null,"修士課程","法学研究科","法律学専攻","一般入試","―","修士課程法学研究科法律学専攻一般入試",{"$f":"COUNTIF($G$3:G99,G99)","v":13},"修士課程法学研究科法律学専攻一般入試13","西洋法制史","英語（母語を除く）"]
[null,"修士課程","法学研究科","法律学専攻","一般入試","―","修士課程法学研究科法律学専攻一般入試",{"$f":"COUNTIF($G$3:G100,G100)","v":14},"修士課程法学研究科法律学専攻一般入試14","倒産法","英語（母語を除く）"]
[null,"修士課程","法学研究科","法律学専攻","一般入試","―","修士課程法学研究科法律学専攻一般入試",{"$f":"COUNTIF($G$3:G101,G101)","v":15},"修士課程法学研究科法律学専攻一般入試15","知的財産法","英語（母語を除く）"]
[null,"修士課程","法学研究科","法律学専攻","一般入試","―","修士課程法学研究科法律学専攻一般入試",{"$f":"COUNTIF($G$3:G102,G102)","v":16},"修士課程法学研究科法律学専攻一般入試16","憲法","独語（母語を除く）"]
[null,"修士課程","法学研究科","法律学専攻","一般入試","―","修士課程法学研究科法律学専攻一般入試",{"$f":"COUNTIF($G$3:G103,G103)","v":17},"修士課程法学研究科法律学専攻一般入試17","刑法","独語（母語を除く）"]
[null,"修士課程","法学研究科","法律学専攻","一般入試","―","修士課程法学研究科法律学専攻一般入試",{"$f":"COUNTIF($G$3:G104,G104)","v":18},"修士課程法学研究科法律学専攻一般入試18","経済法","独語（母語を除く）"]
[null,"修士課程","法学研究科","法律学専攻","一般入試","―","修士課程法学研究科法律学専攻一般入試",{"$f":"COUNTIF($G$3:G105,G105)","v":19},"修士課程法学研究科法律学専攻一般入試19","労働法","独語（母語を除く）"]
[null,"修士課程","法学研究科","法律学専攻","一般入試","―","修士課程法学研究科法律学専攻一般入試",{"$f":"COUNTIF($G$3:G106,G106)","v":20},"修士課程法学研究科法律学専攻一般入試20","行政法","独語（母語を除く）"]
[null,"修士課程","法学研究科","法律学専攻","一般入試","―","修士課程法学研究科法律学専攻一般入試",{"$f":"COUNTIF($G$3:G107,G107)","v":21},"修士課程法学研究科法律学専攻一般入試21","民法（家族法を除く）","独語（母語を除く）"]
[null,"修士課程","法学研究科","法律学専攻","一般入試","―","修士課程法学研究科法律学専攻一般入試",{"$f":"COUNTIF($G$3:G108,G108)","v":22},"修士課程法学研究科法律学専攻一般入試22","商法（商法総則、会社法、手形・小切手法）","独語（母語を除く）"]
[null,"修士課程","法学研究科","法律学専攻","一般入試","―","修士課程法学研究科法律学専攻一般入試",{"$f":"COUNTIF($G$3:G109,G109)","v":23},"修士課程法学研究科法律学専攻一般入試23","民事訴訟法（判決手続のみ）","独語（母語を除く）"]
[null,"修士課程","法学研究科","法律学専攻","一般入試","―","修士課程法学研究科法律学専攻一般入試",{"$f":"COUNTIF($G$3:G110,G110)","v":24},"修士課程法学研究科法律学専攻一般入試24","社会保障法","独語（母語を除く）"]
[null,"修士課程","法学研究科","法律学専攻","一般入試","―","修士課程法学研究科法律学専攻一般入試",{"$f":"COUNTIF($G$3:G111,G111)","v":25},"修士課程法学研究科法律学専攻一般入試25","法哲学","独語（母語を除く）"]
[null,"修士課程","法学研究科","法律学専攻","一般入試","―","修士課程法学研究科法律学専攻一般入試",{"$f":"COUNTIF($G$3:G112,G112)","v":26},"修士課程法学研究科法律学専攻一般入試26","日本法制史","独語（母語を除く）"]
[null,"修士課程","法学研究科","法律学専攻","一般入試","―","修士課程法学研究科法律学専攻一般入試",{"$f":"COUNTIF($G$3:G113,G113)","v":27},"修士課程法学研究科法律学専攻一般入試27","国際法","独語（母語を除く）"]
[null,"修士課程","法学研究科","法律学専攻","一般入試","―","修士課程法学研究科法律学専攻一般入試",{"$f":"COUNTIF($G$3:G114,G114)","v":28},"修士課程法学研究科法律学専攻一般入試28","西洋法制史","独語（母語を除く）"]
[null,"修士課程","法学研究科","法律学専攻","一般入試","―","修士課程法学研究科法律学専攻一般入試",{"$f":"COUNTIF($G$3:G115,G115)","v":29},"修士課程法学研究科法律学専攻一般入試29","倒産法","独語（母語を除く）"]
[null,"修士課程","法学研究科","法律学専攻","一般入試","―","修士課程法学研究科法律学専攻一般入試",{"$f":"COUNTIF($G$3:G116,G116)","v":30},"修士課程法学研究科法律学専攻一般入試30","知的財産法","独語（母語を除く）"]
[null,"修士課程","法学研究科","法律学専攻","一般入試","―","修士課程法学研究科法律学専攻一般入試",{"$f":"COUNTIF($G$3:G117,G117)","v":31},"修士課程法学研究科法律学専攻一般入試31","憲法","仏語（母語を除く）"]
[null,"修士課程","法学研究科","法律学専攻","一般入試","―","修士課程法学研究科法律学専攻一般入試",{"$f":"COUNTIF($G$3:G118,G118)","v":32},"修士課程法学研究科法律学専攻一般入試32","刑法","仏語（母語を除く）"]
[null,"修士課程","法学研究科","法律学専攻","一般入試","―","修士課程法学研究科法律学専攻一般入試",{"$f":"COUNTIF($G$3:G119,G119)","v":33},"修士課程法学研究科法律学専攻一般入試33","経済法","仏語（母語を除く）"]
[null,"修士課程","法学研究科","法律学専攻","一般入試","―","修士課程法学研究科法律学専攻一般入試",{"$f":"COUNTIF($G$3:G120,G120)","v":34},"修士課程法学研究科法律学専攻一般入試34","労働法","仏語（母語を除く）"]
[null,"修士課程","法学研究科","法律学専攻","一般入試","―","修士課程法学研究科法律学専攻一般入試",{"$f":"COUNTIF($G$3:G121,G121)","v":35},"修士課程法学研究科法律学専攻一般入試35","行政法","仏語（母語を除く）"]
[null,"修士課程","法学研究科","法律学専攻","一般入試","―","修士課程法学研究科法律学専攻一般入試",{"$f":"COUNTIF($G$3:G122,G122)","v":36},"修士課程法学研究科法律学専攻一般入試36","民法（家族法を除く）","仏語（母語を除く）"]
[null,"修士課程","法学研究科","法律学専攻","一般入試","―","修士課程法学研究科法律学専攻一般入試",{"$f":"COUNTIF($G$3:G123,G123)","v":37},"修士課程法学研究科法律学専攻一般入試37","商法（商法総則、会社法、手形・小切手法）","仏語（母語を除く）"]
[null,"修士課程","法学研究科","法律学専攻","一般入試","―","修士課程法学研究科法律学専攻一般入試",{"$f":"COUNTIF($G$3:G124,G124)","v":38},"修士課程法学研究科法律学専攻一般入試38","民事訴訟法（判決手続のみ）","仏語（母語を除く）"]
[null,"修士課程","法学研究科","法律学専攻","一般入試","―","修士課程法学研究科法律学専攻一般入試",{"$f":"COUNTIF($G$3:G125,G125)","v":39},"修士課程法学研究科法律学専攻一般入試39","社会保障法","仏語（母語を除く）"]
[null,"修士課程","法学研究科","法律学専攻","一般入試","―","修士課程法学研究科法律学専攻一般入試",{"$f":"COUNTIF($G$3:G126,G126)","v":40},"修士課程法学研究科法律学専攻一般入試40","法哲学","仏語（母語を除く）"]
[null,"修士課程","法学研究科","法律学専攻","一般入試","―","修士課程法学研究科法律学専攻一般入試",{"$f":"COUNTIF($G$3:G127,G127)","v":41},"修士課程法学研究科法律学専攻一般入試41","日本法制史","仏語（母語を除く）"]
[null,"修士課程","法学研究科","法律学専攻","一般入試","―","修士課程法学研究科法律学専攻一般入試",{"$f":"COUNTIF($G$3:G128,G128)","v":42},"修士課程法学研究科法律学専攻一般入試42","国際法","仏語（母語を除く）"]
[null,"修士課程","法学研究科","法律学専攻","一般入試","―","修士課程法学研究科法律学専攻一般入試",{"$f":"COUNTIF($G$3:G129,G129)","v":43},"修士課程法学研究科法律学専攻一般入試43","西洋法制史","仏語（母語を除く）"]
[null,"修士課程","法学研究科","法律学専攻","一般入試","―",{"$f":"B130&C130&D130&E130","v":"修士課程法学研究科法律学専攻一般入試"},{"$f":"COUNTIF($G$3:G130,G130)","v":44},{"$f":"G130&H130","v":"修士課程法学研究科法律学専攻一般入試44"},"倒産法","仏語（母語を除く）"]
[null,"修士課程","法学研究科","法律学専攻","一般入試","―","修士課程法学研究科法律学専攻一般入試",{"$f":"COUNTIF($G$3:G131,G131)","v":45},"修士課程法学研究科法律学専攻一般入試45","知的財産法","仏語（母語を除く）"]
[null,"修士課程","法学研究科","法律学専攻","一般入試","―","修士課程法学研究科法律学専攻一般入試",{"$f":"COUNTIF($G$3:G132,G132)","v":46},"修士課程法学研究科法律学専攻一般入試46","憲法","日本語（外国国籍志願者のみ）"]
[null,"修士課程","法学研究科","法律学専攻","一般入試","―","修士課程法学研究科法律学専攻一般入試",{"$f":"COUNTIF($G$3:G133,G133)","v":47},"修士課程法学研究科法律学専攻一般入試47","刑法","日本語（外国国籍志願者のみ）"]
[null,"修士課程","法学研究科","法律学専攻","一般入試","―","修士課程法学研究科法律学専攻一般入試",{"$f":"COUNTIF($G$3:G134,G134)","v":48},"修士課程法学研究科法律学専攻一般入試48","経済法","日本語（外国国籍志願者のみ）"]
[null,"修士課程","法学研究科","法律学専攻","一般入試","―","修士課程法学研究科法律学専攻一般入試",{"$f":"COUNTIF($G$3:G135,G135)","v":49},"修士課程法学研究科法律学専攻一般入試49","労働法","日本語（外国国籍志願者のみ）"]
[null,"修士課程","法学研究科","法律学専攻","一般入試","―","修士課程法学研究科法律学専攻一般入試",{"$f":"COUNTIF($G$3:G136,G136)","v":50},"修士課程法学研究科法律学専攻一般入試50","行政法","日本語（外国国籍志願者のみ）"]
[null,"修士課程","法学研究科","法律学専攻","一般入試","―","修士課程法学研究科法律学専攻一般入試",{"$f":"COUNTIF($G$3:G137,G137)","v":51},"修士課程法学研究科法律学専攻一般入試51","民法（家族法を除く）","日本語（外国国籍志願者のみ）"]
[null,"修士課程","法学研究科","法律学専攻","一般入試","―","修士課程法学研究科法律学専攻一般入試",{"$f":"COUNTIF($G$3:G138,G138)","v":52},"修士課程法学研究科法律学専攻一般入試52","商法（商法総則、会社法、手形・小切手法）","日本語（外国国籍志願者のみ）"]
[null,"修士課程","法学研究科","法律学専攻","一般入試","―","修士課程法学研究科法律学専攻一般入試",{"$f":"COUNTIF($G$3:G139,G139)","v":53},"修士課程法学研究科法律学専攻一般入試53","民事訴訟法（判決手続のみ）","日本語（外国国籍志願者のみ）"]
[null,"修士課程","法学研究科","法律学専攻","一般入試","―","修士課程法学研究科法律学専攻一般入試",{"$f":"COUNTIF($G$3:G140,G140)","v":54},"修士課程法学研究科法律学専攻一般入試54","社会保障法","日本語（外国国籍志願者のみ）"]
[null,"修士課程","法学研究科","法律学専攻","一般入試","―","修士課程法学研究科法律学専攻一般入試",{"$f":"COUNTIF($G$3:G141,G141)","v":55},"修士課程法学研究科法律学専攻一般入試55","法哲学","日本語（外国国籍志願者のみ）"]
[null,"修士課程","法学研究科","法律学専攻","一般入試","―","修士課程法学研究科法律学専攻一般入試",{"$f":"COUNTIF($G$3:G142,G142)","v":56},"修士課程法学研究科法律学専攻一般入試56","日本法制史","日本語（外国国籍志願者のみ）"]
[null,"修士課程","法学研究科","法律学専攻","一般入試","―","修士課程法学研究科法律学専攻一般入試",{"$f":"COUNTIF($G$3:G143,G143)","v":57},"修士課程法学研究科法律学専攻一般入試57","国際法","日本語（外国国籍志願者のみ）"]
[null,"修士課程","法学研究科","法律学専攻","一般入試","―","修士課程法学研究科法律学専攻一般入試",{"$f":"COUNTIF($G$3:G144,G144)","v":58},"修士課程法学研究科法律学専攻一般入試58","西洋法制史","日本語（外国国籍志願者のみ）"]
[null,"修士課程","法学研究科","法律学専攻","一般入試","―","修士課程法学研究科法律学専攻一般入試",{"$f":"COUNTIF($G$3:G145,G145)","v":59},"修士課程法学研究科法律学専攻一般入試59","倒産法","日本語（外国国籍志願者のみ）"]
[null,"修士課程","法学研究科","法律学専攻","一般入試","―","修士課程法学研究科法律学専攻一般入試",{"$f":"COUNTIF($G$3:G146,G146)","v":60},"修士課程法学研究科法律学専攻一般入試60","知的財産法","日本語（外国国籍志願者のみ）"]
[null,{"$f":"'「志願先」欄  選択一覧'!B80","v":"修士課程"},{"$f":"'「志願先」欄  選択一覧'!C80","v":"法学研究科"},{"$f":"'「志願先」欄  選択一覧'!D80","v":"法律学専攻"},{"$f":"'「志願先」欄  選択一覧'!E80","v":"外国人入試"},{"$f":"'「志願先」欄  選択一覧'!F80","v":"なし"},"修士課程法学研究科法律学専攻外国人入試",{"$f":"COUNTIF($G$3:G147,G147)","v":1},"修士課程法学研究科法律学専攻外国人入試1","憲法","なし（研修生との併願を希望しない場合のみ）"]
[null,"修士課程","法学研究科","法律学専攻","外国人入試",null,"修士課程法学研究科法律学専攻外国人入試",{"$f":"COUNTIF($G$3:G148,G148)","v":2},"修士課程法学研究科法律学専攻外国人入試2","刑法","なし（研修生との併願を希望しない場合のみ）"]
[null,"修士課程","法学研究科","法律学専攻","外国人入試",null,"修士課程法学研究科法律学専攻外国人入試",{"$f":"COUNTIF($G$3:G149,G149)","v":3},"修士課程法学研究科法律学専攻外国人入試3","経済法","なし（研修生との併願を希望しない場合のみ）"]
[null,"修士課程","法学研究科","法律学専攻","外国人入試",null,"修士課程法学研究科法律学専攻外国人入試",{"$f":"COUNTIF($G$3:G150,G150)","v":4},"修士課程法学研究科法律学専攻外国人入試4","労働法","なし（研修生との併願を希望しない場合のみ）"]
[null,"修士課程","法学研究科","法律学専攻","外国人入試",null,"修士課程法学研究科法律学専攻外国人入試",{"$f":"COUNTIF($G$3:G151,G151)","v":5},"修士課程法学研究科法律学専攻外国人入試5","行政法","なし（研修生との併願を希望しない場合のみ）"]
[null,"修士課程","法学研究科","法律学専攻","外国人入試",null,"修士課程法学研究科法律学専攻外国人入試",{"$f":"COUNTIF($G$3:G152,G152)","v":6},"修士課程法学研究科法律学専攻外国人入試6","民法（家族法を除く）","なし（研修生との併願を希望しない場合のみ）"]
[null,"修士課程","法学研究科","法律学専攻","外国人入試",null,"修士課程法学研究科法律学専攻外国人入試",{"$f":"COUNTIF($G$3:G153,G153)","v":7},"修士課程法学研究科法律学専攻外国人入試7","商法（商法総則、会社法、手形・小切手法）","なし（研修生との併願を希望しない場合のみ）"]
[null,"修士課程","法学研究科","法律学専攻","外国人入試",null,"修士課程法学研究科法律学専攻外国人入試",{"$f":"COUNTIF($G$3:G154,G154)","v":8},"修士課程法学研究科法律学専攻外国人入試8","民事訴訟法（判決手続のみ）","なし（研修生との併願を希望しない場合のみ）"]
[null,"修士課程","法学研究科","法律学専攻","外国人入試",null,"修士課程法学研究科法律学専攻外国人入試",{"$f":"COUNTIF($G$3:G155,G155)","v":9},"修士課程法学研究科法律学専攻外国人入試9","社会保障法","なし（研修生との併願を希望しない場合のみ）"]
[null,"修士課程","法学研究科","法律学専攻","外国人入試",null,"修士課程法学研究科法律学専攻外国人入試",{"$f":"COUNTIF($G$3:G156,G156)","v":10},"修士課程法学研究科法律学専攻外国人入試10","法哲学","なし（研修生との併願を希望しない場合のみ）"]
[null,"修士課程","法学研究科","法律学専攻","外国人入試",null,"修士課程法学研究科法律学専攻外国人入試",{"$f":"COUNTIF($G$3:G157,G157)","v":11},"修士課程法学研究科法律学専攻外国人入試11","日本法制史","なし（研修生との併願を希望しない場合のみ）"]
[null,"修士課程","法学研究科","法律学専攻","外国人入試",null,"修士課程法学研究科法律学専攻外国人入試",{"$f":"COUNTIF($G$3:G158,G158)","v":12},"修士課程法学研究科法律学専攻外国人入試12","国際法","なし（研修生との併願を希望しない場合のみ）"]
[null,"修士課程","法学研究科","法律学専攻","外国人入試",null,"修士課程法学研究科法律学専攻外国人入試",{"$f":"COUNTIF($G$3:G159,G159)","v":13},"修士課程法学研究科法律学専攻外国人入試13","西洋法制史","なし（研修生との併願を希望しない場合のみ）"]
[null,"修士課程","法学研究科","法律学専攻","外国人入試",null,"修士課程法学研究科法律学専攻外国人入試",{"$f":"COUNTIF($G$3:G160,G160)","v":14},"修士課程法学研究科法律学専攻外国人入試14","倒産法","なし（研修生との併願を希望しない場合のみ）"]
[null,"修士課程","法学研究科","法律学専攻","外国人入試",null,"修士課程法学研究科法律学専攻外国人入試",{"$f":"COUNTIF($G$3:G161,G161)","v":15},"修士課程法学研究科法律学専攻外国人入試15","知的財産法","なし（研修生との併願を希望しない場合のみ）"]
[null,"修士課程","法学研究科","法律学専攻","外国人入試",null,{"$f":"B162&C162&D162&E162","v":"修士課程法学研究科法律学専攻外国人入試"},{"$f":"COUNTIF($G$3:G162,G162)","v":16},{"$f":"G162&H162","v":"修士課程法学研究科法律学専攻外国人入試16"},"憲法","日本語（研修生との併願を希望する場合のみ）"]
[null,"修士課程","法学研究科","法律学専攻","外国人入試",null,{"$f":"B163&C163&D163&E163","v":"修士課程法学研究科法律学専攻外国人入試"},{"$f":"COUNTIF($G$3:G163,G163)","v":17},{"$f":"G163&H163","v":"修士課程法学研究科法律学専攻外国人入試17"},"刑法","日本語（研修生との併願を希望する場合のみ）"]
[null,"修士課程","法学研究科","法律学専攻","外国人入試",null,"修士課程法学研究科法律学専攻外国人入試",{"$f":"COUNTIF($G$3:G164,G164)","v":18},"修士課程法学研究科法律学専攻外国人入試18","経済法","日本語（研修生との併願を希望する場合のみ）"]
[null,"修士課程","法学研究科","法律学専攻","外国人入試",null,"修士課程法学研究科法律学専攻外国人入試",{"$f":"COUNTIF($G$3:G165,G165)","v":19},"修士課程法学研究科法律学専攻外国人入試19","労働法","日本語（研修生との併願を希望する場合のみ）"]
[null,"修士課程","法学研究科","法律学専攻","外国人入試",null,"修士課程法学研究科法律学専攻外国人入試",{"$f":"COUNTIF($G$3:G166,G166)","v":20},"修士課程法学研究科法律学専攻外国人入試20","行政法","日本語（研修生との併願を希望する場合のみ）"]
[null,"修士課程","法学研究科","法律学専攻","外国人入試",null,"修士課程法学研究科法律学専攻外国人入試",{"$f":"COUNTIF($G$3:G167,G167)","v":21},"修士課程法学研究科法律学専攻外国人入試21","民法（家族法を除く）","日本語（研修生との併願を希望する場合のみ）"]
[null,"修士課程","法学研究科","法律学専攻","外国人入試",null,"修士課程法学研究科法律学専攻外国人入試",{"$f":"COUNTIF($G$3:G168,G168)","v":22},"修士課程法学研究科法律学専攻外国人入試22","商法（商法総則、会社法、手形・小切手法）","日本語（研修生との併願を希望する場合のみ）"]
[null,"修士課程","法学研究科","法律学専攻","外国人入試",null,"修士課程法学研究科法律学専攻外国人入試",{"$f":"COUNTIF($G$3:G169,G169)","v":23},"修士課程法学研究科法律学専攻外国人入試23","民事訴訟法（判決手続のみ）","日本語（研修生との併願を希望する場合のみ）"]
[null,"修士課程","法学研究科","法律学専攻","外国人入試",null,"修士課程法学研究科法律学専攻外国人入試",{"$f":"COUNTIF($G$3:G170,G170)","v":24},"修士課程法学研究科法律学専攻外国人入試24","社会保障法","日本語（研修生との併願を希望する場合のみ）"]
[null,"修士課程","法学研究科","法律学専攻","外国人入試",null,"修士課程法学研究科法律学専攻外国人入試",{"$f":"COUNTIF($G$3:G171,G171)","v":25},"修士課程法学研究科法律学専攻外国人入試25","法哲学","日本語（研修生との併願を希望する場合のみ）"]
[null,"修士課程","法学研究科","法律学専攻","外国人入試",null,"修士課程法学研究科法律学専攻外国人入試",{"$f":"COUNTIF($G$3:G172,G172)","v":26},"修士課程法学研究科法律学専攻外国人入試26","日本法制史","日本語（研修生との併願を希望する場合のみ）"]
[null,"修士課程","法学研究科","法律学専攻","外国人入試",null,"修士課程法学研究科法律学専攻外国人入試",{"$f":"COUNTIF($G$3:G173,G173)","v":27},"修士課程法学研究科法律学専攻外国人入試27","国際法","日本語（研修生との併願を希望する場合のみ）"]
[null,"修士課程","法学研究科","法律学専攻","外国人入試",null,"修士課程法学研究科法律学専攻外国人入試",{"$f":"COUNTIF($G$3:G174,G174)","v":28},"修士課程法学研究科法律学専攻外国人入試28","西洋法制史","日本語（研修生との併願を希望する場合のみ）"]
[null,"修士課程","法学研究科","法律学専攻","外国人入試",null,"修士課程法学研究科法律学専攻外国人入試",{"$f":"COUNTIF($G$3:G175,G175)","v":29},"修士課程法学研究科法律学専攻外国人入試29","倒産法","日本語（研修生との併願を希望する場合のみ）"]
[null,"修士課程","法学研究科","法律学専攻","外国人入試",null,"修士課程法学研究科法律学専攻外国人入試",{"$f":"COUNTIF($G$3:G176,G176)","v":30},"修士課程法学研究科法律学専攻外国人入試30","知的財産法","日本語（研修生との併願を希望する場合のみ）"]
[null,{"$f":"'「志願先」欄  選択一覧'!B81","v":"修士課程"},{"$f":"'「志願先」欄  選択一覧'!C81","v":"法学研究科"},{"$f":"'「志願先」欄  選択一覧'!D81","v":"法律学専攻"},{"$f":"'「志願先」欄  選択一覧'!E81","v":"社会人入試"},{"$f":"'「志願先」欄  選択一覧'!F81","v":"なし"},"修士課程法学研究科法律学専攻社会人入試",{"$f":"COUNTIF($G$3:G177,G177)","v":1},"修士課程法学研究科法律学専攻社会人入試1","専門科目免除（要書類提出）","なし"]
[null,"修士課程","法学研究科","法律学専攻","社会人入試",null,"修士課程法学研究科法律学専攻社会人入試",{"$f":"COUNTIF($G$3:G178,G178)","v":2},"修士課程法学研究科法律学専攻社会人入試2","憲法","なし"]
[null,"修士課程","法学研究科","法律学専攻","社会人入試",null,"修士課程法学研究科法律学専攻社会人入試",{"$f":"COUNTIF($G$3:G179,G179)","v":3},"修士課程法学研究科法律学専攻社会人入試3","刑法","なし"]
[null,"修士課程","法学研究科","法律学専攻","社会人入試",null,"修士課程法学研究科法律学専攻社会人入試",{"$f":"COUNTIF($G$3:G180,G180)","v":4},"修士課程法学研究科法律学専攻社会人入試4","経済法","なし"]
[null,"修士課程","法学研究科","法律学専攻","社会人入試",null,"修士課程法学研究科法律学専攻社会人入試",{"$f":"COUNTIF($G$3:G181,G181)","v":5},"修士課程法学研究科法律学専攻社会人入試5","労働法","なし"]
[null,"修士課程","法学研究科","法律学専攻","社会人入試",null,"修士課程法学研究科法律学専攻社会人入試",{"$f":"COUNTIF($G$3:G182,G182)","v":6},"修士課程法学研究科法律学専攻社会人入試6","行政法","なし"]
[null,"修士課程","法学研究科","法律学専攻","社会人入試",null,"修士課程法学研究科法律学専攻社会人入試",{"$f":"COUNTIF($G$3:G183,G183)","v":7},"修士課程法学研究科法律学専攻社会人入試7","民法（家族法を除く）","なし"]
[null,"修士課程","法学研究科","法律学専攻","社会人入試",null,"修士課程法学研究科法律学専攻社会人入試",{"$f":"COUNTIF($G$3:G184,G184)","v":8},"修士課程法学研究科法律学専攻社会人入試8","商法（商法総則、会社法、手形・小切手法）","なし"]
[null,"修士課程","法学研究科","法律学専攻","社会人入試",null,"修士課程法学研究科法律学専攻社会人入試",{"$f":"COUNTIF($G$3:G185,G185)","v":9},"修士課程法学研究科法律学専攻社会人入試9","民事訴訟法（判決手続のみ）","なし"]
[null,"修士課程","法学研究科","法律学専攻","社会人入試",null,"修士課程法学研究科法律学専攻社会人入試",{"$f":"COUNTIF($G$3:G186,G186)","v":10},"修士課程法学研究科法律学専攻社会人入試10","社会保障法","なし"]
[null,"修士課程","法学研究科","法律学専攻","社会人入試",null,"修士課程法学研究科法律学専攻社会人入試",{"$f":"COUNTIF($G$3:G187,G187)","v":11},"修士課程法学研究科法律学専攻社会人入試11","法哲学","なし"]
[null,"修士課程","法学研究科","法律学専攻","社会人入試",null,"修士課程法学研究科法律学専攻社会人入試",{"$f":"COUNTIF($G$3:G188,G188)","v":12},"修士課程法学研究科法律学専攻社会人入試12","日本法制史","なし"]
[null,"修士課程","法学研究科","法律学専攻","社会人入試",null,"修士課程法学研究科法律学専攻社会人入試",{"$f":"COUNTIF($G$3:G189,G189)","v":13},"修士課程法学研究科法律学専攻社会人入試13","国際法","なし"]
[null,"修士課程","法学研究科","法律学専攻","社会人入試",null,"修士課程法学研究科法律学専攻社会人入試",{"$f":"COUNTIF($G$3:G190,G190)","v":14},"修士課程法学研究科法律学専攻社会人入試14","西洋法制史","なし"]
[null,"修士課程","法学研究科","法律学専攻","社会人入試",null,"修士課程法学研究科法律学専攻社会人入試",{"$f":"COUNTIF($G$3:G191,G191)","v":15},"修士課程法学研究科法律学専攻社会人入試15","倒産法","なし"]
[null,"修士課程","法学研究科","法律学専攻","社会人入試",null,{"$f":"B192&C192&D192&E192","v":"修士課程法学研究科法律学専攻社会人入試"},{"$f":"COUNTIF($G$3:G192,G192)","v":16},{"$f":"G192&H192","v":"修士課程法学研究科法律学専攻社会人入試16"},"知的財産法","なし"]
[null,{"$f":"'「志願先」欄  選択一覧'!B82","v":"修士課程"},{"$f":"'「志願先」欄  選択一覧'!C82","v":"政治学研究科"},{"$f":"'「志願先」欄  選択一覧'!D82","v":"政治学専攻"},{"$f":"'「志願先」欄  選択一覧'!E82","v":"一般入試"},{"$f":"'「志願先」欄  選択一覧'!F82","v":"なし"},"修士課程政治学研究科政治学専攻一般入試",{"$f":"COUNTIF($G$3:G193,G193)","v":1},"修士課程政治学研究科政治学専攻一般入試1","専門科目","英語"]
[null,{"$f":"'「志願先」欄  選択一覧'!B83","v":"修士課程"},{"$f":"'「志願先」欄  選択一覧'!C83","v":"政治学研究科"},{"$f":"'「志願先」欄  選択一覧'!D83","v":"政治学専攻"},{"$f":"'「志願先」欄  選択一覧'!E83","v":"外国人入試"},{"$f":"'「志願先」欄  選択一覧'!F83","v":"なし"},"修士課程政治学研究科政治学専攻外国人入試",{"$f":"COUNTIF($G$3:G194,G194)","v":1},"修士課程政治学研究科政治学専攻外国人入試1","専門科目","日本語"]
[null,{"$f":"'「志願先」欄  選択一覧'!B84","v":"修士課程"},{"$f":"'「志願先」欄  選択一覧'!C84","v":"政治学研究科"},{"$f":"'「志願先」欄  選択一覧'!D84","v":"国際政治学専攻"},{"$f":"'「志願先」欄  選択一覧'!E84","v":"一般入試"},{"$f":"'「志願先」欄  選択一覧'!F84","v":"なし"},"修士課程政治学研究科国際政治学専攻一般入試",{"$f":"COUNTIF($G$3:G195,G195)","v":1},"修士課程政治学研究科国際政治学専攻一般入試1","筆記試験なし","筆記試験なし"]
[null,{"$f":"'「志願先」欄  選択一覧'!B85","v":"修士課程"},{"$f":"'「志願先」欄  選択一覧'!C85","v":"政治学研究科"},{"$f":"'「志願先」欄  選択一覧'!D85","v":"国際政治学専攻"},{"$f":"'「志願先」欄  選択一覧'!E85","v":"外国人入試"},{"$f":"'「志願先」欄  選択一覧'!F85","v":"なし"},"修士課程政治学研究科国際政治学専攻外国人入試",{"$f":"COUNTIF($G$3:G196,G196)","v":1},"修士課程政治学研究科国際政治学専攻外国人入試1","筆記試験なし","筆記試験なし"]
[null,{"$f":"'「志願先」欄  選択一覧'!B86","v":"修士課程"},{"$f":"'「志願先」欄  選択一覧'!C86","v":"政治学研究科"},{"$f":"'「志願先」欄  選択一覧'!D86","v":"国際政治学専攻"},{"$f":"'「志願先」欄  選択一覧'!E86","v":"社会人入試"},{"$f":"'「志願先」欄  選択一覧'!F86","v":"なし"},"修士課程政治学研究科国際政治学専攻社会人入試",{"$f":"COUNTIF($G$3:G197,G197)","v":1},"修士課程政治学研究科国際政治学専攻社会人入試1","筆記試験なし","筆記試験なし"]
[null,{"$f":"'「志願先」欄  選択一覧'!B87","v":"修士課程"},{"$f":"'「志願先」欄  選択一覧'!C87","v":"社会学研究科"},{"$f":"'「志願先」欄  選択一覧'!D87","v":"社会学専攻"},{"$f":"'「志願先」欄  選択一覧'!E87","v":"一般入試"},{"$f":"'「志願先」欄  選択一覧'!F87","v":"社会学コース"},"修士課程社会学研究科社会学専攻一般入試",{"$f":"COUNTIF($G$3:G198,G198)","v":1},"修士課程社会学研究科社会学専攻一般入試1","社会学【社会学コース志願者のみ】","英語"]
[null,{"$f":"'「志願先」欄  選択一覧'!B88","v":"修士課程"},{"$f":"'「志願先」欄  選択一覧'!C88","v":"社会学研究科"},{"$f":"'「志願先」欄  選択一覧'!D88","v":"社会学専攻"},{"$f":"'「志願先」欄  選択一覧'!E88","v":"一般入試"},{"$f":"'「志願先」欄  選択一覧'!F88","v":"メディアコース"},"修士課程社会学研究科社会学専攻一般入試",{"$f":"COUNTIF($G$3:G199,G199)","v":2},"修士課程社会学研究科社会学専攻一般入試2","メディア論【メディアコース志願者のみ】","英語"]
[null,{"$f":"'「志願先」欄  選択一覧'!B89","v":"修士課程"},{"$f":"'「志願先」欄  選択一覧'!C89","v":"社会学研究科"},{"$f":"'「志願先」欄  選択一覧'!D89","v":"社会学専攻"},{"$f":"'「志願先」欄  選択一覧'!E89","v":"外国人入試"},{"$f":"'「志願先」欄  選択一覧'!F89","v":"社会学コース"},"修士課程社会学研究科社会学専攻外国人入試",{"$f":"COUNTIF($G$3:G200,G200)","v":1},"修士課程社会学研究科社会学専攻外国人入試1","社会学【社会学コース志願者のみ】","なし"]
[null,{"$f":"'「志願先」欄  選択一覧'!B90","v":"修士課程"},{"$f":"'「志願先」欄  選択一覧'!C90","v":"社会学研究科"},{"$f":"'「志願先」欄  選択一覧'!D90","v":"社会学専攻"},{"$f":"'「志願先」欄  選択一覧'!E90","v":"外国人入試"},{"$f":"'「志願先」欄  選択一覧'!F90","v":"メディアコース"},"修士課程社会学研究科社会学専攻外国人入試",{"$f":"COUNTIF($G$3:G201,G201)","v":2},"修士課程社会学研究科社会学専攻外国人入試2","メディア論【メディアコース志願者のみ】","なし"]
[null,{"$f":"'「志願先」欄  選択一覧'!B91","v":"修士課程"},{"$f":"'「志願先」欄  選択一覧'!C91","v":"社会学研究科"},{"$f":"'「志願先」欄  選択一覧'!D91","v":"社会学専攻"},{"$f":"'「志願先」欄  選択一覧'!E91","v":"社会人入試"},{"$f":"'「志願先」欄  選択一覧'!F91","v":"社会学コース"},"修士課程社会学研究科社会学専攻社会人入試",{"$f":"COUNTIF($G$3:G202,G202)","v":1},"修士課程社会学研究科社会学専攻社会人入試1","英語【社会学コース志願者のみ】","なし"]
[null,{"$f":"'「志願先」欄  選択一覧'!B92","v":"修士課程"},{"$f":"'「志願先」欄  選択一覧'!C92","v":"社会学研究科"},{"$f":"'「志願先」欄  選択一覧'!D92","v":"社会学専攻"},{"$f":"'「志願先」欄  選択一覧'!E92","v":"社会人入試"},{"$f":"'「志願先」欄  選択一覧'!F92","v":"メディアコース"},"修士課程社会学研究科社会学専攻社会人入試",{"$f":"COUNTIF($G$3:G203,G203)","v":2},"修士課程社会学研究科社会学専攻社会人入試2","メディア論【メディアコース志願者のみ】","なし"]
[null,{"$f":"'「志願先」欄  選択一覧'!B93","v":"修士課程"},{"$f":"'「志願先」欄  選択一覧'!C93","v":"経営学研究科"},{"$f":"'「志願先」欄  選択一覧'!D93","v":"経営学専攻"},{"$f":"'「志願先」欄  選択一覧'!E93","v":"一般入試"},{"$f":"'「志願先」欄  選択一覧'!F93","v":"戦略・企業家"},"修士課程経営学研究科経営学専攻一般入試",{"$f":"COUNTIF($G$3:G204,G204)","v":1},"修士課程経営学研究科経営学専攻一般入試1","専門科目","英語"]
[null,{"$f":"'「志願先」欄  選択一覧'!B94","v":"修士課程"},{"$f":"'「志願先」欄  選択一覧'!C94","v":"経営学研究科"},{"$f":"'「志願先」欄  選択一覧'!D94","v":"経営学専攻"},{"$f":"'「志願先」欄  選択一覧'!E94","v":"一般入試"},{"$f":"'「志願先」欄  選択一覧'!F94","v":"マーケティング"},"修士課程経営学研究科経営学専攻一般入試",{"$f":"COUNTIF($G$3:G205,G205)","v":2},"修士課程経営学研究科経営学専攻一般入試2"]
[null,{"$f":"'「志願先」欄  選択一覧'!B95","v":"修士課程"},{"$f":"'「志願先」欄  選択一覧'!C95","v":"経営学研究科"},{"$f":"'「志願先」欄  選択一覧'!D95","v":"経営学専攻"},{"$f":"'「志願先」欄  選択一覧'!E95","v":"一般入試"},{"$f":"'「志願先」欄  選択一覧'!F95","v":"国際経営"},"修士課程経営学研究科経営学専攻一般入試",{"$f":"COUNTIF($G$3:G206,G206)","v":3},{"$f":"G206&H206","v":"修士課程経営学研究科経営学専攻一般入試3"}]
[null,{"$f":"'「志願先」欄  選択一覧'!B96","v":"修士課程"},{"$f":"'「志願先」欄  選択一覧'!C96","v":"経営学研究科"},{"$f":"'「志願先」欄  選択一覧'!D96","v":"経営学専攻"},{"$f":"'「志願先」欄  選択一覧'!E96","v":"一般入試"},{"$f":"'「志願先」欄  選択一覧'!F96","v":"経営史"},"修士課程経営学研究科経営学専攻一般入試",{"$f":"COUNTIF($G$3:G207,G207)","v":4},"修士課程経営学研究科経営学専攻一般入試4"]
[null,{"$f":"'「志願先」欄  選択一覧'!B97","v":"修士課程"},{"$f":"'「志願先」欄  選択一覧'!C97","v":"経営学研究科"},{"$f":"'「志願先」欄  選択一覧'!D97","v":"経営学専攻"},{"$f":"'「志願先」欄  選択一覧'!E97","v":"一般入試"},{"$f":"'「志願先」欄  選択一覧'!F97","v":"会計"},"修士課程経営学研究科経営学専攻一般入試",{"$f":"COUNTIF($G$3:G208,G208)","v":5},"修士課程経営学研究科経営学専攻一般入試5"]
[null,{"$f":"'「志願先」欄  選択一覧'!B98","v":"修士課程"},{"$f":"'「志願先」欄  選択一覧'!C98","v":"経営学研究科"},{"$f":"'「志願先」欄  選択一覧'!D98","v":"経営学専攻"},{"$f":"'「志願先」欄  選択一覧'!E98","v":"一般入試"},{"$f":"'「志願先」欄  選択一覧'!F98","v":"経済"},"修士課程経営学研究科経営学専攻一般入試",{"$f":"COUNTIF($G$3:G209,G209)","v":6},"修士課程経営学研究科経営学専攻一般入試6"]
[null,{"$f":"'「志願先」欄  選択一覧'!B99","v":"修士課程"},{"$f":"'「志願先」欄  選択一覧'!C99","v":"経営学研究科"},{"$f":"'「志願先」欄  選択一覧'!D99","v":"経営学専攻"},{"$f":"'「志願先」欄  選択一覧'!E99","v":"一般入試"},{"$f":"'「志願先」欄  選択一覧'!F99","v":"組織・人事"},"修士課程経営学研究科経営学専攻一般入試",{"$f":"COUNTIF($G$3:G210,G210)","v":7},"修士課程経営学研究科経営学専攻一般入試7"]
[null,{"$f":"'「志願先」欄  選択一覧'!B100","v":"修士課程"},{"$f":"'「志願先」欄  選択一覧'!C100","v":"経営学研究科"},{"$f":"'「志願先」欄  選択一覧'!D100","v":"経営学専攻"},{"$f":"'「志願先」欄  選択一覧'!E100","v":"一般入試"},{"$f":"'「志願先」欄  選択一覧'!F100","v":"ファイナンス"},"修士課程経営学研究科経営学専攻一般入試",{"$f":"COUNTIF($G$3:G211,G211)","v":8},"修士課程経営学研究科経営学専攻一般入試8"]
[null,{"$f":"'「志願先」欄  選択一覧'!B101","v":"修士課程"},{"$f":"'「志願先」欄  選択一覧'!C101","v":"経営学研究科"},{"$f":"'「志願先」欄  選択一覧'!D101","v":"経営学専攻"},{"$f":"'「志願先」欄  選択一覧'!E101","v":"一般入試"},{"$f":"'「志願先」欄  選択一覧'!F101","v":"AI・データサイエンス"},"修士課程経営学研究科経営学専攻一般入試",{"$f":"COUNTIF($G$3:G212,G212)","v":9},"修士課程経営学研究科経営学専攻一般入試9"]
[null,{"$f":"'「志願先」欄  選択一覧'!B102","v":"修士課程"},{"$f":"'「志願先」欄  選択一覧'!C102","v":"経営学研究科"},{"$f":"'「志願先」欄  選択一覧'!D102","v":"経営学専攻"},{"$f":"'「志願先」欄  選択一覧'!E102","v":"社会人入試"},{"$f":"'「志願先」欄  選択一覧'!F102","v":"企業家養成コース"},"修士課程経営学研究科経営学専攻社会人入試",{"$f":"COUNTIF($G$3:G213,G213)","v":1},"修士課程経営学研究科経営学専攻社会人入試1","筆記試験なし","筆記試験なし"]
[null,{"$f":"'「志願先」欄  選択一覧'!B103","v":"修士課程"},{"$f":"'「志願先」欄  選択一覧'!C103","v":"経営学研究科"},{"$f":"'「志願先」欄  選択一覧'!D103","v":"経営学専攻"},{"$f":"'「志願先」欄  選択一覧'!E103","v":"社会人入試"},{"$f":"'「志願先」欄  選択一覧'!F103","v":"人材・組織マネジメントコース"},"修士課程経営学研究科経営学専攻社会人入試",{"$f":"COUNTIF($G$3:G214,G214)","v":2},"修士課程経営学研究科経営学専攻社会人入試2"]
[null,{"$f":"'「志願先」欄  選択一覧'!B104","v":"修士課程"},{"$f":"'「志願先」欄  選択一覧'!C104","v":"経営学研究科"},{"$f":"'「志願先」欄  選択一覧'!D104","v":"経営学専攻"},{"$f":"'「志願先」欄  選択一覧'!E104","v":"社会人入試"},{"$f":"'「志願先」欄  選択一覧'!F104","v":"マーケティングコース"},"修士課程経営学研究科経営学専攻社会人入試",{"$f":"COUNTIF($G$3:G215,G215)","v":3},"修士課程経営学研究科経営学専攻社会人入試3"]
[null,{"$f":"'「志願先」欄  選択一覧'!B105","v":"修士課程"},{"$f":"'「志願先」欄  選択一覧'!C105","v":"経営学研究科"},{"$f":"'「志願先」欄  選択一覧'!D105","v":"経営学専攻"},{"$f":"'「志願先」欄  選択一覧'!E105","v":"社会人入試"},{"$f":"'「志願先」欄  選択一覧'!F105","v":"アカウンティング・ファイナンスコース"},"修士課程経営学研究科経営学専攻社会人入試",{"$f":"COUNTIF($G$3:G216,G216)","v":4},"修士課程経営学研究科経営学専攻社会人入試4"]
[null,{"$f":"'「志願先」欄  選択一覧'!B106","v":"修士課程"},{"$f":"'「志願先」欄  選択一覧'!C106","v":"キャリアデザイン学研究科"},{"$f":"'「志願先」欄  選択一覧'!D106","v":"キャリアデザイン学専攻"},{"$f":"'「志願先」欄  選択一覧'!E106","v":"一般入試"},{"$f":"'「志願先」欄  選択一覧'!F106","v":"キャリア教育・発達プログラム"},"修士課程キャリアデザイン学研究科キャリアデザイン学専攻一般入試",{"$f":"COUNTIF($G$3:G217,G217)","v":1},"修士課程キャリアデザイン学研究科キャリアデザイン学専攻一般入試1","論述問題","なし"]
[null,{"$f":"'「志願先」欄  選択一覧'!B107","v":"修士課程"},{"$f":"'「志願先」欄  選択一覧'!C107","v":"キャリアデザイン学研究科"},{"$f":"'「志願先」欄  選択一覧'!D107","v":"キャリアデザイン学専攻"},{"$f":"'「志願先」欄  選択一覧'!E107","v":"一般入試"},{"$f":"'「志願先」欄  選択一覧'!F107","v":"ビジネスキャリアプログラム"},"修士課程キャリアデザイン学研究科キャリアデザイン学専攻一般入試",{"$f":"COUNTIF($G$3:G218,G218)","v":2},"修士課程キャリアデザイン学研究科キャリアデザイン学専攻一般入試2"]
[null,{"$f":"'「志願先」欄  選択一覧'!B108","v":"修士課程"},{"$f":"'「志願先」欄  選択一覧'!C108","v":"公共政策研究科"},{"$f":"'「志願先」欄  選択一覧'!D108","v":"公共政策学専攻"},{"$f":"'「志願先」欄  選択一覧'!E108","v":"一般入試"},{"$f":"'「志願先」欄  選択一覧'!F108","v":"公共マネジメントコース"},"修士課程公共政策研究科公共政策学専攻一般入試",{"$f":"COUNTIF($G$3:G219,G219)","v":1},"修士課程公共政策研究科公共政策学専攻一般入試1","筆記試験なし","筆記試験なし"]
[null,{"$f":"'「志願先」欄  選択一覧'!B109","v":"修士課程"},{"$f":"'「志願先」欄  選択一覧'!C109","v":"公共政策研究科"},{"$f":"'「志願先」欄  選択一覧'!D109","v":"公共政策学専攻"},{"$f":"'「志願先」欄  選択一覧'!E109","v":"一般入試"},{"$f":"'「志願先」欄  選択一覧'!F109","v":"政策研究コース"},"修士課程公共政策研究科公共政策学専攻一般入試",{"$f":"COUNTIF($G$3:G220,G220)","v":2},"修士課程公共政策研究科公共政策学専攻一般入試2","筆記試験なし","筆記試験なし"]
[null,{"$f":"'「志願先」欄  選択一覧'!B110","v":"修士課程"},{"$f":"'「志願先」欄  選択一覧'!C110","v":"公共政策研究科"},{"$f":"'「志願先」欄  選択一覧'!D110","v":"サステイナビリティ学専攻"},{"$f":"'「志願先」欄  選択一覧'!E110","v":"一般入試"},{"$f":"'「志願先」欄  選択一覧'!F110","v":"なし"},"修士課程公共政策研究科サステイナビリティ学専攻一般入試",{"$f":"COUNTIF($G$3:G221,G221)","v":1},"修士課程公共政策研究科サステイナビリティ学専攻一般入試1","筆記試験なし","筆記試験なし"]
[null,{"$f":"'「志願先」欄  選択一覧'!B111","v":"修士課程"},{"$f":"'「志願先」欄  選択一覧'!C111","v":"公共政策研究科"},{"$f":"'「志願先」欄  選択一覧'!D111","v":"公共政策学専攻"},{"$f":"'「志願先」欄  選択一覧'!E111","v":"社会人入試"},{"$f":"'「志願先」欄  選択一覧'!F111","v":"公共マネジメントコース"},"修士課程公共政策研究科公共政策学専攻社会人入試",{"$f":"COUNTIF($G$3:G222,G222)","v":1},"修士課程公共政策研究科公共政策学専攻社会人入試1","筆記試験なし","筆記試験なし"]
[null,{"$f":"'「志願先」欄  選択一覧'!B112","v":"修士課程"},{"$f":"'「志願先」欄  選択一覧'!C112","v":"公共政策研究科"},{"$f":"'「志願先」欄  選択一覧'!D112","v":"公共政策学専攻"},{"$f":"'「志願先」欄  選択一覧'!E112","v":"社会人入試"},{"$f":"'「志願先」欄  選択一覧'!F112","v":"政策研究コース"},"修士課程公共政策研究科公共政策学専攻社会人入試",{"$f":"COUNTIF($G$3:G223,G223)","v":2},"修士課程公共政策研究科公共政策学専攻社会人入試2","筆記試験なし","筆記試験なし"]
[null,{"$f":"'「志願先」欄  選択一覧'!B113","v":"修士課程"},{"$f":"'「志願先」欄  選択一覧'!C113","v":"公共政策研究科"},{"$f":"'「志願先」欄  選択一覧'!D113","v":"サステイナビリティ学専攻"},{"$f":"'「志願先」欄  選択一覧'!E113","v":"社会人入試"},{"$f":"'「志願先」欄  選択一覧'!F113","v":"なし"},"修士課程公共政策研究科サステイナビリティ学専攻社会人入試",{"$f":"COUNTIF($G$3:G224,G224)","v":1},"修士課程公共政策研究科サステイナビリティ学専攻社会人入試1","筆記試験なし","筆記試験なし"]
[null,{"$f":"'「志願先」欄  選択一覧'!B114","v":"修士課程"},{"$f":"'「志願先」欄  選択一覧'!C114","v":"連帯社会インスティテュート"},{"$f":"'「志願先」欄  選択一覧'!D114","v":"所属専攻：政治学専攻"},{"$f":"'「志願先」欄  選択一覧'!E114","v":"一般入試"},{"$f":"'「志願先」欄  選択一覧'!F114","v":"労働組合プログラム"},"修士課程連帯社会インスティテュート所属専攻：政治学専攻一般入試",{"$f":"COUNTIF($G$3:G225,G225)","v":1},"修士課程連帯社会インスティテュート所属専攻：政治学専攻一般入試1","筆記試験なし","筆記試験なし"]
[null,{"$f":"'「志願先」欄  選択一覧'!B115","v":"修士課程"},{"$f":"'「志願先」欄  選択一覧'!C115","v":"連帯社会インスティテュート"},{"$f":"'「志願先」欄  選択一覧'!D115","v":"所属専攻：公共政策学専攻"},{"$f":"'「志願先」欄  選択一覧'!E115","v":"一般入試"},{"$f":"'「志願先」欄  選択一覧'!F115","v":"労働組合プログラム"},"修士課程連帯社会インスティテュート所属専攻：公共政策学専攻一般入試",{"$f":"COUNTIF($G$3:G226,G226)","v":1},"修士課程連帯社会インスティテュート所属専攻：公共政策学専攻一般入試1","筆記試験なし","筆記試験なし"]
[null,{"$f":"'「志願先」欄  選択一覧'!B116","v":"修士課程"},{"$f":"'「志願先」欄  選択一覧'!C116","v":"連帯社会インスティテュート"},{"$f":"'「志願先」欄  選択一覧'!D116","v":"所属専攻：政治学専攻"},{"$f":"'「志願先」欄  選択一覧'!E116","v":"一般入試"},{"$f":"'「志願先」欄  選択一覧'!F116","v":"協同組合プログラム"},"修士課程連帯社会インスティテュート所属専攻：政治学専攻一般入試",{"$f":"COUNTIF($G$3:G227,G227)","v":2},"修士課程連帯社会インスティテュート所属専攻：政治学専攻一般入試2","筆記試験なし","筆記試験なし"]
[null,{"$f":"'「志願先」欄  選択一覧'!B117","v":"修士課程"},{"$f":"'「志願先」欄  選択一覧'!C117","v":"連帯社会インスティテュート"},{"$f":"'「志願先」欄  選択一覧'!D117","v":"所属専攻：公共政策学専攻"},{"$f":"'「志願先」欄  選択一覧'!E117","v":"一般入試"},{"$f":"'「志願先」欄  選択一覧'!F117","v":"協同組合プログラム"},"修士課程連帯社会インスティテュート所属専攻：公共政策学専攻一般入試",{"$f":"COUNTIF($G$3:G228,G228)","v":2},"修士課程連帯社会インスティテュート所属専攻：公共政策学専攻一般入試2","筆記試験なし","筆記試験なし"]
[null,{"$f":"'「志願先」欄  選択一覧'!B118","v":"修士課程"},{"$f":"'「志願先」欄  選択一覧'!C118","v":"連帯社会インスティテュート"},{"$f":"'「志願先」欄  選択一覧'!D118","v":"所属専攻：政治学専攻"},{"$f":"'「志願先」欄  選択一覧'!E118","v":"一般入試"},{"$f":"'「志願先」欄  選択一覧'!F118","v":"NPOプログラム"},"修士課程連帯社会インスティテュート所属専攻：政治学専攻一般入試",{"$f":"COUNTIF($G$3:G229,G229)","v":3},"修士課程連帯社会インスティテュート所属専攻：政治学専攻一般入試3","筆記試験なし","筆記試験なし"]
[null,{"$f":"'「志願先」欄  選択一覧'!B119","v":"修士課程"},{"$f":"'「志願先」欄  選択一覧'!C119","v":"連帯社会インスティテュート"},{"$f":"'「志願先」欄  選択一覧'!D119","v":"所属専攻：公共政策学専攻"},{"$f":"'「志願先」欄  選択一覧'!E119","v":"一般入試"},{"$f":"'「志願先」欄  選択一覧'!F119","v":"NPOプログラム"},"修士課程連帯社会インスティテュート所属専攻：公共政策学専攻一般入試",{"$f":"COUNTIF($G$3:G230,G230)","v":3},"修士課程連帯社会インスティテュート所属専攻：公共政策学専攻一般入試3","筆記試験なし","筆記試験なし"]
[null,{"$f":"'「志願先」欄  選択一覧'!B120","v":"修士課程"},{"$f":"'「志願先」欄  選択一覧'!C120","v":"連帯社会インスティテュート"},{"$f":"'「志願先」欄  選択一覧'!D120","v":"所属専攻：政治学専攻"},{"$f":"'「志願先」欄  選択一覧'!E120","v":"社会人入試"},{"$f":"'「志願先」欄  選択一覧'!F120","v":"労働組合プログラム"},"修士課程連帯社会インスティテュート所属専攻：政治学専攻社会人入試",{"$f":"COUNTIF($G$3:G231,G231)","v":1},"修士課程連帯社会インスティテュート所属専攻：政治学専攻社会人入試1","筆記試験なし","筆記試験なし"]
[null,{"$f":"'「志願先」欄  選択一覧'!B121","v":"修士課程"},{"$f":"'「志願先」欄  選択一覧'!C121","v":"連帯社会インスティテュート"},{"$f":"'「志願先」欄  選択一覧'!D121","v":"所属専攻：公共政策学専攻"},{"$f":"'「志願先」欄  選択一覧'!E121","v":"社会人入試"},{"$f":"'「志願先」欄  選択一覧'!F121","v":"労働組合プログラム"},"修士課程連帯社会インスティテュート所属専攻：公共政策学専攻社会人入試",{"$f":"COUNTIF($G$3:G232,G232)","v":1},"修士課程連帯社会インスティテュート所属専攻：公共政策学専攻社会人入試1","筆記試験なし","筆記試験なし"]
[null,{"$f":"'「志願先」欄  選択一覧'!B122","v":"修士課程"},{"$f":"'「志願先」欄  選択一覧'!C122","v":"連帯社会インスティテュート"},{"$f":"'「志願先」欄  選択一覧'!D122","v":"所属専攻：政治学専攻"},{"$f":"'「志願先」欄  選択一覧'!E122","v":"社会人入試"},{"$f":"'「志願先」欄  選択一覧'!F122","v":"協同組合プログラム"},"修士課程連帯社会インスティテュート所属専攻：政治学専攻社会人入試",{"$f":"COUNTIF($G$3:G233,G233)","v":2},"修士課程連帯社会インスティテュート所属専攻：政治学専攻社会人入試2","筆記試験なし","筆記試験なし"]
[null,{"$f":"'「志願先」欄  選択一覧'!B123","v":"修士課程"},{"$f":"'「志願先」欄  選択一覧'!C123","v":"連帯社会インスティテュート"},{"$f":"'「志願先」欄  選択一覧'!D123","v":"所属専攻：公共政策学専攻"},{"$f":"'「志願先」欄  選択一覧'!E123","v":"社会人入試"},{"$f":"'「志願先」欄  選択一覧'!F123","v":"協同組合プログラム"},"修士課程連帯社会インスティテュート所属専攻：公共政策学専攻社会人入試",{"$f":"COUNTIF($G$3:G234,G234)","v":2},"修士課程連帯社会インスティテュート所属専攻：公共政策学専攻社会人入試2","筆記試験なし","筆記試験なし"]
[null,{"$f":"'「志願先」欄  選択一覧'!B124","v":"修士課程"},{"$f":"'「志願先」欄  選択一覧'!C124","v":"連帯社会インスティテュート"},{"$f":"'「志願先」欄  選択一覧'!D124","v":"所属専攻：政治学専攻"},{"$f":"'「志願先」欄  選択一覧'!E124","v":"社会人入試"},{"$f":"'「志願先」欄  選択一覧'!F124","v":"NPOプログラム"},{"$f":"B235&C235&D235&E235","v":"修士課程連帯社会インスティテュート所属専攻：政治学専攻社会人入試"},{"$f":"COUNTIF($G$3:G235,G235)","v":3},"修士課程連帯社会インスティテュート所属専攻：政治学専攻社会人入試3","筆記試験なし","筆記試験なし"]
[null,{"$f":"'「志願先」欄  選択一覧'!B125","v":"修士課程"},{"$f":"'「志願先」欄  選択一覧'!C125","v":"連帯社会インスティテュート"},{"$f":"'「志願先」欄  選択一覧'!D125","v":"所属専攻：公共政策学専攻"},{"$f":"'「志願先」欄  選択一覧'!E125","v":"社会人入試"},{"$f":"'「志願先」欄  選択一覧'!F125","v":"NPOプログラム"},"修士課程連帯社会インスティテュート所属専攻：公共政策学専攻社会人入試",{"$f":"COUNTIF($G$3:G236,G236)","v":3},"修士課程連帯社会インスティテュート所属専攻：公共政策学専攻社会人入試3","筆記試験なし","筆記試験なし"]
[null,{"$f":"'「志願先」欄  選択一覧'!B126","v":"修士課程"},{"$f":"'「志願先」欄  選択一覧'!C126","v":"連帯社会インスティテュート"},{"$f":"'「志願先」欄  選択一覧'!D126","v":"所属専攻：政治学専攻"},{"$f":"'「志願先」欄  選択一覧'!E126","v":"指定団体推薦社会人入試"},{"$f":"'「志願先」欄  選択一覧'!F126","v":"労働組合プログラム"},"修士課程連帯社会インスティテュート所属専攻：政治学専攻指定団体推薦社会人入試",{"$f":"COUNTIF($G$3:G237,G237)","v":1},"修士課程連帯社会インスティテュート所属専攻：政治学専攻指定団体推薦社会人入試1","筆記試験なし","筆記試験なし"]
[null,{"$f":"'「志願先」欄  選択一覧'!B127","v":"修士課程"},{"$f":"'「志願先」欄  選択一覧'!C127","v":"連帯社会インスティテュート"},{"$f":"'「志願先」欄  選択一覧'!D127","v":"所属専攻：公共政策学専攻"},{"$f":"'「志願先」欄  選択一覧'!E127","v":"指定団体推薦社会人入試"},{"$f":"'「志願先」欄  選択一覧'!F127","v":"労働組合プログラム"},"修士課程連帯社会インスティテュート所属専攻：公共政策学専攻指定団体推薦社会人入試",{"$f":"COUNTIF($G$3:G238,G238)","v":1},"修士課程連帯社会インスティテュート所属専攻：公共政策学専攻指定団体推薦社会人入試1","筆記試験なし","筆記試験なし"]
[null,{"$f":"'「志願先」欄  選択一覧'!B128","v":"修士課程"},{"$f":"'「志願先」欄  選択一覧'!C128","v":"連帯社会インスティテュート"},{"$f":"'「志願先」欄  選択一覧'!D128","v":"所属専攻：政治学専攻"},{"$f":"'「志願先」欄  選択一覧'!E128","v":"指定団体推薦社会人入試"},{"$f":"'「志願先」欄  選択一覧'!F128","v":"協同組合プログラム"},"修士課程連帯社会インスティテュート所属専攻：政治学専攻指定団体推薦社会人入試",{"$f":"COUNTIF($G$3:G239,G239)","v":2},"修士課程連帯社会インスティテュート所属専攻：政治学専攻指定団体推薦社会人入試2","筆記試験なし","筆記試験なし"]
[null,{"$f":"'「志願先」欄  選択一覧'!B129","v":"修士課程"},{"$f":"'「志願先」欄  選択一覧'!C129","v":"連帯社会インスティテュート"},{"$f":"'「志願先」欄  選択一覧'!D129","v":"所属専攻：公共政策学専攻"},{"$f":"'「志願先」欄  選択一覧'!E129","v":"指定団体推薦社会人入試"},{"$f":"'「志願先」欄  選択一覧'!F129","v":"協同組合プログラム"},"修士課程連帯社会インスティテュート所属専攻：公共政策学専攻指定団体推薦社会人入試",{"$f":"COUNTIF($G$3:G240,G240)","v":2},"修士課程連帯社会インスティテュート所属専攻：公共政策学専攻指定団体推薦社会人入試2","筆記試験なし","筆記試験なし"]
[null,{"$f":"'「志願先」欄  選択一覧'!B130","v":"修士課程"},{"$f":"'「志願先」欄  選択一覧'!C130","v":"連帯社会インスティテュート"},{"$f":"'「志願先」欄  選択一覧'!D130","v":"所属専攻：政治学専攻"},{"$f":"'「志願先」欄  選択一覧'!E130","v":"指定団体推薦社会人入試"},{"$f":"'「志願先」欄  選択一覧'!F130","v":"NPOプログラム"},"修士課程連帯社会インスティテュート所属専攻：政治学専攻指定団体推薦社会人入試",{"$f":"COUNTIF($G$3:G241,G241)","v":3},"修士課程連帯社会インスティテュート所属専攻：政治学専攻指定団体推薦社会人入試3","筆記試験なし","筆記試験なし"]
[null,{"$f":"'「志願先」欄  選択一覧'!B131","v":"修士課程"},{"$f":"'「志願先」欄  選択一覧'!C131","v":"連帯社会インスティテュート"},{"$f":"'「志願先」欄  選択一覧'!D131","v":"所属専攻：公共政策学専攻"},{"$f":"'「志願先」欄  選択一覧'!E131","v":"指定団体推薦社会人入試"},{"$f":"'「志願先」欄  選択一覧'!F131","v":"NPOプログラム"},"修士課程連帯社会インスティテュート所属専攻：公共政策学専攻指定団体推薦社会人入試",{"$f":"COUNTIF($G$3:G242,G242)","v":3},"修士課程連帯社会インスティテュート所属専攻：公共政策学専攻指定団体推薦社会人入試3","筆記試験なし","筆記試験なし"]
[null,{"$f":"'「志願先」欄  選択一覧'!B132","v":"博士後期課程"},{"$f":"'「志願先」欄  選択一覧'!C132","v":"人文科学研究科"},{"$f":"'「志願先」欄  選択一覧'!D132","v":"哲学専攻"},{"$f":"'「志願先」欄  選択一覧'!E132","v":"一般入試"},{"$f":"'「志願先」欄  選択一覧'!F132","v":"なし"},"博士後期課程人文科学研究科哲学専攻一般入試",{"$f":"COUNTIF($G$3:G243,G243)","v":1},"博士後期課程人文科学研究科哲学専攻一般入試1","専門科目","英語、独語"]
[null,"博士後期課程","人文科学研究科","哲学専攻","一般入試","―","博士後期課程人文科学研究科哲学専攻一般入試",{"$f":"COUNTIF($G$3:G244,G244)","v":2},"博士後期課程人文科学研究科哲学専攻一般入試2","専門科目","英語、仏語"]
[null,"博士後期課程","人文科学研究科","哲学専攻","一般入試","―","博士後期課程人文科学研究科哲学専攻一般入試",{"$f":"COUNTIF($G$3:G245,G245)","v":3},"博士後期課程人文科学研究科哲学専攻一般入試3","専門科目","英語、ギリシャ語"]
[null,"博士後期課程","人文科学研究科","哲学専攻","一般入試","―","博士後期課程人文科学研究科哲学専攻一般入試",{"$f":"COUNTIF($G$3:G246,G246)","v":4},"博士後期課程人文科学研究科哲学専攻一般入試4","専門科目","英語、ラテン語"]
[null,"博士後期課程","人文科学研究科","哲学専攻","一般入試","―","博士後期課程人文科学研究科哲学専攻一般入試",{"$f":"COUNTIF($G$3:G247,G247)","v":5},"博士後期課程人文科学研究科哲学専攻一般入試5","専門科目","独語、仏語"]
[null,"博士後期課程","人文科学研究科","哲学専攻","一般入試","―","博士後期課程人文科学研究科哲学専攻一般入試",{"$f":"COUNTIF($G$3:G248,G248)","v":6},"博士後期課程人文科学研究科哲学専攻一般入試6","専門科目","独語、ギリシャ語"]
[null,"博士後期課程","人文科学研究科","哲学専攻","一般入試","―","博士後期課程人文科学研究科哲学専攻一般入試",{"$f":"COUNTIF($G$3:G249,G249)","v":7},"博士後期課程人文科学研究科哲学専攻一般入試7","専門科目","独語、ラテン語"]
[null,"博士後期課程","人文科学研究科","哲学専攻","一般入試","―","博士後期課程人文科学研究科哲学専攻一般入試",{"$f":"COUNTIF($G$3:G250,G250)","v":8},"博士後期課程人文科学研究科哲学専攻一般入試8","専門科目","仏語、ギリシャ語"]
[null,"博士後期課程","人文科学研究科","哲学専攻","一般入試","―","博士後期課程人文科学研究科哲学専攻一般入試",{"$f":"COUNTIF($G$3:G251,G251)","v":9},"博士後期課程人文科学研究科哲学専攻一般入試9","専門科目","仏語、ラテン語"]
[null,"博士後期課程","人文科学研究科","哲学専攻","一般入試","―","博士後期課程人文科学研究科哲学専攻一般入試",{"$f":"COUNTIF($G$3:G252,G252)","v":10},"博士後期課程人文科学研究科哲学専攻一般入試10","専門科目","ギリシャ語、ラテン語"]
[null,{"$f":"'「志願先」欄  選択一覧'!B133","v":"博士後期課程"},{"$f":"'「志願先」欄  選択一覧'!C133","v":"人文科学研究科"},{"$f":"'「志願先」欄  選択一覧'!D133","v":"日本文学専攻"},{"$f":"'「志願先」欄  選択一覧'!E133","v":"一般入試"},{"$f":"'「志願先」欄  選択一覧'!F133","v":"なし"},"博士後期課程人文科学研究科日本文学専攻一般入試",{"$f":"COUNTIF($G$3:G253,G253)","v":1},"博士後期課程人文科学研究科日本文学専攻一般入試1","専門科目","英語"]
[null,{"$f":"'「志願先」欄  選択一覧'!B134","v":"博士後期課程"},{"$f":"'「志願先」欄  選択一覧'!C134","v":"人文科学研究科"},{"$f":"'「志願先」欄  選択一覧'!D134","v":"英文学専攻"},{"$f":"'「志願先」欄  選択一覧'!E134","v":"一般入試"},{"$f":"'「志願先」欄  選択一覧'!F134","v":"なし"},"博士後期課程人文科学研究科英文学専攻一般入試",{"$f":"COUNTIF($G$3:G254,G254)","v":1},"博士後期課程人文科学研究科英文学専攻一般入試1","筆記試験なし","筆記試験なし"]
[null,{"$f":"'「志願先」欄  選択一覧'!B135","v":"博士後期課程"},{"$f":"'「志願先」欄  選択一覧'!C135","v":"人文科学研究科"},{"$f":"'「志願先」欄  選択一覧'!D135","v":"史学専攻"},{"$f":"'「志願先」欄  選択一覧'!E135","v":"一般入試"},{"$f":"'「志願先」欄  選択一覧'!F135","v":"なし"},"博士後期課程人文科学研究科史学専攻一般入試",{"$f":"COUNTIF($G$3:G255,G255)","v":1},"博士後期課程人文科学研究科史学専攻一般入試1","日本史分野","英語"]
[null,"博士後期課程","人文科学研究科","史学専攻","一般入試",null,"博士後期課程人文科学研究科史学専攻一般入試",{"$f":"COUNTIF($G$3:G256,G256)","v":2},"博士後期課程人文科学研究科史学専攻一般入試2","東洋史分野","英語"]
[null,"博士後期課程","人文科学研究科","史学専攻","一般入試",null,"博士後期課程人文科学研究科史学専攻一般入試",{"$f":"COUNTIF($G$3:G257,G257)","v":3},"博士後期課程人文科学研究科史学専攻一般入試3","西洋史分野","英語"]
[null,{"$f":"'「志願先」欄  選択一覧'!B136","v":"博士後期課程"},{"$f":"'「志願先」欄  選択一覧'!C136","v":"人文科学研究科"},{"$f":"'「志願先」欄  選択一覧'!D136","v":"史学専攻"},{"$f":"'「志願先」欄  選択一覧'!E136","v":"社会人入試"},{"$f":"'「志願先」欄  選択一覧'!F136","v":"なし"},"博士後期課程人文科学研究科史学専攻社会人入試",{"$f":"COUNTIF($G$3:G258,G258)","v":1},"博士後期課程人文科学研究科史学専攻社会人入試1","日本史分野","なし"]
[null,"博士後期課程","人文科学研究科","史学専攻","社会人入試",null,"博士後期課程人文科学研究科史学専攻社会人入試",{"$f":"COUNTIF($G$3:G259,G259)","v":2},"博士後期課程人文科学研究科史学専攻社会人入試2","東洋史分野","なし"]
[null,"博士後期課程","人文科学研究科","史学専攻","社会人入試",null,"博士後期課程人文科学研究科史学専攻社会人入試",{"$f":"COUNTIF($G$3:G260,G260)","v":3},"博士後期課程人文科学研究科史学専攻社会人入試3","西洋史分野","なし"]
[null,{"$f":"'「志願先」欄  選択一覧'!B137","v":"博士後期課程"},{"$f":"'「志願先」欄  選択一覧'!C137","v":"人文科学研究科"},{"$f":"'「志願先」欄  選択一覧'!D137","v":"地理学専攻"},{"$f":"'「志願先」欄  選択一覧'!E137","v":"一般入試"},{"$f":"'「志願先」欄  選択一覧'!F137","v":"なし"},"博士後期課程人文科学研究科地理学専攻一般入試",{"$f":"COUNTIF($G$3:G261,G261)","v":1},"博士後期課程人文科学研究科地理学専攻一般入試1","自然地理分野","日本語（母語は選択不可）"]
[null,"博士後期課程","人文科学研究科","地理学専攻","一般入試",null,"博士後期課程人文科学研究科地理学専攻一般入試",{"$f":"COUNTIF($G$3:G262,G262)","v":2},"博士後期課程人文科学研究科地理学専攻一般入試2","自然地理分野","英語（母語は選択不可）"]
[null,"博士後期課程","人文科学研究科","地理学専攻","一般入試",null,"博士後期課程人文科学研究科地理学専攻一般入試",{"$f":"COUNTIF($G$3:G263,G263)","v":3},"博士後期課程人文科学研究科地理学専攻一般入試3","人文地理分野","日本語（母語は選択不可）"]
[null,"博士後期課程","人文科学研究科","地理学専攻","一般入試",null,"博士後期課程人文科学研究科地理学専攻一般入試",{"$f":"COUNTIF($G$3:G264,G264)","v":4},"博士後期課程人文科学研究科地理学専攻一般入試4","人文地理分野","英語（母語は選択不可）"]
[null,{"$f":"'「志願先」欄  選択一覧'!B138","v":"博士後期課程"},{"$f":"'「志願先」欄  選択一覧'!C138","v":"人文科学研究科"},{"$f":"'「志願先」欄  選択一覧'!D138","v":"心理学専攻"},{"$f":"'「志願先」欄  選択一覧'!E138","v":"一般入試"},{"$f":"'「志願先」欄  選択一覧'!F138","v":"なし"},"博士後期課程人文科学研究科心理学専攻一般入試",{"$f":"COUNTIF($G$3:G265,G265)","v":1},"博士後期課程人文科学研究科心理学専攻一般入試1","専門科目","英語"]
[null,{"$f":"'「志願先」欄  選択一覧'!B139","v":"博士後期課程"},{"$f":"'「志願先」欄  選択一覧'!C139","v":"人文科学研究科"},{"$f":"'「志願先」欄  選択一覧'!D139","v":"国際日本学インスティテュート"},{"$f":"'「志願先」欄  選択一覧'!E139","v":"一般入試"},{"$f":"'「志願先」欄  選択一覧'!F139","v":"所属専攻：哲学"},"博士後期課程人文科学研究科国際日本学インスティテュート一般入試",{"$f":"COUNTIF($G$3:G266,G266)","v":1},"博士後期課程人文科学研究科国際日本学インスティテュート一般入試1","小論文","英語（母語は選択不可）"]
[null,{"$f":"'「志願先」欄  選択一覧'!B140","v":"博士後期課程"},{"$f":"'「志願先」欄  選択一覧'!C140","v":"人文科学研究科"},{"$f":"'「志願先」欄  選択一覧'!D140","v":"国際日本学インスティテュート"},{"$f":"'「志願先」欄  選択一覧'!E140","v":"一般入試"},{"$f":"'「志願先」欄  選択一覧'!F140","v":"所属専攻：日本文学"},"博士後期課程人文科学研究科国際日本学インスティテュート一般入試",{"$f":"COUNTIF($G$3:G267,G267)","v":2},"博士後期課程人文科学研究科国際日本学インスティテュート一般入試2","小論文","独語（母語は選択不可）"]
[null,{"$f":"'「志願先」欄  選択一覧'!B141","v":"博士後期課程"},{"$f":"'「志願先」欄  選択一覧'!C141","v":"人文科学研究科"},{"$f":"'「志願先」欄  選択一覧'!D141","v":"国際日本学インスティテュート"},{"$f":"'「志願先」欄  選択一覧'!E141","v":"一般入試"},{"$f":"'「志願先」欄  選択一覧'!F141","v":"所属専攻：英文学"},"博士後期課程人文科学研究科国際日本学インスティテュート一般入試",{"$f":"COUNTIF($G$3:G268,G268)","v":3},"博士後期課程人文科学研究科国際日本学インスティテュート一般入試3","小論文","仏語（母語は選択不可）"]
[null,{"$f":"'「志願先」欄  選択一覧'!B142","v":"博士後期課程"},{"$f":"'「志願先」欄  選択一覧'!C142","v":"人文科学研究科"},{"$f":"'「志願先」欄  選択一覧'!D142","v":"国際日本学インスティテュート"},{"$f":"'「志願先」欄  選択一覧'!E142","v":"一般入試"},{"$f":"'「志願先」欄  選択一覧'!F142","v":"所属専攻：史学"},"博士後期課程人文科学研究科国際日本学インスティテュート一般入試",{"$f":"COUNTIF($G$3:G269,G269)","v":4},{"$f":"G269&H269","v":"博士後期課程人文科学研究科国際日本学インスティテュート一般入試4"},"小論文","中国語（母語は選択不可）"]
[null,{"$f":"'「志願先」欄  選択一覧'!B143","v":"博士後期課程"},{"$f":"'「志願先」欄  選択一覧'!C143","v":"人文科学研究科"},{"$f":"'「志願先」欄  選択一覧'!D143","v":"国際日本学インスティテュート"},{"$f":"'「志願先」欄  選択一覧'!E143","v":"一般入試"},{"$f":"'「志願先」欄  選択一覧'!F143","v":"所属専攻：地理学"},"博士後期課程人文科学研究科国際日本学インスティテュート一般入試",{"$f":"COUNTIF($G$3:G270,G270)","v":5},"博士後期課程人文科学研究科国際日本学インスティテュート一般入試5","小論文","古文（日本語を母語とする者は不可）"]
[null,"博士後期課程","人文科学研究科","国際日本学インスティテュート","一般入試",null,{"$f":"B271&C271&D271&E271","v":"博士後期課程人文科学研究科国際日本学インスティテュート一般入試"},{"$f":"COUNTIF($G$3:G271,G271)","v":6},{"$f":"G271&H271","v":"博士後期課程人文科学研究科国際日本学インスティテュート一般入試6"},"小論文","古文書（日本語を母語とする者は不可）"]
[null,{"$f":"'「志願先」欄  選択一覧'!B144","v":"博士後期課程"},{"$f":"'「志願先」欄  選択一覧'!C144","v":"国際文化研究科"},{"$f":"'「志願先」欄  選択一覧'!D144","v":"国際文化専攻"},{"$f":"'「志願先」欄  選択一覧'!E144","v":"一般入試"},{"$f":"'「志願先」欄  選択一覧'!F144","v":"なし"},"博士後期課程国際文化研究科国際文化専攻一般入試",{"$f":"COUNTIF($G$3:G272,G272)","v":1},"博士後期課程国際文化研究科国際文化専攻一般入試1","筆記試験なし","筆記試験なし"]
[null,{"$f":"'「志願先」欄  選択一覧'!B145","v":"博士後期課程"},{"$f":"'「志願先」欄  選択一覧'!C145","v":"国際文化研究科"},{"$f":"'「志願先」欄  選択一覧'!D145","v":"国際文化専攻"},{"$f":"'「志願先」欄  選択一覧'!E145","v":"外国人入試"},{"$f":"'「志願先」欄  選択一覧'!F145","v":"なし"},"博士後期課程国際文化研究科国際文化専攻外国人入試",{"$f":"COUNTIF($G$3:G273,G273)","v":1},"博士後期課程国際文化研究科国際文化専攻外国人入試1","筆記試験なし","筆記試験なし"]
[null,{"$f":"'「志願先」欄  選択一覧'!B146","v":"博士後期課程"},{"$f":"'「志願先」欄  選択一覧'!C146","v":"国際文化研究科"},{"$f":"'「志願先」欄  選択一覧'!D146","v":"国際文化専攻"},{"$f":"'「志願先」欄  選択一覧'!E146","v":"社会人入試"},{"$f":"'「志願先」欄  選択一覧'!F146","v":"なし"},"博士後期課程国際文化研究科国際文化専攻社会人入試",{"$f":"COUNTIF($G$3:G274,G274)","v":1},"博士後期課程国際文化研究科国際文化専攻社会人入試1","筆記試験なし","筆記試験なし"]
[null,{"$f":"'「志願先」欄  選択一覧'!B147","v":"博士後期課程"},{"$f":"'「志願先」欄  選択一覧'!C147","v":"経済学研究科"},{"$f":"'「志願先」欄  選択一覧'!D147","v":"経済学専攻"},{"$f":"'「志願先」欄  選択一覧'!E147","v":"一般入試"},{"$f":"'「志願先」欄  選択一覧'!F147","v":"歴史・思想・制度"},"博士後期課程経済学研究科経済学専攻一般入試",{"$f":"COUNTIF($G$3:G275,G275)","v":1},"博士後期課程経済学研究科経済学専攻一般入試1","経済史、計量経済学","英語"]
[null,{"$f":"'「志願先」欄  選択一覧'!B148","v":"博士後期課程"},{"$f":"'「志願先」欄  選択一覧'!C148","v":"経済学研究科"},{"$f":"'「志願先」欄  選択一覧'!D148","v":"経済学専攻"},{"$f":"'「志願先」欄  選択一覧'!E148","v":"一般入試"},{"$f":"'「志願先」欄  選択一覧'!F148","v":"金融・企業"},"博士後期課程経済学研究科経済学専攻一般入試",{"$f":"COUNTIF($G$3:G276,G276)","v":2},"博士後期課程経済学研究科経済学専攻一般入試2","経済史、マクロ経済学","英語"]
[null,{"$f":"'「志願先」欄  選択一覧'!B149","v":"博士後期課程"},{"$f":"'「志願先」欄  選択一覧'!C149","v":"経済学研究科"},{"$f":"'「志願先」欄  選択一覧'!D149","v":"経済学専攻"},{"$f":"'「志願先」欄  選択一覧'!E149","v":"一般入試"},{"$f":"'「志願先」欄  選択一覧'!F149","v":"政策・環境"},"博士後期課程経済学研究科経済学専攻一般入試",{"$f":"COUNTIF($G$3:G277,G277)","v":3},"博士後期課程経済学研究科経済学専攻一般入試3","経済史、ミクロ経済学","英語"]
[null,{"$f":"'「志願先」欄  選択一覧'!B150","v":"博士後期課程"},{"$f":"'「志願先」欄  選択一覧'!C150","v":"経済学研究科"},{"$f":"'「志願先」欄  選択一覧'!D150","v":"経済学専攻"},{"$f":"'「志願先」欄  選択一覧'!E150","v":"一般入試"},{"$f":"'「志願先」欄  選択一覧'!F150","v":"国際・地域"},"博士後期課程経済学研究科経済学専攻一般入試",{"$f":"COUNTIF($G$3:G278,G278)","v":4},"博士後期課程経済学研究科経済学専攻一般入試4","計量経済学、マクロ経済学","英語"]
[null,{"$f":"'「志願先」欄  選択一覧'!B151","v":"博士後期課程"},{"$f":"'「志願先」欄  選択一覧'!C151","v":"経済学研究科"},{"$f":"'「志願先」欄  選択一覧'!D151","v":"経済学専攻"},{"$f":"'「志願先」欄  選択一覧'!E151","v":"一般入試"},{"$f":"'「志願先」欄  選択一覧'!F151","v":"応用ミクロ・応用マクロ・計量"},"博士後期課程経済学研究科経済学専攻一般入試",{"$f":"COUNTIF($G$3:G279,G279)","v":5},"博士後期課程経済学研究科経済学専攻一般入試5","計量経済学、ミクロ経済学","英語"]
[null,"博士後期課程","経済学研究科","経済学専攻","一般入試",null,"博士後期課程経済学研究科経済学専攻一般入試",{"$f":"COUNTIF($G$3:G280,G280)","v":6},"博士後期課程経済学研究科経済学専攻一般入試6","マクロ経済学、ミクロ経済学","英語"]
[null,"博士後期課程","経済学研究科","経済学専攻","一般入試",null,"博士後期課程経済学研究科経済学専攻一般入試",{"$f":"COUNTIF($G$3:G281,G281)","v":7},"博士後期課程経済学研究科経済学専攻一般入試7","経済史、計量経済学","英語免除（要書類提出）"]
[null,"博士後期課程","経済学研究科","経済学専攻","一般入試",null,"博士後期課程経済学研究科経済学専攻一般入試",{"$f":"COUNTIF($G$3:G282,G282)","v":8},"博士後期課程経済学研究科経済学専攻一般入試8","経済史、マクロ経済学","英語免除（要書類提出）"]
[null,"博士後期課程","経済学研究科","経済学専攻","一般入試",null,"博士後期課程経済学研究科経済学専攻一般入試",{"$f":"COUNTIF($G$3:G283,G283)","v":9},"博士後期課程経済学研究科経済学専攻一般入試9","経済史、ミクロ経済学","英語免除（要書類提出）"]
[null,"博士後期課程","経済学研究科","経済学専攻","一般入試",null,"博士後期課程経済学研究科経済学専攻一般入試",{"$f":"COUNTIF($G$3:G284,G284)","v":10},"博士後期課程経済学研究科経済学専攻一般入試10","計量経済学、マクロ経済学","英語免除（要書類提出）"]
[null,"博士後期課程","経済学研究科","経済学専攻","一般入試",null,"博士後期課程経済学研究科経済学専攻一般入試",{"$f":"COUNTIF($G$3:G285,G285)","v":11},"博士後期課程経済学研究科経済学専攻一般入試11","計量経済学、ミクロ経済学","英語免除（要書類提出）"]
[null,"博士後期課程","経済学研究科","経済学専攻","一般入試",null,"博士後期課程経済学研究科経済学専攻一般入試",{"$f":"COUNTIF($G$3:G286,G286)","v":12},"博士後期課程経済学研究科経済学専攻一般入試12","マクロ経済学、ミクロ経済学","英語免除（要書類提出）"]
[null,{"$f":"'「志願先」欄  選択一覧'!B152","v":"博士後期課程"},{"$f":"'「志願先」欄  選択一覧'!C152","v":"経済学研究科"},{"$f":"'「志願先」欄  選択一覧'!D152","v":"経済学専攻"},{"$f":"'「志願先」欄  選択一覧'!E152","v":"社会人入試"},{"$f":"'「志願先」欄  選択一覧'!F152","v":"歴史・思想・制度"},"博士後期課程経済学研究科経済学専攻社会人入試",{"$f":"COUNTIF($G$3:G287,G287)","v":1},"博士後期課程経済学研究科経済学専攻社会人入試1","経済史、計量経済学","英語"]
[null,{"$f":"'「志願先」欄  選択一覧'!B153","v":"博士後期課程"},{"$f":"'「志願先」欄  選択一覧'!C153","v":"経済学研究科"},{"$f":"'「志願先」欄  選択一覧'!D153","v":"経済学専攻"},{"$f":"'「志願先」欄  選択一覧'!E153","v":"社会人入試"},{"$f":"'「志願先」欄  選択一覧'!F153","v":"金融・企業"},"博士後期課程経済学研究科経済学専攻社会人入試",{"$f":"COUNTIF($G$3:G288,G288)","v":2},"博士後期課程経済学研究科経済学専攻社会人入試2","経済史、マクロ経済学","英語"]
[null,{"$f":"'「志願先」欄  選択一覧'!B154","v":"博士後期課程"},{"$f":"'「志願先」欄  選択一覧'!C154","v":"経済学研究科"},{"$f":"'「志願先」欄  選択一覧'!D154","v":"経済学専攻"},{"$f":"'「志願先」欄  選択一覧'!E154","v":"社会人入試"},{"$f":"'「志願先」欄  選択一覧'!F154","v":"政策・環境"},"博士後期課程経済学研究科経済学専攻社会人入試",{"$f":"COUNTIF($G$3:G289,G289)","v":3},"博士後期課程経済学研究科経済学専攻社会人入試3","経済史、ミクロ経済学","英語"]
[null,{"$f":"'「志願先」欄  選択一覧'!B155","v":"博士後期課程"},{"$f":"'「志願先」欄  選択一覧'!C155","v":"経済学研究科"},{"$f":"'「志願先」欄  選択一覧'!D155","v":"経済学専攻"},{"$f":"'「志願先」欄  選択一覧'!E155","v":"社会人入試"},{"$f":"'「志願先」欄  選択一覧'!F155","v":"国際・地域"},"博士後期課程経済学研究科経済学専攻社会人入試",{"$f":"COUNTIF($G$3:G290,G290)","v":4},"博士後期課程経済学研究科経済学専攻社会人入試4","計量経済学、マクロ経済学","英語"]
[null,{"$f":"'「志願先」欄  選択一覧'!B156","v":"博士後期課程"},{"$f":"'「志願先」欄  選択一覧'!C156","v":"経済学研究科"},{"$f":"'「志願先」欄  選択一覧'!D156","v":"経済学専攻"},{"$f":"'「志願先」欄  選択一覧'!E156","v":"社会人入試"},{"$f":"'「志願先」欄  選択一覧'!F156","v":"応用ミクロ・応用マクロ・計量"},"博士後期課程経済学研究科経済学専攻社会人入試",{"$f":"COUNTIF($G$3:G291,G291)","v":5},"博士後期課程経済学研究科経済学専攻社会人入試5","計量経済学、ミクロ経済学","英語"]
[null,"博士後期課程","経済学研究科","経済学専攻","社会人入試",null,"博士後期課程経済学研究科経済学専攻社会人入試",{"$f":"COUNTIF($G$3:G292,G292)","v":6},"博士後期課程経済学研究科経済学専攻社会人入試6","マクロ経済学、ミクロ経済学","英語"]
[null,"博士後期課程","経済学研究科","経済学専攻","社会人入試",null,"博士後期課程経済学研究科経済学専攻社会人入試",{"$f":"COUNTIF($G$3:G293,G293)","v":7},"博士後期課程経済学研究科経済学専攻社会人入試7","経済史、計量経済学","英語免除（要書類提出）"]
[null,"博士後期課程","経済学研究科","経済学専攻","社会人入試",null,"博士後期課程経済学研究科経済学専攻社会人入試",{"$f":"COUNTIF($G$3:G294,G294)","v":8},"博士後期課程経済学研究科経済学専攻社会人入試8","経済史、マクロ経済学","英語免除（要書類提出）"]
[null,"博士後期課程","経済学研究科","経済学専攻","社会人入試",null,"博士後期課程経済学研究科経済学専攻社会人入試",{"$f":"COUNTIF($G$3:G295,G295)","v":9},"博士後期課程経済学研究科経済学専攻社会人入試9","経済史、ミクロ経済学","英語免除（要書類提出）"]
[null,"博士後期課程","経済学研究科","経済学専攻","社会人入試",null,"博士後期課程経済学研究科経済学専攻社会人入試",{"$f":"COUNTIF($G$3:G296,G296)","v":10},"博士後期課程経済学研究科経済学専攻社会人入試10","計量経済学、マクロ経済学","英語免除（要書類提出）"]
[null,"博士後期課程","経済学研究科","経済学専攻","社会人入試",null,"博士後期課程経済学研究科経済学専攻社会人入試",{"$f":"COUNTIF($G$3:G297,G297)","v":11},"博士後期課程経済学研究科経済学専攻社会人入試11","計量経済学、ミクロ経済学","英語免除（要書類提出）"]
[null,"博士後期課程","経済学研究科","経済学専攻","社会人入試",null,"博士後期課程経済学研究科経済学専攻社会人入試",{"$f":"COUNTIF($G$3:G298,G298)","v":12},"博士後期課程経済学研究科経済学専攻社会人入試12","マクロ経済学、ミクロ経済学","英語免除（要書類提出）"]
[null,{"$f":"'「志願先」欄  選択一覧'!B157","v":"博士後期課程"},{"$f":"'「志願先」欄  選択一覧'!C157","v":"法学研究科"},{"$f":"'「志願先」欄  選択一覧'!D157","v":"法律学専攻"},{"$f":"'「志願先」欄  選択一覧'!E157","v":"一般入試"},{"$f":"'「志願先」欄  選択一覧'!F157","v":"なし"},"博士後期課程法学研究科法律学専攻一般入試",{"$f":"COUNTIF($G$3:G299,G299)","v":1},"博士後期課程法学研究科法律学専攻一般入試1","なし","英語、独語（母語は選択不可）"]
[null,"博士後期課程","法学研究科","法律学専攻","一般入試",null,{"$f":"B300&C300&D300&E300","v":"博士後期課程法学研究科法律学専攻一般入試"},{"$f":"COUNTIF($G$3:G300,G300)","v":2},"博士後期課程法学研究科法律学専攻一般入試2","なし","英語、仏語（母語は選択不可）"]
[null,"博士後期課程","法学研究科","法律学専攻","一般入試",null,"博士後期課程法学研究科法律学専攻一般入試",{"$f":"COUNTIF($G$3:G301,G301)","v":3},"博士後期課程法学研究科法律学専攻一般入試3","なし","英語、日本語（母語は選択不可）"]
[null,"博士後期課程","法学研究科","法律学専攻","一般入試",null,"博士後期課程法学研究科法律学専攻一般入試",{"$f":"COUNTIF($G$3:G302,G302)","v":4},"博士後期課程法学研究科法律学専攻一般入試4","なし","独語、仏語（母語は選択不可）"]
[null,"博士後期課程","法学研究科","法律学専攻","一般入試",null,"博士後期課程法学研究科法律学専攻一般入試",{"$f":"COUNTIF($G$3:G303,G303)","v":5},"博士後期課程法学研究科法律学専攻一般入試5","なし","独語、日本語（母語は選択不可）"]
[null,"博士後期課程","法学研究科","法律学専攻","一般入試",null,"博士後期課程法学研究科法律学専攻一般入試",{"$f":"COUNTIF($G$3:G304,G304)","v":6},"博士後期課程法学研究科法律学専攻一般入試6","なし","仏語、日本語（母語は選択不可）"]
[null,"博士後期課程","法学研究科","法律学専攻","一般入試",null,"博士後期課程法学研究科法律学専攻一般入試",{"$f":"COUNTIF($G$3:G305,G305)","v":7},"博士後期課程法学研究科法律学専攻一般入試7","なし","日本語免除、英語（外国国籍志願者のみ。母語は選択不可）"]
[null,"博士後期課程","法学研究科","法律学専攻","一般入試",null,"博士後期課程法学研究科法律学専攻一般入試",{"$f":"COUNTIF($G$3:G306,G306)","v":8},"博士後期課程法学研究科法律学専攻一般入試8","なし","日本語免除、独語（外国国籍志願者のみ。母語は選択不可）"]
[null,"博士後期課程","法学研究科","法律学専攻","一般入試",null,"博士後期課程法学研究科法律学専攻一般入試",{"$f":"COUNTIF($G$3:G307,G307)","v":9},"博士後期課程法学研究科法律学専攻一般入試9","なし","日本語免除、仏語（外国国籍志願者のみ。母語は選択不可）"]
[null,{"$f":"'「志願先」欄  選択一覧'!B158","v":"博士後期課程"},{"$f":"'「志願先」欄  選択一覧'!C158","v":"政治学研究科"},{"$f":"'「志願先」欄  選択一覧'!D158","v":"政治学専攻"},{"$f":"'「志願先」欄  選択一覧'!E158","v":"一般入試"},{"$f":"'「志願先」欄  選択一覧'!F158","v":"なし"},"博士後期課程政治学研究科政治学専攻一般入試",{"$f":"COUNTIF($G$3:G308,G308)","v":1},"博士後期課程政治学研究科政治学専攻一般入試1","なし","英語（母語は選択不可）"]
[null,"博士後期課程","政治学研究科","政治学専攻","一般入試",null,"博士後期課程政治学研究科政治学専攻一般入試",{"$f":"COUNTIF($G$3:G309,G309)","v":2},"博士後期課程政治学研究科政治学専攻一般入試2","なし","日本語（母語は選択不可）"]
[null,{"$f":"'「志願先」欄  選択一覧'!B159","v":"博士後期課程"},{"$f":"'「志願先」欄  選択一覧'!C159","v":"社会学研究科"},{"$f":"'「志願先」欄  選択一覧'!D159","v":"社会学専攻"},{"$f":"'「志願先」欄  選択一覧'!E159","v":"一般入試"},{"$f":"'「志願先」欄  選択一覧'!F159","v":"なし"},"博士後期課程社会学研究科社会学専攻一般入試",{"$f":"COUNTIF($G$3:G310,G310)","v":1},"博士後期課程社会学研究科社会学専攻一般入試1","なし","英語"]
[null,{"$f":"'「志願先」欄  選択一覧'!B160","v":"博士後期課程"},{"$f":"'「志願先」欄  選択一覧'!C160","v":"経営学研究科"},{"$f":"'「志願先」欄  選択一覧'!D160","v":"経営学専攻"},{"$f":"'「志願先」欄  選択一覧'!E160","v":"一般入試"},{"$f":"'「志願先」欄  選択一覧'!F160","v":"なし"},"博士後期課程経営学研究科経営学専攻一般入試",{"$f":"COUNTIF($G$3:G311,G311)","v":1},"博士後期課程経営学研究科経営学専攻一般入試1","なし","英語"]
[null,{"$f":"'「志願先」欄  選択一覧'!B161","v":"博士後期課程"},{"$f":"'「志願先」欄  選択一覧'!C161","v":"経営学研究科"},{"$f":"'「志願先」欄  選択一覧'!D161","v":"経営学専攻"},{"$f":"'「志願先」欄  選択一覧'!E161","v":"社会人入試"},{"$f":"'「志願先」欄  選択一覧'!F161","v":"なし"},"博士後期課程経営学研究科経営学専攻社会人入試",{"$f":"COUNTIF($G$3:G312,G312)","v":1},"博士後期課程経営学研究科経営学専攻社会人入試1","なし","英語"]
[null,{"$f":"'「志願先」欄  選択一覧'!B162","v":"博士後期課程"},{"$f":"'「志願先」欄  選択一覧'!C162","v":"公共政策研究科"},{"$f":"'「志願先」欄  選択一覧'!D162","v":"公共政策学専攻"},{"$f":"'「志願先」欄  選択一覧'!E162","v":"一般入試"},{"$f":"'「志願先」欄  選択一覧'!F162","v":"なし"},"博士後期課程公共政策研究科公共政策学専攻一般入試",{"$f":"COUNTIF($G$3:G313,G313)","v":1},"博士後期課程公共政策研究科公共政策学専攻一般入試1","筆記試験なし","筆記試験なし"]
[null,{"$f":"'「志願先」欄  選択一覧'!B163","v":"博士後期課程"},{"$f":"'「志願先」欄  選択一覧'!C163","v":"公共政策研究科"},{"$f":"'「志願先」欄  選択一覧'!D163","v":"サステイナビリティ学専攻"},{"$f":"'「志願先」欄  選択一覧'!E163","v":"一般入試"},{"$f":"'「志願先」欄  選択一覧'!F163","v":"なし"},"博士後期課程公共政策研究科サステイナビリティ学専攻一般入試",{"$f":"COUNTIF($G$3:G314,G314)","v":1},"博士後期課程公共政策研究科サステイナビリティ学専攻一般入試1","筆記試験なし","筆記試験なし"]
[null,{"$f":"'「志願先」欄  選択一覧'!B164","v":"博士後期課程"},{"$f":"'「志願先」欄  選択一覧'!C164","v":"公共政策研究科"},{"$f":"'「志願先」欄  選択一覧'!D164","v":"公共政策学専攻"},{"$f":"'「志願先」欄  選択一覧'!E164","v":"社会人入試"},{"$f":"'「志願先」欄  選択一覧'!F164","v":"なし"},"博士後期課程公共政策研究科公共政策学専攻社会人入試",{"$f":"COUNTIF($G$3:G315,G315)","v":1},"博士後期課程公共政策研究科公共政策学専攻社会人入試1","筆記試験なし","筆記試験なし"]
[null,{"$f":"'「志願先」欄  選択一覧'!B165","v":"博士後期課程"},{"$f":"'「志願先」欄  選択一覧'!C165","v":"公共政策研究科"},{"$f":"'「志願先」欄  選択一覧'!D165","v":"サステイナビリティ学専攻"},{"$f":"'「志願先」欄  選択一覧'!E165","v":"社会人入試"},{"$f":"'「志願先」欄  選択一覧'!F165","v":"なし"},"博士後期課程公共政策研究科サステイナビリティ学専攻社会人入試",{"$f":"COUNTIF($G$3:G316,G316)","v":1},"博士後期課程公共政策研究科サステイナビリティ学専攻社会人入試1","筆記試験なし","筆記試験なし"]
[null,{"$f":"'「志願先」欄  選択一覧'!B166","v":"研修生"},{"$f":"'「志願先」欄  選択一覧'!C166","v":"人文科学研究科"},{"$f":"'「志願先」欄  選択一覧'!D166","v":"哲学専攻"},{"$f":"'「志願先」欄  選択一覧'!E166","v":"研修生入試（単願）"},{"$f":"'「志願先」欄  選択一覧'!F166","v":"なし"},"研修生人文科学研究科哲学専攻研修生入試（単願）",{"$f":"COUNTIF($G$3:G317,G317)","v":1},"研修生人文科学研究科哲学専攻研修生入試（単願）1","専門科目","外国語（言語は当日選択）"]
[null,{"$f":"'「志願先」欄  選択一覧'!B167","v":"研修生"},{"$f":"'「志願先」欄  選択一覧'!C167","v":"人文科学研究科"},{"$f":"'「志願先」欄  選択一覧'!D167","v":"日本文学専攻"},{"$f":"'「志願先」欄  選択一覧'!E167","v":"研修生入試（単願）"},{"$f":"'「志願先」欄  選択一覧'!F167","v":"なし"},"研修生人文科学研究科日本文学専攻研修生入試（単願）",{"$f":"COUNTIF($G$3:G318,G318)","v":1},"研修生人文科学研究科日本文学専攻研修生入試（単願）1","専門科目","日本語（母語は選択不可）"]
[null,"研修生","人文科学研究科","日本文学専攻","研修生入試（単願）",null,"研修生人文科学研究科日本文学専攻研修生入試（単願）",{"$f":"COUNTIF($G$3:G319,G319)","v":2},"研修生人文科学研究科日本文学専攻研修生入試（単願）2","専門科目","英語（母語は選択不可）"]
[null,{"$f":"'「志願先」欄  選択一覧'!B168","v":"研修生"},{"$f":"'「志願先」欄  選択一覧'!C168","v":"人文科学研究科"},{"$f":"'「志願先」欄  選択一覧'!D168","v":"英文学専攻"},{"$f":"'「志願先」欄  選択一覧'!E168","v":"研修生入試（単願）"},{"$f":"'「志願先」欄  選択一覧'!F168","v":"なし"},"研修生人文科学研究科英文学専攻研修生入試（単願）",{"$f":"COUNTIF($G$3:G320,G320)","v":1},"研修生人文科学研究科英文学専攻研修生入試（単願）1","筆記試験なし","筆記試験なし"]
[null,{"$f":"'「志願先」欄  選択一覧'!B169","v":"研修生"},{"$f":"'「志願先」欄  選択一覧'!C169","v":"人文科学研究科"},{"$f":"'「志願先」欄  選択一覧'!D169","v":"史学専攻"},{"$f":"'「志願先」欄  選択一覧'!E169","v":"研修生入試（単願）"},{"$f":"'「志願先」欄  選択一覧'!F169","v":"なし"},"研修生人文科学研究科史学専攻研修生入試（単願）",{"$f":"COUNTIF($G$3:G321,G321)","v":1},"研修生人文科学研究科史学専攻研修生入試（単願）1","日本史分野","日本語（母語は選択不可）"]
[null,"研修生","人文科学研究科","史学専攻","研修生入試（単願）",null,"研修生人文科学研究科史学専攻研修生入試（単願）",{"$f":"COUNTIF($G$3:G322,G322)","v":2},"研修生人文科学研究科史学専攻研修生入試（単願）2","東洋史分野","日本語（母語は選択不可）"]
[null,"研修生","人文科学研究科","史学専攻","研修生入試（単願）",null,"研修生人文科学研究科史学専攻研修生入試（単願）",{"$f":"COUNTIF($G$3:G323,G323)","v":3},"研修生人文科学研究科史学専攻研修生入試（単願）3","西洋史分野","日本語（母語は選択不可）"]
[null,"研修生","人文科学研究科","史学専攻","研修生入試（単願）",null,"研修生人文科学研究科史学専攻研修生入試（単願）",{"$f":"COUNTIF($G$3:G324,G324)","v":4},"研修生人文科学研究科史学専攻研修生入試（単願）4","日本史分野","英語（母語は選択不可）"]
[null,"研修生","人文科学研究科","史学専攻","研修生入試（単願）",null,"研修生人文科学研究科史学専攻研修生入試（単願）",{"$f":"COUNTIF($G$3:G325,G325)","v":5},"研修生人文科学研究科史学専攻研修生入試（単願）5","東洋史分野","英語（母語は選択不可）"]
[null,"研修生","人文科学研究科","史学専攻","研修生入試（単願）",null,"研修生人文科学研究科史学専攻研修生入試（単願）",{"$f":"COUNTIF($G$3:G326,G326)","v":6},"研修生人文科学研究科史学専攻研修生入試（単願）6","西洋史分野","英語（母語は選択不可）"]
[null,{"$f":"'「志願先」欄  選択一覧'!B170","v":"研修生"},{"$f":"'「志願先」欄  選択一覧'!C170","v":"人文科学研究科"},{"$f":"'「志願先」欄  選択一覧'!D170","v":"地理学専攻"},{"$f":"'「志願先」欄  選択一覧'!E170","v":"研修生入試（単願）"},{"$f":"'「志願先」欄  選択一覧'!F170","v":"なし"},"研修生人文科学研究科地理学専攻研修生入試（単願）",{"$f":"COUNTIF($G$3:G327,G327)","v":1},"研修生人文科学研究科地理学専攻研修生入試（単願）1","自然地理分野","日本語（母語は選択不可）"]
[null,"研修生","人文科学研究科","地理学専攻","研修生入試（単願）",null,"研修生人文科学研究科地理学専攻研修生入試（単願）",{"$f":"COUNTIF($G$3:G328,G328)","v":2},"研修生人文科学研究科地理学専攻研修生入試（単願）2","人文地理分野","日本語（母語は選択不可）"]
[null,"研修生","人文科学研究科","地理学専攻","研修生入試（単願）",null,"研修生人文科学研究科地理学専攻研修生入試（単願）",{"$f":"COUNTIF($G$3:G329,G329)","v":3},"研修生人文科学研究科地理学専攻研修生入試（単願）3","自然地理分野","英語（母語は選択不可）"]
[null,"研修生","人文科学研究科","地理学専攻","研修生入試（単願）",null,"研修生人文科学研究科地理学専攻研修生入試（単願）",{"$f":"COUNTIF($G$3:G330,G330)","v":4},"研修生人文科学研究科地理学専攻研修生入試（単願）4","人文地理分野","英語（母語は選択不可）"]
[null,{"$f":"'「志願先」欄  選択一覧'!B171","v":"研修生"},{"$f":"'「志願先」欄  選択一覧'!C171","v":"人文科学研究科"},{"$f":"'「志願先」欄  選択一覧'!D171","v":"心理学専攻"},{"$f":"'「志願先」欄  選択一覧'!E171","v":"研修生入試（単願）"},{"$f":"'「志願先」欄  選択一覧'!F171","v":"なし"},"研修生人文科学研究科心理学専攻研修生入試（単願）",{"$f":"COUNTIF($G$3:G331,G331)","v":1},"研修生人文科学研究科心理学専攻研修生入試（単願）1","専門科目","英語"]
[null,{"$f":"'「志願先」欄  選択一覧'!B172","v":"研修生"},{"$f":"'「志願先」欄  選択一覧'!C172","v":"人文科学研究科"},{"$f":"'「志願先」欄  選択一覧'!D172","v":"国際日本学インスティテュート"},{"$f":"'「志願先」欄  選択一覧'!E172","v":"研修生入試（単願）"},{"$f":"'「志願先」欄  選択一覧'!F172","v":"所属専攻：哲学"},"研修生人文科学研究科国際日本学インスティテュート研修生入試（単願）",{"$f":"COUNTIF($G$3:G332,G332)","v":1},"研修生人文科学研究科国際日本学インスティテュート研修生入試（単願）1","筆記試験なし","筆記試験なし"]
[null,{"$f":"'「志願先」欄  選択一覧'!B173","v":"研修生"},{"$f":"'「志願先」欄  選択一覧'!C173","v":"人文科学研究科"},{"$f":"'「志願先」欄  選択一覧'!D173","v":"国際日本学インスティテュート"},{"$f":"'「志願先」欄  選択一覧'!E173","v":"研修生入試（単願）"},{"$f":"'「志願先」欄  選択一覧'!F173","v":"所属専攻：日本文学"},"研修生人文科学研究科国際日本学インスティテュート研修生入試（単願）",{"$f":"COUNTIF($G$3:G333,G333)","v":2},"研修生人文科学研究科国際日本学インスティテュート研修生入試（単願）2"]
[null,{"$f":"'「志願先」欄  選択一覧'!B174","v":"研修生"},{"$f":"'「志願先」欄  選択一覧'!C174","v":"人文科学研究科"},{"$f":"'「志願先」欄  選択一覧'!D174","v":"国際日本学インスティテュート"},{"$f":"'「志願先」欄  選択一覧'!E174","v":"研修生入試（単願）"},{"$f":"'「志願先」欄  選択一覧'!F174","v":"所属専攻：英文学"},"研修生人文科学研究科国際日本学インスティテュート研修生入試（単願）",{"$f":"COUNTIF($G$3:G334,G334)","v":3},{"$f":"G334&H334","v":"研修生人文科学研究科国際日本学インスティテュート研修生入試（単願）3"}]
[null,{"$f":"'「志願先」欄  選択一覧'!B175","v":"研修生"},{"$f":"'「志願先」欄  選択一覧'!C175","v":"人文科学研究科"},{"$f":"'「志願先」欄  選択一覧'!D175","v":"国際日本学インスティテュート"},{"$f":"'「志願先」欄  選択一覧'!E175","v":"研修生入試（単願）"},{"$f":"'「志願先」欄  選択一覧'!F175","v":"所属専攻：史学"},"研修生人文科学研究科国際日本学インスティテュート研修生入試（単願）",{"$f":"COUNTIF($G$3:G335,G335)","v":4},"研修生人文科学研究科国際日本学インスティテュート研修生入試（単願）4"]
[null,{"$f":"'「志願先」欄  選択一覧'!B176","v":"研修生"},{"$f":"'「志願先」欄  選択一覧'!C176","v":"人文科学研究科"},{"$f":"'「志願先」欄  選択一覧'!D176","v":"国際日本学インスティテュート"},{"$f":"'「志願先」欄  選択一覧'!E176","v":"研修生入試（単願）"},{"$f":"'「志願先」欄  選択一覧'!F176","v":"所属専攻：地理学"},"研修生人文科学研究科国際日本学インスティテュート研修生入試（単願）",{"$f":"COUNTIF($G$3:G336,G336)","v":5},"研修生人文科学研究科国際日本学インスティテュート研修生入試（単願）5"]
[null,{"$f":"'「志願先」欄  選択一覧'!B177","v":"研修生"},{"$f":"'「志願先」欄  選択一覧'!C177","v":"国際文化研究科"},{"$f":"'「志願先」欄  選択一覧'!D177","v":"国際文化専攻"},{"$f":"'「志願先」欄  選択一覧'!E177","v":"研修生入試（単願）"},{"$f":"'「志願先」欄  選択一覧'!F177","v":"なし"},"研修生国際文化研究科国際文化専攻研修生入試（単願）",{"$f":"COUNTIF($G$3:G337,G337)","v":1},"研修生国際文化研究科国際文化専攻研修生入試（単願）1","筆記試験なし","筆記試験なし"]
[null,{"$f":"'「志願先」欄  選択一覧'!B178","v":"研修生"},{"$f":"'「志願先」欄  選択一覧'!C178","v":"経済学研究科"},{"$f":"'「志願先」欄  選択一覧'!D178","v":"経済学専攻"},{"$f":"'「志願先」欄  選択一覧'!E178","v":"研修生入試（単願）"},{"$f":"'「志願先」欄  選択一覧'!F178","v":"歴史・思想・制度"},"研修生経済学研究科経済学専攻研修生入試（単願）",{"$f":"COUNTIF($G$3:G338,G338)","v":1},"研修生経済学研究科経済学専攻研修生入試（単願）1","筆記試験なし","筆記試験なし"]
[null,{"$f":"'「志願先」欄  選択一覧'!B179","v":"研修生"},{"$f":"'「志願先」欄  選択一覧'!C179","v":"経済学研究科"},{"$f":"'「志願先」欄  選択一覧'!D179","v":"経済学専攻"},{"$f":"'「志願先」欄  選択一覧'!E179","v":"研修生入試（単願）"},{"$f":"'「志願先」欄  選択一覧'!F179","v":"金融・企業"},"研修生経済学研究科経済学専攻研修生入試（単願）",{"$f":"COUNTIF($G$3:G339,G339)","v":2},"研修生経済学研究科経済学専攻研修生入試（単願）2"]
[null,{"$f":"'「志願先」欄  選択一覧'!B180","v":"研修生"},{"$f":"'「志願先」欄  選択一覧'!C180","v":"経済学研究科"},{"$f":"'「志願先」欄  選択一覧'!D180","v":"経済学専攻"},{"$f":"'「志願先」欄  選択一覧'!E180","v":"研修生入試（単願）"},{"$f":"'「志願先」欄  選択一覧'!F180","v":"政策・環境"},"研修生経済学研究科経済学専攻研修生入試（単願）",{"$f":"COUNTIF($G$3:G340,G340)","v":3},"研修生経済学研究科経済学専攻研修生入試（単願）3"]
[null,{"$f":"'「志願先」欄  選択一覧'!B181","v":"研修生"},{"$f":"'「志願先」欄  選択一覧'!C181","v":"経済学研究科"},{"$f":"'「志願先」欄  選択一覧'!D181","v":"経済学専攻"},{"$f":"'「志願先」欄  選択一覧'!E181","v":"研修生入試（単願）"},{"$f":"'「志願先」欄  選択一覧'!F181","v":"国際・地域"},"研修生経済学研究科経済学専攻研修生入試（単願）",{"$f":"COUNTIF($G$3:G341,G341)","v":4},"研修生経済学研究科経済学専攻研修生入試（単願）4"]
[null,{"$f":"'「志願先」欄  選択一覧'!B182","v":"研修生"},{"$f":"'「志願先」欄  選択一覧'!C182","v":"経済学研究科"},{"$f":"'「志願先」欄  選択一覧'!D182","v":"経済学専攻"},{"$f":"'「志願先」欄  選択一覧'!E182","v":"研修生入試（単願）"},{"$f":"'「志願先」欄  選択一覧'!F182","v":"応用ミクロ・応用マクロ・計量"},"研修生経済学研究科経済学専攻研修生入試（単願）",{"$f":"COUNTIF($G$3:G342,G342)","v":5},"研修生経済学研究科経済学専攻研修生入試（単願）5"]
[null,{"$f":"'「志願先」欄  選択一覧'!B183","v":"研修生"},{"$f":"'「志願先」欄  選択一覧'!C183","v":"法学研究科"},{"$f":"'「志願先」欄  選択一覧'!D183","v":"法律学専攻"},{"$f":"'「志願先」欄  選択一覧'!E183","v":"研修生入試（単願）"},{"$f":"'「志願先」欄  選択一覧'!F183","v":"なし"},"研修生法学研究科法律学専攻研修生入試（単願）",{"$f":"COUNTIF($G$3:G343,G343)","v":1},"研修生法学研究科法律学専攻研修生入試（単願）1","憲法（外国国籍志願者のみ）","日本語（外国国籍志願者のみ）"]
[null,"研修生","法学研究科","法律学専攻","研修生入試（単願）",null,"研修生法学研究科法律学専攻研修生入試（単願）",{"$f":"COUNTIF($G$3:G344,G344)","v":2},"研修生法学研究科法律学専攻研修生入試（単願）2","刑法（外国国籍志願者のみ）","日本語（外国国籍志願者のみ）"]
[null,"研修生","法学研究科","法律学専攻","研修生入試（単願）",null,"研修生法学研究科法律学専攻研修生入試（単願）",{"$f":"COUNTIF($G$3:G345,G345)","v":3},"研修生法学研究科法律学専攻研修生入試（単願）3","経済法（外国国籍志願者のみ）","日本語（外国国籍志願者のみ）"]
[null,"研修生","法学研究科","法律学専攻","研修生入試（単願）",null,"研修生法学研究科法律学専攻研修生入試（単願）",{"$f":"COUNTIF($G$3:G346,G346)","v":4},"研修生法学研究科法律学専攻研修生入試（単願）4","労働法（外国国籍志願者のみ）","日本語（外国国籍志願者のみ）"]
[null,"研修生","法学研究科","法律学専攻","研修生入試（単願）",null,"研修生法学研究科法律学専攻研修生入試（単願）",{"$f":"COUNTIF($G$3:G347,G347)","v":5},"研修生法学研究科法律学専攻研修生入試（単願）5","行政法（外国国籍志願者のみ）","日本語（外国国籍志願者のみ）"]
[null,"研修生","法学研究科","法律学専攻","研修生入試（単願）",null,"研修生法学研究科法律学専攻研修生入試（単願）",{"$f":"COUNTIF($G$3:G348,G348)","v":6},"研修生法学研究科法律学専攻研修生入試（単願）6","民法（家族法を除く）（外国国籍志願者のみ）","日本語（外国国籍志願者のみ）"]
[null,"研修生","法学研究科","法律学専攻","研修生入試（単願）",null,"研修生法学研究科法律学専攻研修生入試（単願）",{"$f":"COUNTIF($G$3:G349,G349)","v":7},"研修生法学研究科法律学専攻研修生入試（単願）7","商法（商法総則、会社法、手形・小切手法）（外国国籍志願者のみ）","日本語（外国国籍志願者のみ）"]
[null,"研修生","法学研究科","法律学専攻","研修生入試（単願）",null,"研修生法学研究科法律学専攻研修生入試（単願）",{"$f":"COUNTIF($G$3:G350,G350)","v":8},"研修生法学研究科法律学専攻研修生入試（単願）8","民事訴訟法（判決手続のみ）（外国国籍志願者のみ）","日本語（外国国籍志願者のみ）"]
[null,"研修生","法学研究科","法律学専攻","研修生入試（単願）",null,"研修生法学研究科法律学専攻研修生入試（単願）",{"$f":"COUNTIF($G$3:G351,G351)","v":9},"研修生法学研究科法律学専攻研修生入試（単願）9","社会保障法（外国国籍志願者のみ）","日本語（外国国籍志願者のみ）"]
[null,"研修生","法学研究科","法律学専攻","研修生入試（単願）",null,"研修生法学研究科法律学専攻研修生入試（単願）",{"$f":"COUNTIF($G$3:G352,G352)","v":10},"研修生法学研究科法律学専攻研修生入試（単願）10","法哲学（外国国籍志願者のみ）","日本語（外国国籍志願者のみ）"]
[null,"研修生","法学研究科","法律学専攻","研修生入試（単願）",null,"研修生法学研究科法律学専攻研修生入試（単願）",{"$f":"COUNTIF($G$3:G353,G353)","v":11},"研修生法学研究科法律学専攻研修生入試（単願）11","日本法制史（外国国籍志願者のみ）","日本語（外国国籍志願者のみ）"]
[null,"研修生","法学研究科","法律学専攻","研修生入試（単願）",null,"研修生法学研究科法律学専攻研修生入試（単願）",{"$f":"COUNTIF($G$3:G354,G354)","v":12},"研修生法学研究科法律学専攻研修生入試（単願）12","国際法（外国国籍志願者のみ）","日本語（外国国籍志願者のみ）"]
[null,"研修生","法学研究科","法律学専攻","研修生入試（単願）",null,"研修生法学研究科法律学専攻研修生入試（単願）",{"$f":"COUNTIF($G$3:G355,G355)","v":13},"研修生法学研究科法律学専攻研修生入試（単願）13","西洋法制史（外国国籍志願者のみ）","日本語（外国国籍志願者のみ）"]
[null,"研修生","法学研究科","法律学専攻","研修生入試（単願）",null,"研修生法学研究科法律学専攻研修生入試（単願）",{"$f":"COUNTIF($G$3:G356,G356)","v":14},"研修生法学研究科法律学専攻研修生入試（単願）14","倒産法（外国国籍志願者のみ）","日本語（外国国籍志願者のみ）"]
[null,"研修生","法学研究科","法律学専攻","研修生入試（単願）",null,"研修生法学研究科法律学専攻研修生入試（単願）",{"$f":"COUNTIF($G$3:G357,G357)","v":15},"研修生法学研究科法律学専攻研修生入試（単願）15","知的財産法（外国国籍志願者のみ）","日本語（外国国籍志願者のみ）"]
[null,"研修生","法学研究科","法律学専攻","研修生入試（単願）",null,{"$f":"B358&C358&D358&E358","v":"研修生法学研究科法律学専攻研修生入試（単願）"},{"$f":"COUNTIF($G$3:G358,G358)","v":16},{"$f":"G358&H358","v":"研修生法学研究科法律学専攻研修生入試（単願）16"},"専門に関する小論文（日本の大学出身者のみ）","外国語科目なし（日本の大学出身者のみ）"]
[null,{"$f":"'「志願先」欄  選択一覧'!B184","v":"研修生"},{"$f":"'「志願先」欄  選択一覧'!C184","v":"政治学研究科"},{"$f":"'「志願先」欄  選択一覧'!D184","v":"政治学専攻"},{"$f":"'「志願先」欄  選択一覧'!E184","v":"研修生入試（単願）"},{"$f":"'「志願先」欄  選択一覧'!F184","v":"なし"},"研修生政治学研究科政治学専攻研修生入試（単願）",{"$f":"COUNTIF($G$3:G359,G359)","v":1},"研修生政治学研究科政治学専攻研修生入試（単願）1","専門科目","なし（日本語を母語とする者のみ）"]
[null,"研修生","政治学研究科","政治学専攻","研修生入試（単願）",null,{"$f":"B360&C360&D360&E360","v":"研修生政治学研究科政治学専攻研修生入試（単願）"},{"$f":"COUNTIF($G$3:G360,G360)","v":2},{"$f":"G360&H360","v":"研修生政治学研究科政治学専攻研修生入試（単願）2"},"専門科目","日本語（日本語を母語とする者以外）"]
[null,{"$f":"'「志願先」欄  選択一覧'!B185","v":"研修生"},{"$f":"'「志願先」欄  選択一覧'!C185","v":"政治学研究科"},{"$f":"'「志願先」欄  選択一覧'!D185","v":"国際政治学専攻"},{"$f":"'「志願先」欄  選択一覧'!E185","v":"研修生入試（単願）"},{"$f":"'「志願先」欄  選択一覧'!F185","v":"なし"},"研修生政治学研究科国際政治学専攻研修生入試（単願）",{"$f":"COUNTIF($G$3:G361,G361)","v":1},"研修生政治学研究科国際政治学専攻研修生入試（単願）1","筆記試験なし","筆記試験なし"]
[null,{"$f":"'「志願先」欄  選択一覧'!B186","v":"研修生"},{"$f":"'「志願先」欄  選択一覧'!C186","v":"社会学研究科"},{"$f":"'「志願先」欄  選択一覧'!D186","v":"社会学専攻"},{"$f":"'「志願先」欄  選択一覧'!E186","v":"研修生入試（単願）"},{"$f":"'「志願先」欄  選択一覧'!F186","v":"社会学コース"},"研修生社会学研究科社会学専攻研修生入試（単願）",{"$f":"COUNTIF($G$3:G362,G362)","v":1},"研修生社会学研究科社会学専攻研修生入試（単願）1","社会学【社会学コース志願者のみ】","なし"]
[null,{"$f":"'「志願先」欄  選択一覧'!B187","v":"研修生"},{"$f":"'「志願先」欄  選択一覧'!C187","v":"社会学研究科"},{"$f":"'「志願先」欄  選択一覧'!D187","v":"社会学専攻"},{"$f":"'「志願先」欄  選択一覧'!E187","v":"研修生入試（単願）"},{"$f":"'「志願先」欄  選択一覧'!F187","v":"メディアコース"},"研修生社会学研究科社会学専攻研修生入試（単願）",{"$f":"COUNTIF($G$3:G363,G363)","v":2},"研修生社会学研究科社会学専攻研修生入試（単願）2","メディア論【メディアコース志願者のみ】","なし"]
[null,{"$f":"'「志願先」欄  選択一覧'!B188","v":"研修生"},{"$f":"'「志願先」欄  選択一覧'!C188","v":"経営学研究科"},{"$f":"'「志願先」欄  選択一覧'!D188","v":"経営学専攻"},{"$f":"'「志願先」欄  選択一覧'!E188","v":"研修生入試（単願）"},{"$f":"'「志願先」欄  選択一覧'!F188","v":"戦略・企業家"},"研修生経営学研究科経営学専攻研修生入試（単願）",{"$f":"COUNTIF($G$3:G364,G364)","v":1},"研修生経営学研究科経営学専攻研修生入試（単願）1","専門科目（外国国籍を有する志願者のみ）","なし"]
[null,{"$f":"'「志願先」欄  選択一覧'!B189","v":"研修生"},{"$f":"'「志願先」欄  選択一覧'!C189","v":"経営学研究科"},{"$f":"'「志願先」欄  選択一覧'!D189","v":"経営学専攻"},{"$f":"'「志願先」欄  選択一覧'!E189","v":"研修生入試（単願）"},{"$f":"'「志願先」欄  選択一覧'!F189","v":"マーケティング"},{"$f":"B365&C365&D365&E365","v":"研修生経営学研究科経営学専攻研修生入試（単願）"},{"$f":"COUNTIF($G$3:G365,G365)","v":2},"研修生経営学研究科経営学専攻研修生入試（単願）2","英語（日本国籍を有する志願者のみ）","なし"]
[null,{"$f":"'「志願先」欄  選択一覧'!B190","v":"研修生"},{"$f":"'「志願先」欄  選択一覧'!C190","v":"経営学研究科"},{"$f":"'「志願先」欄  選択一覧'!D190","v":"経営学専攻"},{"$f":"'「志願先」欄  選択一覧'!E190","v":"研修生入試（単願）"},{"$f":"'「志願先」欄  選択一覧'!F190","v":"国際経営"},"研修生経営学研究科経営学専攻研修生入試（単願）",{"$f":"COUNTIF($G$3:G366,G366)","v":3},"研修生経営学研究科経営学専攻研修生入試（単願）3"]
[null,{"$f":"'「志願先」欄  選択一覧'!B191","v":"研修生"},{"$f":"'「志願先」欄  選択一覧'!C191","v":"経営学研究科"},{"$f":"'「志願先」欄  選択一覧'!D191","v":"経営学専攻"},{"$f":"'「志願先」欄  選択一覧'!E191","v":"研修生入試（単願）"},{"$f":"'「志願先」欄  選択一覧'!F191","v":"経営史"},"研修生経営学研究科経営学専攻研修生入試（単願）",{"$f":"COUNTIF($G$3:G367,G367)","v":4},"研修生経営学研究科経営学専攻研修生入試（単願）4"]
[null,{"$f":"'「志願先」欄  選択一覧'!B192","v":"研修生"},{"$f":"'「志願先」欄  選択一覧'!C192","v":"経営学研究科"},{"$f":"'「志願先」欄  選択一覧'!D192","v":"経営学専攻"},{"$f":"'「志願先」欄  選択一覧'!E192","v":"研修生入試（単願）"},{"$f":"'「志願先」欄  選択一覧'!F192","v":"会計"},"研修生経営学研究科経営学専攻研修生入試（単願）",{"$f":"COUNTIF($G$3:G368,G368)","v":5},"研修生経営学研究科経営学専攻研修生入試（単願）5"]
[null,{"$f":"'「志願先」欄  選択一覧'!B193","v":"研修生"},{"$f":"'「志願先」欄  選択一覧'!C193","v":"経営学研究科"},{"$f":"'「志願先」欄  選択一覧'!D193","v":"経営学専攻"},{"$f":"'「志願先」欄  選択一覧'!E193","v":"研修生入試（単願）"},{"$f":"'「志願先」欄  選択一覧'!F193","v":"経済"},"研修生経営学研究科経営学専攻研修生入試（単願）",{"$f":"COUNTIF($G$3:G369,G369)","v":6},"研修生経営学研究科経営学専攻研修生入試（単願）6"]
[null,{"$f":"'「志願先」欄  選択一覧'!B194","v":"研修生"},{"$f":"'「志願先」欄  選択一覧'!C194","v":"経営学研究科"},{"$f":"'「志願先」欄  選択一覧'!D194","v":"経営学専攻"},{"$f":"'「志願先」欄  選択一覧'!E194","v":"研修生入試（単願）"},{"$f":"'「志願先」欄  選択一覧'!F194","v":"組織・人事"},"研修生経営学研究科経営学専攻研修生入試（単願）",{"$f":"COUNTIF($G$3:G370,G370)","v":7},"研修生経営学研究科経営学専攻研修生入試（単願）7"]
[null,{"$f":"'「志願先」欄  選択一覧'!B195","v":"研修生"},{"$f":"'「志願先」欄  選択一覧'!C195","v":"経営学研究科"},{"$f":"'「志願先」欄  選択一覧'!D195","v":"経営学専攻"},{"$f":"'「志願先」欄  選択一覧'!E195","v":"研修生入試（単願）"},{"$f":"'「志願先」欄  選択一覧'!F195","v":"ファイナンス"},"研修生経営学研究科経営学専攻研修生入試（単願）",{"$f":"COUNTIF($G$3:G371,G371)","v":8},"研修生経営学研究科経営学専攻研修生入試（単願）8"]
[null,{"$f":"'「志願先」欄  選択一覧'!B196","v":"研修生"},{"$f":"'「志願先」欄  選択一覧'!C196","v":"経営学研究科"},{"$f":"'「志願先」欄  選択一覧'!D196","v":"経営学専攻"},{"$f":"'「志願先」欄  選択一覧'!E196","v":"研修生入試（単願）"},{"$f":"'「志願先」欄  選択一覧'!F196","v":"AI・データサイエンス"},"研修生経営学研究科経営学専攻研修生入試（単願）",{"$f":"COUNTIF($G$3:G372,G372)","v":9},"研修生経営学研究科経営学専攻研修生入試（単願）9"]
[null,{"$f":"'「志願先」欄  選択一覧'!B197","v":"修士課程"},{"$f":"'「志願先」欄  選択一覧'!C197","v":"人文科学研究科"},{"$f":"'「志願先」欄  選択一覧'!D197","v":"英文学専攻"},{"$f":"'「志願先」欄  選択一覧'!E197","v":"推薦枠入試"},{"$f":"'「志願先」欄  選択一覧'!F197","v":"なし"},"修士課程人文科学研究科英文学専攻推薦枠入試",{"$f":"COUNTIF($G$3:G373,G373)","v":1},"修士課程人文科学研究科英文学専攻推薦枠入試1","筆記試験なし","筆記試験なし"]
[null,{"$f":"'「志願先」欄  選択一覧'!B198","v":"修士課程"},{"$f":"'「志願先」欄  選択一覧'!C198","v":"人文科学研究科"},{"$f":"'「志願先」欄  選択一覧'!D198","v":"地理学専攻"},{"$f":"'「志願先」欄  選択一覧'!E198","v":"学内入試"},{"$f":"'「志願先」欄  選択一覧'!F198","v":"なし"},"修士課程人文科学研究科地理学専攻学内入試",{"$f":"COUNTIF($G$3:G374,G374)","v":1},"修士課程人文科学研究科地理学専攻学内入試1","筆記試験なし","筆記試験なし"]
[null,{"$f":"'「志願先」欄  選択一覧'!B199","v":"修士課程"},{"$f":"'「志願先」欄  選択一覧'!C199","v":"人文科学研究科"},{"$f":"'「志願先」欄  選択一覧'!D199","v":"心理学専攻"},{"$f":"'「志願先」欄  選択一覧'!E199","v":"学内入試"},{"$f":"'「志願先」欄  選択一覧'!F199","v":"なし"},"修士課程人文科学研究科心理学専攻学内入試",{"$f":"COUNTIF($G$3:G375,G375)","v":1},"修士課程人文科学研究科心理学専攻学内入試1","専門科目","英語"]
[null,{"$f":"'「志願先」欄  選択一覧'!B200","v":"修士課程"},{"$f":"'「志願先」欄  選択一覧'!C200","v":"国際文化研究科"},{"$f":"'「志願先」欄  選択一覧'!D200","v":"国際文化専攻"},{"$f":"'「志願先」欄  選択一覧'!E200","v":"学内入試"},{"$f":"'「志願先」欄  選択一覧'!F200","v":"なし"},"修士課程国際文化研究科国際文化専攻学内入試",{"$f":"COUNTIF($G$3:G376,G376)","v":1},"修士課程国際文化研究科国際文化専攻学内入試1","筆記試験なし","筆記試験なし"]
[null,{"$f":"'「志願先」欄  選択一覧'!B201","v":"修士課程"},{"$f":"'「志願先」欄  選択一覧'!C201","v":"経済学研究科"},{"$f":"'「志願先」欄  選択一覧'!D201","v":"経済学専攻"},{"$f":"'「志願先」欄  選択一覧'!E201","v":"学部内入試"},{"$f":"'「志願先」欄  選択一覧'!F201","v":"修士M.A.（歴史・思想・制度）"},"修士課程経済学研究科経済学専攻学部内入試",{"$f":"COUNTIF($G$3:G377,G377)","v":1},"修士課程経済学研究科経済学専攻学部内入試1","筆記試験なし","筆記試験なし"]
[null,{"$f":"'「志願先」欄  選択一覧'!B202","v":"修士課程"},{"$f":"'「志願先」欄  選択一覧'!C202","v":"経済学研究科"},{"$f":"'「志願先」欄  選択一覧'!D202","v":"経済学専攻"},{"$f":"'「志願先」欄  選択一覧'!E202","v":"学部内入試"},{"$f":"'「志願先」欄  選択一覧'!F202","v":"修士M.A.（金融・企業）"},"修士課程経済学研究科経済学専攻学部内入試",{"$f":"COUNTIF($G$3:G378,G378)","v":2},"修士課程経済学研究科経済学専攻学部内入試2"]
[null,{"$f":"'「志願先」欄  選択一覧'!B203","v":"修士課程"},{"$f":"'「志願先」欄  選択一覧'!C203","v":"経済学研究科"},{"$f":"'「志願先」欄  選択一覧'!D203","v":"経済学専攻"},{"$f":"'「志願先」欄  選択一覧'!E203","v":"学部内入試"},{"$f":"'「志願先」欄  選択一覧'!F203","v":"修士M.A.（政策・環境）"},"修士課程経済学研究科経済学専攻学部内入試",{"$f":"COUNTIF($G$3:G379,G379)","v":3},"修士課程経済学研究科経済学専攻学部内入試3"]
[null,{"$f":"'「志願先」欄  選択一覧'!B204","v":"修士課程"},{"$f":"'「志願先」欄  選択一覧'!C204","v":"経済学研究科"},{"$f":"'「志願先」欄  選択一覧'!D204","v":"経済学専攻"},{"$f":"'「志願先」欄  選択一覧'!E204","v":"学部内入試"},{"$f":"'「志願先」欄  選択一覧'!F204","v":"修士M.A.（国際・地域）"},"修士課程経済学研究科経済学専攻学部内入試",{"$f":"COUNTIF($G$3:G380,G380)","v":4},"修士課程経済学研究科経済学専攻学部内入試4"]
[null,{"$f":"'「志願先」欄  選択一覧'!B205","v":"修士課程"},{"$f":"'「志願先」欄  選択一覧'!C205","v":"経済学研究科"},{"$f":"'「志願先」欄  選択一覧'!D205","v":"経済学専攻"},{"$f":"'「志願先」欄  選択一覧'!E205","v":"学部内入試"},{"$f":"'「志願先」欄  選択一覧'!F205","v":"修士M.A.（応用ミクロ・応用マクロ・計量）"},"修士課程経済学研究科経済学専攻学部内入試",{"$f":"COUNTIF($G$3:G381,G381)","v":5},"修士課程経済学研究科経済学専攻学部内入試5"]
[null,{"$f":"'「志願先」欄  選択一覧'!B206","v":"修士課程"},{"$f":"'「志願先」欄  選択一覧'!C206","v":"経済学研究科"},{"$f":"'「志願先」欄  選択一覧'!D206","v":"経済学専攻"},{"$f":"'「志願先」欄  選択一覧'!E206","v":"学部内入試"},{"$f":"'「志願先」欄  選択一覧'!F206","v":"博士5年Ph.D.（歴史・思想・制度）"},"修士課程経済学研究科経済学専攻学部内入試",{"$f":"COUNTIF($G$3:G382,G382)","v":6},"修士課程経済学研究科経済学専攻学部内入試6"]
[null,{"$f":"'「志願先」欄  選択一覧'!B207","v":"修士課程"},{"$f":"'「志願先」欄  選択一覧'!C207","v":"経済学研究科"},{"$f":"'「志願先」欄  選択一覧'!D207","v":"経済学専攻"},{"$f":"'「志願先」欄  選択一覧'!E207","v":"学部内入試"},{"$f":"'「志願先」欄  選択一覧'!F207","v":"博士5年Ph.D.（金融・企業）"},"修士課程経済学研究科経済学専攻学部内入試",{"$f":"COUNTIF($G$3:G383,G383)","v":7},"修士課程経済学研究科経済学専攻学部内入試7"]
[null,{"$f":"'「志願先」欄  選択一覧'!B208","v":"修士課程"},{"$f":"'「志願先」欄  選択一覧'!C208","v":"経済学研究科"},{"$f":"'「志願先」欄  選択一覧'!D208","v":"経済学専攻"},{"$f":"'「志願先」欄  選択一覧'!E208","v":"学部内入試"},{"$f":"'「志願先」欄  選択一覧'!F208","v":"博士5年Ph.D.（政策・環境）"},"修士課程経済学研究科経済学専攻学部内入試",{"$f":"COUNTIF($G$3:G384,G384)","v":8},"修士課程経済学研究科経済学専攻学部内入試8"]
[null,{"$f":"'「志願先」欄  選択一覧'!B209","v":"修士課程"},{"$f":"'「志願先」欄  選択一覧'!C209","v":"経済学研究科"},{"$f":"'「志願先」欄  選択一覧'!D209","v":"経済学専攻"},{"$f":"'「志願先」欄  選択一覧'!E209","v":"学部内入試"},{"$f":"'「志願先」欄  選択一覧'!F209","v":"博士5年Ph.D.（国際・地域）"},"修士課程経済学研究科経済学専攻学部内入試",{"$f":"COUNTIF($G$3:G385,G385)","v":9},"修士課程経済学研究科経済学専攻学部内入試9"]
[null,{"$f":"'「志願先」欄  選択一覧'!B210","v":"修士課程"},{"$f":"'「志願先」欄  選択一覧'!C210","v":"経済学研究科"},{"$f":"'「志願先」欄  選択一覧'!D210","v":"経済学専攻"},{"$f":"'「志願先」欄  選択一覧'!E210","v":"学部内入試"},{"$f":"'「志願先」欄  選択一覧'!F210","v":"博士5年Ph.D.（応用ミクロ・応用マクロ・計量）"},"修士課程経済学研究科経済学専攻学部内入試",{"$f":"COUNTIF($G$3:G386,G386)","v":10},"修士課程経済学研究科経済学専攻学部内入試10"]
[null,{"$f":"'「志願先」欄  選択一覧'!B211","v":"修士課程"},{"$f":"'「志願先」欄  選択一覧'!C211","v":"経済学研究科"},{"$f":"'「志願先」欄  選択一覧'!D211","v":"経済学専攻"},{"$f":"'「志願先」欄  選択一覧'!E211","v":"学部内入試"},{"$f":"'「志願先」欄  選択一覧'!F211","v":"1年制"},"修士課程経済学研究科経済学専攻学部内入試",{"$f":"COUNTIF($G$3:G387,G387)","v":11},"修士課程経済学研究科経済学専攻学部内入試11"]
[null,{"$f":"'「志願先」欄  選択一覧'!B212","v":"修士課程"},{"$f":"'「志願先」欄  選択一覧'!C212","v":"経済学研究科"},{"$f":"'「志願先」欄  選択一覧'!D212","v":"経済学専攻"},{"$f":"'「志願先」欄  選択一覧'!E212","v":"学部内入試"},{"$f":"'「志願先」欄  選択一覧'!F212","v":"1年制"},"修士課程経済学研究科経済学専攻学部内入試",{"$f":"COUNTIF($G$3:G388,G388)","v":12},"修士課程経済学研究科経済学専攻学部内入試12"]
[null,{"$f":"'「志願先」欄  選択一覧'!B213","v":"修士課程"},{"$f":"'「志願先」欄  選択一覧'!C213","v":"経済学研究科"},{"$f":"'「志願先」欄  選択一覧'!D213","v":"経済学専攻"},{"$f":"'「志願先」欄  選択一覧'!E213","v":"学部内入試"},{"$f":"'「志願先」欄  選択一覧'!F213","v":"1年制"},"修士課程経済学研究科経済学専攻学部内入試",{"$f":"COUNTIF($G$3:G389,G389)","v":13},"修士課程経済学研究科経済学専攻学部内入試13"]
[null,{"$f":"'「志願先」欄  選択一覧'!B214","v":"修士課程"},{"$f":"'「志願先」欄  選択一覧'!C214","v":"経済学研究科"},{"$f":"'「志願先」欄  選択一覧'!D214","v":"経済学専攻"},{"$f":"'「志願先」欄  選択一覧'!E214","v":"学部内入試"},{"$f":"'「志願先」欄  選択一覧'!F214","v":"1年制"},"修士課程経済学研究科経済学専攻学部内入試",{"$f":"COUNTIF($G$3:G390,G390)","v":14},"修士課程経済学研究科経済学専攻学部内入試14"]
[null,{"$f":"'「志願先」欄  選択一覧'!B215","v":"修士課程"},{"$f":"'「志願先」欄  選択一覧'!C215","v":"経済学研究科"},{"$f":"'「志願先」欄  選択一覧'!D215","v":"経済学専攻"},{"$f":"'「志願先」欄  選択一覧'!E215","v":"学部内入試"},{"$f":"'「志願先」欄  選択一覧'!F215","v":"1年制"},"修士課程経済学研究科経済学専攻学部内入試",{"$f":"COUNTIF($G$3:G391,G391)","v":15},"修士課程経済学研究科経済学専攻学部内入試15"]
[null,{"$f":"'「志願先」欄  選択一覧'!B216","v":"修士課程"},{"$f":"'「志願先」欄  選択一覧'!C216","v":"経済学研究科"},{"$f":"'「志願先」欄  選択一覧'!D216","v":"経済学専攻"},{"$f":"'「志願先」欄  選択一覧'!E216","v":"学部内入試"},{"$f":"'「志願先」欄  選択一覧'!F216","v":"1年制"},"修士課程経済学研究科経済学専攻学部内入試",{"$f":"COUNTIF($G$3:G392,G392)","v":16},"修士課程経済学研究科経済学専攻学部内入試16"]
[null,{"$f":"'「志願先」欄  選択一覧'!B217","v":"修士課程"},{"$f":"'「志願先」欄  選択一覧'!C217","v":"経済学研究科"},{"$f":"'「志願先」欄  選択一覧'!D217","v":"経済学専攻"},{"$f":"'「志願先」欄  選択一覧'!E217","v":"学部内入試"},{"$f":"'「志願先」欄  選択一覧'!F217","v":"1年制"},"修士課程経済学研究科経済学専攻学部内入試",{"$f":"COUNTIF($G$3:G393,G393)","v":17},"修士課程経済学研究科経済学専攻学部内入試17"]
[null,{"$f":"'「志願先」欄  選択一覧'!B218","v":"修士課程"},{"$f":"'「志願先」欄  選択一覧'!C218","v":"経済学研究科"},{"$f":"'「志願先」欄  選択一覧'!D218","v":"経済学専攻"},{"$f":"'「志願先」欄  選択一覧'!E218","v":"学部内入試"},{"$f":"'「志願先」欄  選択一覧'!F218","v":"1年制"},"修士課程経済学研究科経済学専攻学部内入試",{"$f":"COUNTIF($G$3:G394,G394)","v":18},"修士課程経済学研究科経済学専攻学部内入試18"]
[null,{"$f":"'「志願先」欄  選択一覧'!B219","v":"修士課程"},{"$f":"'「志願先」欄  選択一覧'!C219","v":"経済学研究科"},{"$f":"'「志願先」欄  選択一覧'!D219","v":"経済学専攻"},{"$f":"'「志願先」欄  選択一覧'!E219","v":"学部内入試"},{"$f":"'「志願先」欄  選択一覧'!F219","v":"1年制"},"修士課程経済学研究科経済学専攻学部内入試",{"$f":"COUNTIF($G$3:G395,G395)","v":19},"修士課程経済学研究科経済学専攻学部内入試19"]
[null,{"$f":"'「志願先」欄  選択一覧'!B220","v":"修士課程"},{"$f":"'「志願先」欄  選択一覧'!C220","v":"経済学研究科"},{"$f":"'「志願先」欄  選択一覧'!D220","v":"経済学専攻"},{"$f":"'「志願先」欄  選択一覧'!E220","v":"学部内入試"},{"$f":"'「志願先」欄  選択一覧'!F220","v":"1年制"},"修士課程経済学研究科経済学専攻学部内入試",{"$f":"COUNTIF($G$3:G396,G396)","v":20},"修士課程経済学研究科経済学専攻学部内入試20"]
[null,{"$f":"'「志願先」欄  選択一覧'!B221","v":"修士課程"},{"$f":"'「志願先」欄  選択一覧'!C221","v":"法学研究科"},{"$f":"'「志願先」欄  選択一覧'!D221","v":"法律学専攻"},{"$f":"'「志願先」欄  選択一覧'!E221","v":"学科内入試"},{"$f":"'「志願先」欄  選択一覧'!F221","v":"なし"},"修士課程法学研究科法律学専攻学科内入試",{"$f":"COUNTIF($G$3:G397,G397)","v":1},"修士課程法学研究科法律学専攻学科内入試1","筆記試験なし","筆記試験なし"]
[null,{"$f":"'「志願先」欄  選択一覧'!B222","v":"修士課程"},{"$f":"'「志願先」欄  選択一覧'!C222","v":"政治学研究科"},{"$f":"'「志願先」欄  選択一覧'!D222","v":"政治学専攻"},{"$f":"'「志願先」欄  選択一覧'!E222","v":"学内入試"},{"$f":"'「志願先」欄  選択一覧'!F222","v":"なし"},"修士課程政治学研究科政治学専攻学内入試",{"$f":"COUNTIF($G$3:G398,G398)","v":1},"修士課程政治学研究科政治学専攻学内入試1","筆記試験なし","筆記試験なし"]
[null,{"$f":"'「志願先」欄  選択一覧'!B223","v":"修士課程"},{"$f":"'「志願先」欄  選択一覧'!C223","v":"政治学研究科"},{"$f":"'「志願先」欄  選択一覧'!D223","v":"国際政治学専攻"},{"$f":"'「志願先」欄  選択一覧'!E223","v":"学内入試"},{"$f":"'「志願先」欄  選択一覧'!F223","v":"なし"},"修士課程政治学研究科国際政治学専攻学内入試",{"$f":"COUNTIF($G$3:G399,G399)","v":1},{"$f":"G399&H399","v":"修士課程政治学研究科国際政治学専攻学内入試1"},"筆記試験なし","筆記試験なし"]
[null,{"$f":"'「志願先」欄  選択一覧'!B224","v":"修士課程"},{"$f":"'「志願先」欄  選択一覧'!C224","v":"社会学研究科"},{"$f":"'「志願先」欄  選択一覧'!D224","v":"社会学専攻"},{"$f":"'「志願先」欄  選択一覧'!E224","v":"学内入試"},{"$f":"'「志願先」欄  選択一覧'!F224","v":"社会学コース"},"修士課程社会学研究科社会学専攻学内入試",{"$f":"COUNTIF($G$3:G400,G400)","v":1},"修士課程社会学研究科社会学専攻学内入試1","筆記試験なし","筆記試験なし"]
[null,{"$f":"'「志願先」欄  選択一覧'!B225","v":"修士課程"},{"$f":"'「志願先」欄  選択一覧'!C225","v":"社会学研究科"},{"$f":"'「志願先」欄  選択一覧'!D225","v":"社会学専攻"},{"$f":"'「志願先」欄  選択一覧'!E225","v":"学内入試"},{"$f":"'「志願先」欄  選択一覧'!F225","v":"メディアコース"},"修士課程社会学研究科社会学専攻学内入試",{"$f":"COUNTIF($G$3:G401,G401)","v":2},"修士課程社会学研究科社会学専攻学内入試2"]
[null,{"$f":"'「志願先」欄  選択一覧'!B226","v":"修士課程"},{"$f":"'「志願先」欄  選択一覧'!C226","v":"経営学研究科"},{"$f":"'「志願先」欄  選択一覧'!D226","v":"経営学専攻"},{"$f":"'「志願先」欄  選択一覧'!E226","v":"学内入試"},{"$f":"'「志願先」欄  選択一覧'!F226","v":"戦略・企業家"},"修士課程経営学研究科経営学専攻学内入試",{"$f":"COUNTIF($G$3:G402,G402)","v":1},"修士課程経営学研究科経営学専攻学内入試1","筆記試験なし","筆記試験なし"]
[null,{"$f":"'「志願先」欄  選択一覧'!B227","v":"修士課程"},{"$f":"'「志願先」欄  選択一覧'!C227","v":"経営学研究科"},{"$f":"'「志願先」欄  選択一覧'!D227","v":"経営学専攻"},{"$f":"'「志願先」欄  選択一覧'!E227","v":"学内入試"},{"$f":"'「志願先」欄  選択一覧'!F227","v":"マーケティング"},"修士課程経営学研究科経営学専攻学内入試",{"$f":"COUNTIF($G$3:G403,G403)","v":2},"修士課程経営学研究科経営学専攻学内入試2"]
[null,{"$f":"'「志願先」欄  選択一覧'!B228","v":"修士課程"},{"$f":"'「志願先」欄  選択一覧'!C228","v":"経営学研究科"},{"$f":"'「志願先」欄  選択一覧'!D228","v":"経営学専攻"},{"$f":"'「志願先」欄  選択一覧'!E228","v":"学内入試"},{"$f":"'「志願先」欄  選択一覧'!F228","v":"国際経営"},"修士課程経営学研究科経営学専攻学内入試",{"$f":"COUNTIF($G$3:G404,G404)","v":3},"修士課程経営学研究科経営学専攻学内入試3"]
[null,{"$f":"'「志願先」欄  選択一覧'!B229","v":"修士課程"},{"$f":"'「志願先」欄  選択一覧'!C229","v":"経営学研究科"},{"$f":"'「志願先」欄  選択一覧'!D229","v":"経営学専攻"},{"$f":"'「志願先」欄  選択一覧'!E229","v":"学内入試"},{"$f":"'「志願先」欄  選択一覧'!F229","v":"経営史"},"修士課程経営学研究科経営学専攻学内入試",{"$f":"COUNTIF($G$3:G405,G405)","v":4},"修士課程経営学研究科経営学専攻学内入試4"]
[null,{"$f":"'「志願先」欄  選択一覧'!B230","v":"修士課程"},{"$f":"'「志願先」欄  選択一覧'!C230","v":"経営学研究科"},{"$f":"'「志願先」欄  選択一覧'!D230","v":"経営学専攻"},{"$f":"'「志願先」欄  選択一覧'!E230","v":"学内入試"},{"$f":"'「志願先」欄  選択一覧'!F230","v":"会計"},"修士課程経営学研究科経営学専攻学内入試",{"$f":"COUNTIF($G$3:G406,G406)","v":5},"修士課程経営学研究科経営学専攻学内入試5"]
[null,{"$f":"'「志願先」欄  選択一覧'!B231","v":"修士課程"},{"$f":"'「志願先」欄  選択一覧'!C231","v":"経営学研究科"},{"$f":"'「志願先」欄  選択一覧'!D231","v":"経営学専攻"},{"$f":"'「志願先」欄  選択一覧'!E231","v":"学内入試"},{"$f":"'「志願先」欄  選択一覧'!F231","v":"経済"},"修士課程経営学研究科経営学専攻学内入試",{"$f":"COUNTIF($G$3:G407,G407)","v":6},"修士課程経営学研究科経営学専攻学内入試6"]
[null,{"$f":"'「志願先」欄  選択一覧'!B232","v":"修士課程"},{"$f":"'「志願先」欄  選択一覧'!C232","v":"経営学研究科"},{"$f":"'「志願先」欄  選択一覧'!D232","v":"経営学専攻"},{"$f":"'「志願先」欄  選択一覧'!E232","v":"学内入試"},{"$f":"'「志願先」欄  選択一覧'!F232","v":"組織・人事"},"修士課程経営学研究科経営学専攻学内入試",{"$f":"COUNTIF($G$3:G408,G408)","v":7},"修士課程経営学研究科経営学専攻学内入試7"]
[null,{"$f":"'「志願先」欄  選択一覧'!B233","v":"修士課程"},{"$f":"'「志願先」欄  選択一覧'!C233","v":"経営学研究科"},{"$f":"'「志願先」欄  選択一覧'!D233","v":"経営学専攻"},{"$f":"'「志願先」欄  選択一覧'!E233","v":"学内入試"},{"$f":"'「志願先」欄  選択一覧'!F233","v":"ファイナンス"},"修士課程経営学研究科経営学専攻学内入試",{"$f":"COUNTIF($G$3:G409,G409)","v":8},"修士課程経営学研究科経営学専攻学内入試8"]
[null,{"$f":"'「志願先」欄  選択一覧'!B234","v":"修士課程"},{"$f":"'「志願先」欄  選択一覧'!C234","v":"経営学研究科"},{"$f":"'「志願先」欄  選択一覧'!D234","v":"経営学専攻"},{"$f":"'「志願先」欄  選択一覧'!E234","v":"学内入試"},{"$f":"'「志願先」欄  選択一覧'!F234","v":"AI・データサイエンス"},"修士課程経営学研究科経営学専攻学内入試",{"$f":"COUNTIF($G$3:G410,G410)","v":9},"修士課程経営学研究科経営学専攻学内入試9"]

{"sheet":"その他入力規則","index":4,"n_rows":234,"n_cols":15,"rows_kept":234,"cut":false,"hidden":true,"merged":[]}
[]
[null,"A_課程","B_研究科","C_専攻","D_入試経路","E_その他の選択","A＋B＋C＋D","F_研修生との併願",null,null,null,null,"F_研修生との併願"]
[null,{"$f":"'「志願先」欄  選択一覧'!B3","v":"修士課程"},{"$f":"'「志願先」欄  選択一覧'!C3","v":"人文科学研究科"},{"$f":"'「志願先」欄  選択一覧'!D3","v":"哲学専攻"},{"$f":"'「志願先」欄  選択一覧'!E3","v":"一般入試"},{"$f":"'「志願先」欄  選択一覧'!F3","v":"なし"},{"$f":"B3&C3&D3&E3","v":"修士課程人文科学研究科哲学専攻一般入試"},{"$f":"'「志願先」欄  選択一覧'!G3","v":"併願可"},null,null,null,null,"併願可","併願不可","該当なし"]
[null,{"$f":"'「志願先」欄  選択一覧'!B4","v":"修士課程"},{"$f":"'「志願先」欄  選択一覧'!C4","v":"人文科学研究科"},{"$f":"'「志願先」欄  選択一覧'!D4","v":"哲学専攻"},{"$f":"'「志願先」欄  選択一覧'!E4","v":"社会人入試"},{"$f":"'「志願先」欄  選択一覧'!F4","v":"なし"},{"$f":"B4&C4&D4&E4","v":"修士課程人文科学研究科哲学専攻社会人入試"},{"$f":"'「志願先」欄  選択一覧'!G4","v":"併願可"},null,null,null,null,"併願を希望する"]
[null,{"$f":"'「志願先」欄  選択一覧'!B5","v":"修士課程"},{"$f":"'「志願先」欄  選択一覧'!C5","v":"人文科学研究科"},{"$f":"'「志願先」欄  選択一覧'!D5","v":"日本文学専攻"},{"$f":"'「志願先」欄  選択一覧'!E5","v":"一般入試"},{"$f":"'「志願先」欄  選択一覧'!F5","v":"プログラム選択なし"},"修士課程人文科学研究科日本文学専攻一般入試",{"$f":"'「志願先」欄  選択一覧'!G5","v":"併願可"},null,null,null,null,"併願を希望しない"]
[null,{"$f":"'「志願先」欄  選択一覧'!B6","v":"修士課程"},{"$f":"'「志願先」欄  選択一覧'!C6","v":"人文科学研究科"},{"$f":"'「志願先」欄  選択一覧'!D6","v":"日本文学専攻"},{"$f":"'「志願先」欄  選択一覧'!E6","v":"一般入試"},{"$f":"'「志願先」欄  選択一覧'!F6","v":"文芸創作研究プログラム"},"修士課程人文科学研究科日本文学専攻一般入試",{"$f":"'「志願先」欄  選択一覧'!G6","v":"併願可"}]
[null,{"$f":"'「志願先」欄  選択一覧'!B7","v":"修士課程"},{"$f":"'「志願先」欄  選択一覧'!C7","v":"人文科学研究科"},{"$f":"'「志願先」欄  選択一覧'!D7","v":"日本文学専攻"},{"$f":"'「志願先」欄  選択一覧'!E7","v":"一般入試"},{"$f":"'「志願先」欄  選択一覧'!F7","v":"能楽研究者育成プログラム"},"修士課程人文科学研究科日本文学専攻一般入試",{"$f":"'「志願先」欄  選択一覧'!G7","v":"併願可"}]
[null,{"$f":"'「志願先」欄  選択一覧'!B8","v":"修士課程"},{"$f":"'「志願先」欄  選択一覧'!C8","v":"人文科学研究科"},{"$f":"'「志願先」欄  選択一覧'!D8","v":"日本文学専攻"},{"$f":"'「志願先」欄  選択一覧'!E8","v":"外国人入試"},{"$f":"'「志願先」欄  選択一覧'!F8","v":"プログラム選択なし"},"修士課程人文科学研究科日本文学専攻外国人入試",{"$f":"'「志願先」欄  選択一覧'!G8","v":"併願可"}]
[null,{"$f":"'「志願先」欄  選択一覧'!B9","v":"修士課程"},{"$f":"'「志願先」欄  選択一覧'!C9","v":"人文科学研究科"},{"$f":"'「志願先」欄  選択一覧'!D9","v":"日本文学専攻"},{"$f":"'「志願先」欄  選択一覧'!E9","v":"外国人入試"},{"$f":"'「志願先」欄  選択一覧'!F9","v":"文芸創作研究プログラム"},"修士課程人文科学研究科日本文学専攻外国人入試",{"$f":"'「志願先」欄  選択一覧'!G9","v":"併願可"}]
[null,{"$f":"'「志願先」欄  選択一覧'!B10","v":"修士課程"},{"$f":"'「志願先」欄  選択一覧'!C10","v":"人文科学研究科"},{"$f":"'「志願先」欄  選択一覧'!D10","v":"日本文学専攻"},{"$f":"'「志願先」欄  選択一覧'!E10","v":"外国人入試"},{"$f":"'「志願先」欄  選択一覧'!F10","v":"能楽研究者育成プログラム"},"修士課程人文科学研究科日本文学専攻外国人入試",{"$f":"'「志願先」欄  選択一覧'!G10","v":"併願可"}]
[null,{"$f":"'「志願先」欄  選択一覧'!B11","v":"修士課程"},{"$f":"'「志願先」欄  選択一覧'!C11","v":"人文科学研究科"},{"$f":"'「志願先」欄  選択一覧'!D11","v":"日本文学専攻"},{"$f":"'「志願先」欄  選択一覧'!E11","v":"社会人入試"},{"$f":"'「志願先」欄  選択一覧'!F11","v":"プログラム選択なし"},"修士課程人文科学研究科日本文学専攻社会人入試",{"$f":"'「志願先」欄  選択一覧'!G11","v":"併願可"}]
[null,{"$f":"'「志願先」欄  選択一覧'!B12","v":"修士課程"},{"$f":"'「志願先」欄  選択一覧'!C12","v":"人文科学研究科"},{"$f":"'「志願先」欄  選択一覧'!D12","v":"日本文学専攻"},{"$f":"'「志願先」欄  選択一覧'!E12","v":"社会人入試"},{"$f":"'「志願先」欄  選択一覧'!F12","v":"文芸創作研究プログラム"},"修士課程人文科学研究科日本文学専攻社会人入試",{"$f":"'「志願先」欄  選択一覧'!G12","v":"併願可"}]
[null,{"$f":"'「志願先」欄  選択一覧'!B13","v":"修士課程"},{"$f":"'「志願先」欄  選択一覧'!C13","v":"人文科学研究科"},{"$f":"'「志願先」欄  選択一覧'!D13","v":"日本文学専攻"},{"$f":"'「志願先」欄  選択一覧'!E13","v":"社会人入試"},{"$f":"'「志願先」欄  選択一覧'!F13","v":"能楽研究者育成プログラム"},"修士課程人文科学研究科日本文学専攻社会人入試",{"$f":"'「志願先」欄  選択一覧'!G13","v":"併願可"}]
[null,{"$f":"'「志願先」欄  選択一覧'!B14","v":"修士課程"},{"$f":"'「志願先」欄  選択一覧'!C14","v":"人文科学研究科"},{"$f":"'「志願先」欄  選択一覧'!D14","v":"英文学専攻"},{"$f":"'「志願先」欄  選択一覧'!E14","v":"一般入試"},{"$f":"'「志願先」欄  選択一覧'!F14","v":"なし"},"修士課程人文科学研究科英文学専攻一般入試",{"$f":"'「志願先」欄  選択一覧'!G14","v":"併願可"}]
[null,{"$f":"'「志願先」欄  選択一覧'!B15","v":"修士課程"},{"$f":"'「志願先」欄  選択一覧'!C15","v":"人文科学研究科"},{"$f":"'「志願先」欄  選択一覧'!D15","v":"英文学専攻"},{"$f":"'「志願先」欄  選択一覧'!E15","v":"社会人入試"},{"$f":"'「志願先」欄  選択一覧'!F15","v":"なし"},"修士課程人文科学研究科英文学専攻社会人入試",{"$f":"'「志願先」欄  選択一覧'!G15","v":"併願可"}]
[null,{"$f":"'「志願先」欄  選択一覧'!B16","v":"修士課程"},{"$f":"'「志願先」欄  選択一覧'!C16","v":"人文科学研究科"},{"$f":"'「志願先」欄  選択一覧'!D16","v":"史学専攻"},{"$f":"'「志願先」欄  選択一覧'!E16","v":"一般入試"},{"$f":"'「志願先」欄  選択一覧'!F16","v":"なし"},"修士課程人文科学研究科史学専攻一般入試",{"$f":"'「志願先」欄  選択一覧'!G16","v":"併願可"}]
[null,{"$f":"'「志願先」欄  選択一覧'!B17","v":"修士課程"},{"$f":"'「志願先」欄  選択一覧'!C17","v":"人文科学研究科"},{"$f":"'「志願先」欄  選択一覧'!D17","v":"史学専攻"},{"$f":"'「志願先」欄  選択一覧'!E17","v":"社会人入試"},{"$f":"'「志願先」欄  選択一覧'!F17","v":"なし"},"修士課程人文科学研究科史学専攻社会人入試",{"$f":"'「志願先」欄  選択一覧'!G17","v":"併願可"}]
[null,{"$f":"'「志願先」欄  選択一覧'!B18","v":"修士課程"},{"$f":"'「志願先」欄  選択一覧'!C18","v":"人文科学研究科"},{"$f":"'「志願先」欄  選択一覧'!D18","v":"地理学専攻"},{"$f":"'「志願先」欄  選択一覧'!E18","v":"一般入試"},{"$f":"'「志願先」欄  選択一覧'!F18","v":"なし"},"修士課程人文科学研究科地理学専攻一般入試",{"$f":"'「志願先」欄  選択一覧'!G18","v":"併願可"}]
[null,{"$f":"'「志願先」欄  選択一覧'!B19","v":"修士課程"},{"$f":"'「志願先」欄  選択一覧'!C19","v":"人文科学研究科"},{"$f":"'「志願先」欄  選択一覧'!D19","v":"地理学専攻"},{"$f":"'「志願先」欄  選択一覧'!E19","v":"社会人入試"},{"$f":"'「志願先」欄  選択一覧'!F19","v":"なし"},"修士課程人文科学研究科地理学専攻社会人入試",{"$f":"'「志願先」欄  選択一覧'!G19","v":"併願可"}]
[null,{"$f":"'「志願先」欄  選択一覧'!B20","v":"修士課程"},{"$f":"'「志願先」欄  選択一覧'!C20","v":"人文科学研究科"},{"$f":"'「志願先」欄  選択一覧'!D20","v":"心理学専攻"},{"$f":"'「志願先」欄  選択一覧'!E20","v":"一般入試"},{"$f":"'「志願先」欄  選択一覧'!F20","v":"なし"},"修士課程人文科学研究科心理学専攻一般入試",{"$f":"'「志願先」欄  選択一覧'!G20","v":"併願可"}]
[null,{"$f":"'「志願先」欄  選択一覧'!B21","v":"修士課程"},{"$f":"'「志願先」欄  選択一覧'!C21","v":"人文科学研究科"},{"$f":"'「志願先」欄  選択一覧'!D21","v":"国際日本学インスティテュート"},{"$f":"'「志願先」欄  選択一覧'!E21","v":"一般入試"},{"$f":"'「志願先」欄  選択一覧'!F21","v":"所属専攻：哲学"},"修士課程人文科学研究科国際日本学インスティテュート一般入試",{"$f":"'「志願先」欄  選択一覧'!G21","v":"併願可"}]
[null,{"$f":"'「志願先」欄  選択一覧'!B22","v":"修士課程"},{"$f":"'「志願先」欄  選択一覧'!C22","v":"人文科学研究科"},{"$f":"'「志願先」欄  選択一覧'!D22","v":"国際日本学インスティテュート"},{"$f":"'「志願先」欄  選択一覧'!E22","v":"一般入試"},{"$f":"'「志願先」欄  選択一覧'!F22","v":"所属専攻：日本文学"},"修士課程人文科学研究科国際日本学インスティテュート一般入試",{"$f":"'「志願先」欄  選択一覧'!G22","v":"併願可"}]
[null,{"$f":"'「志願先」欄  選択一覧'!B23","v":"修士課程"},{"$f":"'「志願先」欄  選択一覧'!C23","v":"人文科学研究科"},{"$f":"'「志願先」欄  選択一覧'!D23","v":"国際日本学インスティテュート"},{"$f":"'「志願先」欄  選択一覧'!E23","v":"一般入試"},{"$f":"'「志願先」欄  選択一覧'!F23","v":"所属専攻：英文学"},"修士課程人文科学研究科国際日本学インスティテュート一般入試",{"$f":"'「志願先」欄  選択一覧'!G23","v":"併願可"}]
[null,{"$f":"'「志願先」欄  選択一覧'!B24","v":"修士課程"},{"$f":"'「志願先」欄  選択一覧'!C24","v":"人文科学研究科"},{"$f":"'「志願先」欄  選択一覧'!D24","v":"国際日本学インスティテュート"},{"$f":"'「志願先」欄  選択一覧'!E24","v":"一般入試"},{"$f":"'「志願先」欄  選択一覧'!F24","v":"所属専攻：史学"},"修士課程人文科学研究科国際日本学インスティテュート一般入試",{"$f":"'「志願先」欄  選択一覧'!G24","v":"併願可"}]
[null,{"$f":"'「志願先」欄  選択一覧'!B25","v":"修士課程"},{"$f":"'「志願先」欄  選択一覧'!C25","v":"人文科学研究科"},{"$f":"'「志願先」欄  選択一覧'!D25","v":"国際日本学インスティテュート"},{"$f":"'「志願先」欄  選択一覧'!E25","v":"一般入試"},{"$f":"'「志願先」欄  選択一覧'!F25","v":"所属専攻：地理学"},"修士課程人文科学研究科国際日本学インスティテュート一般入試",{"$f":"'「志願先」欄  選択一覧'!G25","v":"併願可"}]
[null,{"$f":"'「志願先」欄  選択一覧'!B26","v":"修士課程"},{"$f":"'「志願先」欄  選択一覧'!C26","v":"人文科学研究科"},{"$f":"'「志願先」欄  選択一覧'!D26","v":"国際日本学インスティテュート"},{"$f":"'「志願先」欄  選択一覧'!E26","v":"外国人入試"},{"$f":"'「志願先」欄  選択一覧'!F26","v":"所属専攻：哲学"},"修士課程人文科学研究科国際日本学インスティテュート外国人入試",{"$f":"'「志願先」欄  選択一覧'!G26","v":"併願可"}]
[null,{"$f":"'「志願先」欄  選択一覧'!B27","v":"修士課程"},{"$f":"'「志願先」欄  選択一覧'!C27","v":"人文科学研究科"},{"$f":"'「志願先」欄  選択一覧'!D27","v":"国際日本学インスティテュート"},{"$f":"'「志願先」欄  選択一覧'!E27","v":"外国人入試"},{"$f":"'「志願先」欄  選択一覧'!F27","v":"所属専攻：日本文学"},"修士課程人文科学研究科国際日本学インスティテュート外国人入試",{"$f":"'「志願先」欄  選択一覧'!G27","v":"併願可"}]
[null,{"$f":"'「志願先」欄  選択一覧'!B28","v":"修士課程"},{"$f":"'「志願先」欄  選択一覧'!C28","v":"人文科学研究科"},{"$f":"'「志願先」欄  選択一覧'!D28","v":"国際日本学インスティテュート"},{"$f":"'「志願先」欄  選択一覧'!E28","v":"外国人入試"},{"$f":"'「志願先」欄  選択一覧'!F28","v":"所属専攻：英文学"},"修士課程人文科学研究科国際日本学インスティテュート外国人入試",{"$f":"'「志願先」欄  選択一覧'!G28","v":"併願可"}]
[null,{"$f":"'「志願先」欄  選択一覧'!B29","v":"修士課程"},{"$f":"'「志願先」欄  選択一覧'!C29","v":"人文科学研究科"},{"$f":"'「志願先」欄  選択一覧'!D29","v":"国際日本学インスティテュート"},{"$f":"'「志願先」欄  選択一覧'!E29","v":"外国人入試"},{"$f":"'「志願先」欄  選択一覧'!F29","v":"所属専攻：史学"},"修士課程人文科学研究科国際日本学インスティテュート外国人入試",{"$f":"'「志願先」欄  選択一覧'!G29","v":"併願可"}]
[null,{"$f":"'「志願先」欄  選択一覧'!B30","v":"修士課程"},{"$f":"'「志願先」欄  選択一覧'!C30","v":"人文科学研究科"},{"$f":"'「志願先」欄  選択一覧'!D30","v":"国際日本学インスティテュート"},{"$f":"'「志願先」欄  選択一覧'!E30","v":"外国人入試"},{"$f":"'「志願先」欄  選択一覧'!F30","v":"所属専攻：地理学"},"修士課程人文科学研究科国際日本学インスティテュート外国人入試",{"$f":"'「志願先」欄  選択一覧'!G30","v":"併願可"}]
[null,{"$f":"'「志願先」欄  選択一覧'!B31","v":"修士課程"},{"$f":"'「志願先」欄  選択一覧'!C31","v":"人文科学研究科"},{"$f":"'「志願先」欄  選択一覧'!D31","v":"国際日本学インスティテュート"},{"$f":"'「志願先」欄  選択一覧'!E31","v":"社会人入試"},{"$f":"'「志願先」欄  選択一覧'!F31","v":"所属専攻：哲学"},"修士課程人文科学研究科国際日本学インスティテュート社会人入試",{"$f":"'「志願先」欄  選択一覧'!G31","v":"併願可"}]
[null,{"$f":"'「志願先」欄  選択一覧'!B32","v":"修士課程"},{"$f":"'「志願先」欄  選択一覧'!C32","v":"人文科学研究科"},{"$f":"'「志願先」欄  選択一覧'!D32","v":"国際日本学インスティテュート"},{"$f":"'「志願先」欄  選択一覧'!E32","v":"社会人入試"},{"$f":"'「志願先」欄  選択一覧'!F32","v":"所属専攻：日本文学"},"修士課程人文科学研究科国際日本学インスティテュート社会人入試",{"$f":"'「志願先」欄  選択一覧'!G32","v":"併願可"}]
[null,{"$f":"'「志願先」欄  選択一覧'!B33","v":"修士課程"},{"$f":"'「志願先」欄  選択一覧'!C33","v":"人文科学研究科"},{"$f":"'「志願先」欄  選択一覧'!D33","v":"国際日本学インスティテュート"},{"$f":"'「志願先」欄  選択一覧'!E33","v":"社会人入試"},{"$f":"'「志願先」欄  選択一覧'!F33","v":"所属専攻：英文学"},"修士課程人文科学研究科国際日本学インスティテュート社会人入試",{"$f":"'「志願先」欄  選択一覧'!G33","v":"併願可"}]
[null,{"$f":"'「志願先」欄  選択一覧'!B34","v":"修士課程"},{"$f":"'「志願先」欄  選択一覧'!C34","v":"人文科学研究科"},{"$f":"'「志願先」欄  選択一覧'!D34","v":"国際日本学インスティテュート"},{"$f":"'「志願先」欄  選択一覧'!E34","v":"社会人入試"},{"$f":"'「志願先」欄  選択一覧'!F34","v":"所属専攻：史学"},"修士課程人文科学研究科国際日本学インスティテュート社会人入試",{"$f":"'「志願先」欄  選択一覧'!G34","v":"併願可"}]
[null,{"$f":"'「志願先」欄  選択一覧'!B35","v":"修士課程"},{"$f":"'「志願先」欄  選択一覧'!C35","v":"人文科学研究科"},{"$f":"'「志願先」欄  選択一覧'!D35","v":"国際日本学インスティテュート"},{"$f":"'「志願先」欄  選択一覧'!E35","v":"社会人入試"},{"$f":"'「志願先」欄  選択一覧'!F35","v":"所属専攻：地理学"},"修士課程人文科学研究科国際日本学インスティテュート社会人入試",{"$f":"'「志願先」欄  選択一覧'!G35","v":"併願可"}]
[null,{"$f":"'「志願先」欄  選択一覧'!B36","v":"修士課程"},{"$f":"'「志願先」欄  選択一覧'!C36","v":"国際文化研究科"},{"$f":"'「志願先」欄  選択一覧'!D36","v":"国際文化専攻"},{"$f":"'「志願先」欄  選択一覧'!E36","v":"一般入試"},{"$f":"'「志願先」欄  選択一覧'!F36","v":"なし"},"修士課程国際文化研究科国際文化専攻一般入試",{"$f":"'「志願先」欄  選択一覧'!G36","v":"併願可"}]
[null,{"$f":"'「志願先」欄  選択一覧'!B37","v":"修士課程"},{"$f":"'「志願先」欄  選択一覧'!C37","v":"国際文化研究科"},{"$f":"'「志願先」欄  選択一覧'!D37","v":"国際文化専攻"},{"$f":"'「志願先」欄  選択一覧'!E37","v":"外国人入試"},{"$f":"'「志願先」欄  選択一覧'!F37","v":"なし"},"修士課程国際文化研究科国際文化専攻外国人入試",{"$f":"'「志願先」欄  選択一覧'!G37","v":"併願可"}]
[null,{"$f":"'「志願先」欄  選択一覧'!B38","v":"修士課程"},{"$f":"'「志願先」欄  選択一覧'!C38","v":"国際文化研究科"},{"$f":"'「志願先」欄  選択一覧'!D38","v":"国際文化専攻"},{"$f":"'「志願先」欄  選択一覧'!E38","v":"社会人入試"},{"$f":"'「志願先」欄  選択一覧'!F38","v":"なし"},"修士課程国際文化研究科国際文化専攻社会人入試",{"$f":"'「志願先」欄  選択一覧'!G38","v":"併願可"}]
[null,{"$f":"'「志願先」欄  選択一覧'!B39","v":"修士課程"},{"$f":"'「志願先」欄  選択一覧'!C39","v":"経済学研究科"},{"$f":"'「志願先」欄  選択一覧'!D39","v":"経済学専攻"},{"$f":"'「志願先」欄  選択一覧'!E39","v":"一般入試"},{"$f":"'「志願先」欄  選択一覧'!F39","v":"修士M.A.（歴史・思想・制度）"},"修士課程経済学研究科経済学専攻一般入試",{"$f":"'「志願先」欄  選択一覧'!G39","v":"併願可"}]
[null,{"$f":"'「志願先」欄  選択一覧'!B40","v":"修士課程"},{"$f":"'「志願先」欄  選択一覧'!C40","v":"経済学研究科"},{"$f":"'「志願先」欄  選択一覧'!D40","v":"経済学専攻"},{"$f":"'「志願先」欄  選択一覧'!E40","v":"一般入試"},{"$f":"'「志願先」欄  選択一覧'!F40","v":"修士M.A.（金融・企業）"},"修士課程経済学研究科経済学専攻一般入試",{"$f":"'「志願先」欄  選択一覧'!G40","v":"併願可"}]
[null,{"$f":"'「志願先」欄  選択一覧'!B41","v":"修士課程"},{"$f":"'「志願先」欄  選択一覧'!C41","v":"経済学研究科"},{"$f":"'「志願先」欄  選択一覧'!D41","v":"経済学専攻"},{"$f":"'「志願先」欄  選択一覧'!E41","v":"一般入試"},{"$f":"'「志願先」欄  選択一覧'!F41","v":"修士M.A.（政策・環境）"},"修士課程経済学研究科経済学専攻一般入試",{"$f":"'「志願先」欄  選択一覧'!G41","v":"併願可"}]
[null,{"$f":"'「志願先」欄  選択一覧'!B42","v":"修士課程"},{"$f":"'「志願先」欄  選択一覧'!C42","v":"経済学研究科"},{"$f":"'「志願先」欄  選択一覧'!D42","v":"経済学専攻"},{"$f":"'「志願先」欄  選択一覧'!E42","v":"一般入試"},{"$f":"'「志願先」欄  選択一覧'!F42","v":"修士M.A.（国際・地域）"},"修士課程経済学研究科経済学専攻一般入試",{"$f":"'「志願先」欄  選択一覧'!G42","v":"併願可"}]
[null,{"$f":"'「志願先」欄  選択一覧'!B43","v":"修士課程"},{"$f":"'「志願先」欄  選択一覧'!C43","v":"経済学研究科"},{"$f":"'「志願先」欄  選択一覧'!D43","v":"経済学専攻"},{"$f":"'「志願先」欄  選択一覧'!E43","v":"一般入試"},{"$f":"'「志願先」欄  選択一覧'!F43","v":"修士M.A.（応用ミクロ・応用マクロ・計量）"},"修士課程経済学研究科経済学専攻一般入試",{"$f":"'「志願先」欄  選択一覧'!G43","v":"併願可"}]
[null,{"$f":"'「志願先」欄  選択一覧'!B44","v":"修士課程"},{"$f":"'「志願先」欄  選択一覧'!C44","v":"経済学研究科"},{"$f":"'「志願先」欄  選択一覧'!D44","v":"経済学専攻"},{"$f":"'「志願先」欄  選択一覧'!E44","v":"一般入試"},{"$f":"'「志願先」欄  選択一覧'!F44","v":"博士5年Ph.D.（歴史・思想・制度）"},"修士課程経済学研究科経済学専攻一般入試",{"$f":"'「志願先」欄  選択一覧'!G44","v":"併願可"}]
[null,{"$f":"'「志願先」欄  選択一覧'!B45","v":"修士課程"},{"$f":"'「志願先」欄  選択一覧'!C45","v":"経済学研究科"},{"$f":"'「志願先」欄  選択一覧'!D45","v":"経済学専攻"},{"$f":"'「志願先」欄  選択一覧'!E45","v":"一般入試"},{"$f":"'「志願先」欄  選択一覧'!F45","v":"博士5年Ph.D.（金融・企業）"},"修士課程経済学研究科経済学専攻一般入試",{"$f":"'「志願先」欄  選択一覧'!G45","v":"併願可"}]
[null,{"$f":"'「志願先」欄  選択一覧'!B46","v":"修士課程"},{"$f":"'「志願先」欄  選択一覧'!C46","v":"経済学研究科"},{"$f":"'「志願先」欄  選択一覧'!D46","v":"経済学専攻"},{"$f":"'「志願先」欄  選択一覧'!E46","v":"一般入試"},{"$f":"'「志願先」欄  選択一覧'!F46","v":"博士5年Ph.D.（政策・環境）"},"修士課程経済学研究科経済学専攻一般入試",{"$f":"'「志願先」欄  選択一覧'!G46","v":"併願可"}]
[null,{"$f":"'「志願先」欄  選択一覧'!B47","v":"修士課程"},{"$f":"'「志願先」欄  選択一覧'!C47","v":"経済学研究科"},{"$f":"'「志願先」欄  選択一覧'!D47","v":"経済学専攻"},{"$f":"'「志願先」欄  選択一覧'!E47","v":"一般入試"},{"$f":"'「志願先」欄  選択一覧'!F47","v":"博士5年Ph.D.（国際・地域）"},"修士課程経済学研究科経済学専攻一般入試",{"$f":"'「志願先」欄  選択一覧'!G47","v":"併願可"}]
[null,{"$f":"'「志願先」欄  選択一覧'!B48","v":"修士課程"},{"$f":"'「志願先」欄  選択一覧'!C48","v":"経済学研究科"},{"$f":"'「志願先」欄  選択一覧'!D48","v":"経済学専攻"},{"$f":"'「志願先」欄  選択一覧'!E48","v":"一般入試"},{"$f":"'「志願先」欄  選択一覧'!F48","v":"博士5年Ph.D.（応用ミクロ・応用マクロ・計量）"},"修士課程経済学研究科経済学専攻一般入試",{"$f":"'「志願先」欄  選択一覧'!G48","v":"併願可"}]
[null,{"$f":"'「志願先」欄  選択一覧'!B49","v":"修士課程"},{"$f":"'「志願先」欄  選択一覧'!C49","v":"経済学研究科"},{"$f":"'「志願先」欄  選択一覧'!D49","v":"経済学専攻"},{"$f":"'「志願先」欄  選択一覧'!E49","v":"外国人入試"},{"$f":"'「志願先」欄  選択一覧'!F49","v":"修士M.A.（歴史・思想・制度）"},"修士課程経済学研究科経済学専攻外国人入試",{"$f":"'「志願先」欄  選択一覧'!G49","v":"併願可"}]
[null,{"$f":"'「志願先」欄  選択一覧'!B50","v":"修士課程"},{"$f":"'「志願先」欄  選択一覧'!C50","v":"経済学研究科"},{"$f":"'「志願先」欄  選択一覧'!D50","v":"経済学専攻"},{"$f":"'「志願先」欄  選択一覧'!E50","v":"外国人入試"},{"$f":"'「志願先」欄  選択一覧'!F50","v":"修士M.A.（金融・企業）"},"修士課程経済学研究科経済学専攻外国人入試",{"$f":"'「志願先」欄  選択一覧'!G50","v":"併願可"}]
[null,{"$f":"'「志願先」欄  選択一覧'!B51","v":"修士課程"},{"$f":"'「志願先」欄  選択一覧'!C51","v":"経済学研究科"},{"$f":"'「志願先」欄  選択一覧'!D51","v":"経済学専攻"},{"$f":"'「志願先」欄  選択一覧'!E51","v":"外国人入試"},{"$f":"'「志願先」欄  選択一覧'!F51","v":"修士M.A.（政策・環境）"},"修士課程経済学研究科経済学専攻外国人入試",{"$f":"'「志願先」欄  選択一覧'!G51","v":"併願可"}]
[null,{"$f":"'「志願先」欄  選択一覧'!B52","v":"修士課程"},{"$f":"'「志願先」欄  選択一覧'!C52","v":"経済学研究科"},{"$f":"'「志願先」欄  選択一覧'!D52","v":"経済学専攻"},{"$f":"'「志願先」欄  選択一覧'!E52","v":"外国人入試"},{"$f":"'「志願先」欄  選択一覧'!F52","v":"修士M.A.（国際・地域）"},"修士課程経済学研究科経済学専攻外国人入試",{"$f":"'「志願先」欄  選択一覧'!G52","v":"併願可"}]
[null,{"$f":"'「志願先」欄  選択一覧'!B53","v":"修士課程"},{"$f":"'「志願先」欄  選択一覧'!C53","v":"経済学研究科"},{"$f":"'「志願先」欄  選択一覧'!D53","v":"経済学専攻"},{"$f":"'「志願先」欄  選択一覧'!E53","v":"外国人入試"},{"$f":"'「志願先」欄  選択一覧'!F53","v":"修士M.A.（応用ミクロ・応用マクロ・計量）"},"修士課程経済学研究科経済学専攻外国人入試",{"$f":"'「志願先」欄  選択一覧'!G53","v":"併願可"}]
[null,{"$f":"'「志願先」欄  選択一覧'!B54","v":"修士課程"},{"$f":"'「志願先」欄  選択一覧'!C54","v":"経済学研究科"},{"$f":"'「志願先」欄  選択一覧'!D54","v":"経済学専攻"},{"$f":"'「志願先」欄  選択一覧'!E54","v":"外国人入試"},{"$f":"'「志願先」欄  選択一覧'!F54","v":"博士5年Ph.D.（歴史・思想・制度）"},"修士課程経済学研究科経済学専攻外国人入試",{"$f":"'「志願先」欄  選択一覧'!G54","v":"併願可"}]
[null,{"$f":"'「志願先」欄  選択一覧'!B55","v":"修士課程"},{"$f":"'「志願先」欄  選択一覧'!C55","v":"経済学研究科"},{"$f":"'「志願先」欄  選択一覧'!D55","v":"経済学専攻"},{"$f":"'「志願先」欄  選択一覧'!E55","v":"外国人入試"},{"$f":"'「志願先」欄  選択一覧'!F55","v":"博士5年Ph.D.（金融・企業）"},"修士課程経済学研究科経済学専攻外国人入試",{"$f":"'「志願先」欄  選択一覧'!G55","v":"併願可"}]
[null,{"$f":"'「志願先」欄  選択一覧'!B56","v":"修士課程"},{"$f":"'「志願先」欄  選択一覧'!C56","v":"経済学研究科"},{"$f":"'「志願先」欄  選択一覧'!D56","v":"経済学専攻"},{"$f":"'「志願先」欄  選択一覧'!E56","v":"外国人入試"},{"$f":"'「志願先」欄  選択一覧'!F56","v":"博士5年Ph.D.（政策・環境）"},"修士課程経済学研究科経済学専攻外国人入試",{"$f":"'「志願先」欄  選択一覧'!G56","v":"併願可"}]
[null,{"$f":"'「志願先」欄  選択一覧'!B57","v":"修士課程"},{"$f":"'「志願先」欄  選択一覧'!C57","v":"経済学研究科"},{"$f":"'「志願先」欄  選択一覧'!D57","v":"経済学専攻"},{"$f":"'「志願先」欄  選択一覧'!E57","v":"外国人入試"},{"$f":"'「志願先」欄  選択一覧'!F57","v":"博士5年Ph.D.（国際・地域）"},"修士課程経済学研究科経済学専攻外国人入試",{"$f":"'「志願先」欄  選択一覧'!G57","v":"併願可"}]
[null,{"$f":"'「志願先」欄  選択一覧'!B58","v":"修士課程"},{"$f":"'「志願先」欄  選択一覧'!C58","v":"経済学研究科"},{"$f":"'「志願先」欄  選択一覧'!D58","v":"経済学専攻"},{"$f":"'「志願先」欄  選択一覧'!E58","v":"外国人入試"},{"$f":"'「志願先」欄  選択一覧'!F58","v":"博士5年Ph.D.（応用ミクロ・応用マクロ・計量）"},"修士課程経済学研究科経済学専攻外国人入試",{"$f":"'「志願先」欄  選択一覧'!G58","v":"併願可"}]
[null,{"$f":"'「志願先」欄  選択一覧'!B59","v":"修士課程"},{"$f":"'「志願先」欄  選択一覧'!C59","v":"経済学研究科"},{"$f":"'「志願先」欄  選択一覧'!D59","v":"経済学専攻"},{"$f":"'「志願先」欄  選択一覧'!E59","v":"社会人入試"},{"$f":"'「志願先」欄  選択一覧'!F59","v":"修士M.A.（歴史・思想・制度）"},"修士課程経済学研究科経済学専攻社会人入試",{"$f":"'「志願先」欄  選択一覧'!G59","v":"併願可"}]
[null,{"$f":"'「志願先」欄  選択一覧'!B60","v":"修士課程"},{"$f":"'「志願先」欄  選択一覧'!C60","v":"経済学研究科"},{"$f":"'「志願先」欄  選択一覧'!D60","v":"経済学専攻"},{"$f":"'「志願先」欄  選択一覧'!E60","v":"社会人入試"},{"$f":"'「志願先」欄  選択一覧'!F60","v":"修士M.A.（金融・企業）"},"修士課程経済学研究科経済学専攻社会人入試",{"$f":"'「志願先」欄  選択一覧'!G60","v":"併願可"}]
[null,{"$f":"'「志願先」欄  選択一覧'!B61","v":"修士課程"},{"$f":"'「志願先」欄  選択一覧'!C61","v":"経済学研究科"},{"$f":"'「志願先」欄  選択一覧'!D61","v":"経済学専攻"},{"$f":"'「志願先」欄  選択一覧'!E61","v":"社会人入試"},{"$f":"'「志願先」欄  選択一覧'!F61","v":"修士M.A.（政策・環境）"},"修士課程経済学研究科経済学専攻社会人入試",{"$f":"'「志願先」欄  選択一覧'!G61","v":"併願可"}]
[null,{"$f":"'「志願先」欄  選択一覧'!B62","v":"修士課程"},{"$f":"'「志願先」欄  選択一覧'!C62","v":"経済学研究科"},{"$f":"'「志願先」欄  選択一覧'!D62","v":"経済学専攻"},{"$f":"'「志願先」欄  選択一覧'!E62","v":"社会人入試"},{"$f":"'「志願先」欄  選択一覧'!F62","v":"修士M.A.（国際・地域）"},"修士課程経済学研究科経済学専攻社会人入試",{"$f":"'「志願先」欄  選択一覧'!G62","v":"併願可"}]
[null,{"$f":"'「志願先」欄  選択一覧'!B63","v":"修士課程"},{"$f":"'「志願先」欄  選択一覧'!C63","v":"経済学研究科"},{"$f":"'「志願先」欄  選択一覧'!D63","v":"経済学専攻"},{"$f":"'「志願先」欄  選択一覧'!E63","v":"社会人入試"},{"$f":"'「志願先」欄  選択一覧'!F63","v":"修士M.A.（応用ミクロ・応用マクロ・計量）"},"修士課程経済学研究科経済学専攻社会人入試",{"$f":"'「志願先」欄  選択一覧'!G63","v":"併願可"}]
[null,{"$f":"'「志願先」欄  選択一覧'!B64","v":"修士課程"},{"$f":"'「志願先」欄  選択一覧'!C64","v":"経済学研究科"},{"$f":"'「志願先」欄  選択一覧'!D64","v":"経済学専攻"},{"$f":"'「志願先」欄  選択一覧'!E64","v":"社会人入試"},{"$f":"'「志願先」欄  選択一覧'!F64","v":"博士5年Ph.D.（歴史・思想・制度）"},"修士課程経済学研究科経済学専攻社会人入試",{"$f":"'「志願先」欄  選択一覧'!G64","v":"併願可"}]
[null,{"$f":"'「志願先」欄  選択一覧'!B65","v":"修士課程"},{"$f":"'「志願先」欄  選択一覧'!C65","v":"経済学研究科"},{"$f":"'「志願先」欄  選択一覧'!D65","v":"経済学専攻"},{"$f":"'「志願先」欄  選択一覧'!E65","v":"社会人入試"},{"$f":"'「志願先」欄  選択一覧'!F65","v":"博士5年Ph.D.（金融・企業）"},"修士課程経済学研究科経済学専攻社会人入試",{"$f":"'「志願先」欄  選択一覧'!G65","v":"併願可"}]
[null,{"$f":"'「志願先」欄  選択一覧'!B66","v":"修士課程"},{"$f":"'「志願先」欄  選択一覧'!C66","v":"経済学研究科"},{"$f":"'「志願先」欄  選択一覧'!D66","v":"経済学専攻"},{"$f":"'「志願先」欄  選択一覧'!E66","v":"社会人入試"},{"$f":"'「志願先」欄  選択一覧'!F66","v":"博士5年Ph.D.（政策・環境）"},"修士課程経済学研究科経済学専攻社会人入試",{"$f":"'「志願先」欄  選択一覧'!G66","v":"併願可"}]
[null,{"$f":"'「志願先」欄  選択一覧'!B67","v":"修士課程"},{"$f":"'「志願先」欄  選択一覧'!C67","v":"経済学研究科"},{"$f":"'「志願先」欄  選択一覧'!D67","v":"経済学専攻"},{"$f":"'「志願先」欄  選択一覧'!E67","v":"社会人入試"},{"$f":"'「志願先」欄  選択一覧'!F67","v":"博士5年Ph.D.（国際・地域）"},"修士課程経済学研究科経済学専攻社会人入試",{"$f":"'「志願先」欄  選択一覧'!G67","v":"併願可"}]
[null,{"$f":"'「志願先」欄  選択一覧'!B68","v":"修士課程"},{"$f":"'「志願先」欄  選択一覧'!C68","v":"経済学研究科"},{"$f":"'「志願先」欄  選択一覧'!D68","v":"経済学専攻"},{"$f":"'「志願先」欄  選択一覧'!E68","v":"社会人入試"},{"$f":"'「志願先」欄  選択一覧'!F68","v":"博士5年Ph.D.（応用ミクロ・応用マクロ・計量）"},{"$f":"B68&C68&D68&E68","v":"修士課程経済学研究科経済学専攻社会人入試"},{"$f":"'「志願先」欄  選択一覧'!G68","v":"併願可"}]
[null,{"$f":"'「志願先」欄  選択一覧'!B69","v":"修士課程"},{"$f":"'「志願先」欄  選択一覧'!C69","v":"経済学研究科"},{"$f":"'「志願先」欄  選択一覧'!D69","v":"経済学専攻"},{"$f":"'「志願先」欄  選択一覧'!E69","v":"社会人選抜入試"},{"$f":"'「志願先」欄  選択一覧'!F69","v":"1年（歴史・思想・制度）"},"修士課程経済学研究科経済学専攻社会人選抜入試",{"$f":"'「志願先」欄  選択一覧'!G69","v":"併願可"}]
[null,{"$f":"'「志願先」欄  選択一覧'!B70","v":"修士課程"},{"$f":"'「志願先」欄  選択一覧'!C70","v":"経済学研究科"},{"$f":"'「志願先」欄  選択一覧'!D70","v":"経済学専攻"},{"$f":"'「志願先」欄  選択一覧'!E70","v":"社会人選抜入試"},{"$f":"'「志願先」欄  選択一覧'!F70","v":"1年（金融・企業）"},"修士課程経済学研究科経済学専攻社会人選抜入試",{"$f":"'「志願先」欄  選択一覧'!G70","v":"併願可"}]
[null,{"$f":"'「志願先」欄  選択一覧'!B71","v":"修士課程"},{"$f":"'「志願先」欄  選択一覧'!C71","v":"経済学研究科"},{"$f":"'「志願先」欄  選択一覧'!D71","v":"経済学専攻"},{"$f":"'「志願先」欄  選択一覧'!E71","v":"社会人選抜入試"},{"$f":"'「志願先」欄  選択一覧'!F71","v":"1年（政策・環境）"},"修士課程経済学研究科経済学専攻社会人選抜入試",{"$f":"'「志願先」欄  選択一覧'!G71","v":"併願可"}]
[null,{"$f":"'「志願先」欄  選択一覧'!B72","v":"修士課程"},{"$f":"'「志願先」欄  選択一覧'!C72","v":"経済学研究科"},{"$f":"'「志願先」欄  選択一覧'!D72","v":"経済学専攻"},{"$f":"'「志願先」欄  選択一覧'!E72","v":"社会人選抜入試"},{"$f":"'「志願先」欄  選択一覧'!F72","v":"1年（国際・地域）"},"修士課程経済学研究科経済学専攻社会人選抜入試",{"$f":"'「志願先」欄  選択一覧'!G72","v":"併願可"}]
[null,{"$f":"'「志願先」欄  選択一覧'!B73","v":"修士課程"},{"$f":"'「志願先」欄  選択一覧'!C73","v":"経済学研究科"},{"$f":"'「志願先」欄  選択一覧'!D73","v":"経済学専攻"},{"$f":"'「志願先」欄  選択一覧'!E73","v":"社会人選抜入試"},{"$f":"'「志願先」欄  選択一覧'!F73","v":"1年（応用ミクロ・応用マクロ・計量）"},"修士課程経済学研究科経済学専攻社会人選抜入試",{"$f":"'「志願先」欄  選択一覧'!G73","v":"併願可"}]
[null,{"$f":"'「志願先」欄  選択一覧'!B74","v":"修士課程"},{"$f":"'「志願先」欄  選択一覧'!C74","v":"経済学研究科"},{"$f":"'「志願先」欄  選択一覧'!D74","v":"経済学専攻"},{"$f":"'「志願先」欄  選択一覧'!E74","v":"社会人選抜入試"},{"$f":"'「志願先」欄  選択一覧'!F74","v":"1＋3年（歴史・思想・制度）"},"修士課程経済学研究科経済学専攻社会人選抜入試",{"$f":"'「志願先」欄  選択一覧'!G74","v":"併願可"}]
[null,{"$f":"'「志願先」欄  選択一覧'!B75","v":"修士課程"},{"$f":"'「志願先」欄  選択一覧'!C75","v":"経済学研究科"},{"$f":"'「志願先」欄  選択一覧'!D75","v":"経済学専攻"},{"$f":"'「志願先」欄  選択一覧'!E75","v":"社会人選抜入試"},{"$f":"'「志願先」欄  選択一覧'!F75","v":"1＋3年（金融・企業）"},"修士課程経済学研究科経済学専攻社会人選抜入試",{"$f":"'「志願先」欄  選択一覧'!G75","v":"併願可"}]
[null,{"$f":"'「志願先」欄  選択一覧'!B76","v":"修士課程"},{"$f":"'「志願先」欄  選択一覧'!C76","v":"経済学研究科"},{"$f":"'「志願先」欄  選択一覧'!D76","v":"経済学専攻"},{"$f":"'「志願先」欄  選択一覧'!E76","v":"社会人選抜入試"},{"$f":"'「志願先」欄  選択一覧'!F76","v":"1＋3年（政策・環境）"},"修士課程経済学研究科経済学専攻社会人選抜入試",{"$f":"'「志願先」欄  選択一覧'!G76","v":"併願可"}]
[null,{"$f":"'「志願先」欄  選択一覧'!B77","v":"修士課程"},{"$f":"'「志願先」欄  選択一覧'!C77","v":"経済学研究科"},{"$f":"'「志願先」欄  選択一覧'!D77","v":"経済学専攻"},{"$f":"'「志願先」欄  選択一覧'!E77","v":"社会人選抜入試"},{"$f":"'「志願先」欄  選択一覧'!F77","v":"1＋3年（国際・地域）"},"修士課程経済学研究科経済学専攻社会人選抜入試",{"$f":"'「志願先」欄  選択一覧'!G77","v":"併願可"}]
[null,{"$f":"'「志願先」欄  選択一覧'!B78","v":"修士課程"},{"$f":"'「志願先」欄  選択一覧'!C78","v":"経済学研究科"},{"$f":"'「志願先」欄  選択一覧'!D78","v":"経済学専攻"},{"$f":"'「志願先」欄  選択一覧'!E78","v":"社会人選抜入試"},{"$f":"'「志願先」欄  選択一覧'!F78","v":"1＋3年（応用ミクロ・応用マクロ・計量）"},"修士課程経済学研究科経済学専攻社会人選抜入試",{"$f":"'「志願先」欄  選択一覧'!G78","v":"併願可"}]
[null,{"$f":"'「志願先」欄  選択一覧'!B79","v":"修士課程"},{"$f":"'「志願先」欄  選択一覧'!C79","v":"法学研究科"},{"$f":"'「志願先」欄  選択一覧'!D79","v":"法律学専攻"},{"$f":"'「志願先」欄  選択一覧'!E79","v":"一般入試"},{"$f":"'「志願先」欄  選択一覧'!F79","v":"なし"},"修士課程法学研究科法律学専攻一般入試",{"$f":"'「志願先」欄  選択一覧'!G79","v":"併願不可"}]
[null,{"$f":"'「志願先」欄  選択一覧'!B80","v":"修士課程"},{"$f":"'「志願先」欄  選択一覧'!C80","v":"法学研究科"},{"$f":"'「志願先」欄  選択一覧'!D80","v":"法律学専攻"},{"$f":"'「志願先」欄  選択一覧'!E80","v":"外国人入試"},{"$f":"'「志願先」欄  選択一覧'!F80","v":"なし"},"修士課程法学研究科法律学専攻外国人入試",{"$f":"'「志願先」欄  選択一覧'!G80","v":"併願可"}]
[null,{"$f":"'「志願先」欄  選択一覧'!B81","v":"修士課程"},{"$f":"'「志願先」欄  選択一覧'!C81","v":"法学研究科"},{"$f":"'「志願先」欄  選択一覧'!D81","v":"法律学専攻"},{"$f":"'「志願先」欄  選択一覧'!E81","v":"社会人入試"},{"$f":"'「志願先」欄  選択一覧'!F81","v":"なし"},"修士課程法学研究科法律学専攻社会人入試",{"$f":"'「志願先」欄  選択一覧'!G81","v":"併願不可"}]
[null,{"$f":"'「志願先」欄  選択一覧'!B82","v":"修士課程"},{"$f":"'「志願先」欄  選択一覧'!C82","v":"政治学研究科"},{"$f":"'「志願先」欄  選択一覧'!D82","v":"政治学専攻"},{"$f":"'「志願先」欄  選択一覧'!E82","v":"一般入試"},{"$f":"'「志願先」欄  選択一覧'!F82","v":"なし"},"修士課程政治学研究科政治学専攻一般入試",{"$f":"'「志願先」欄  選択一覧'!G82","v":"併願不可"}]
[null,{"$f":"'「志願先」欄  選択一覧'!B83","v":"修士課程"},{"$f":"'「志願先」欄  選択一覧'!C83","v":"政治学研究科"},{"$f":"'「志願先」欄  選択一覧'!D83","v":"政治学専攻"},{"$f":"'「志願先」欄  選択一覧'!E83","v":"外国人入試"},{"$f":"'「志願先」欄  選択一覧'!F83","v":"なし"},"修士課程政治学研究科政治学専攻外国人入試",{"$f":"'「志願先」欄  選択一覧'!G83","v":"併願可"}]
[null,{"$f":"'「志願先」欄  選択一覧'!B84","v":"修士課程"},{"$f":"'「志願先」欄  選択一覧'!C84","v":"政治学研究科"},{"$f":"'「志願先」欄  選択一覧'!D84","v":"国際政治学専攻"},{"$f":"'「志願先」欄  選択一覧'!E84","v":"一般入試"},{"$f":"'「志願先」欄  選択一覧'!F84","v":"なし"},"修士課程政治学研究科国際政治学専攻一般入試",{"$f":"'「志願先」欄  選択一覧'!G84","v":"併願不可"}]
[null,{"$f":"'「志願先」欄  選択一覧'!B85","v":"修士課程"},{"$f":"'「志願先」欄  選択一覧'!C85","v":"政治学研究科"},{"$f":"'「志願先」欄  選択一覧'!D85","v":"国際政治学専攻"},{"$f":"'「志願先」欄  選択一覧'!E85","v":"外国人入試"},{"$f":"'「志願先」欄  選択一覧'!F85","v":"なし"},"修士課程政治学研究科国際政治学専攻外国人入試",{"$f":"'「志願先」欄  選択一覧'!G85","v":"併願可"}]
[null,{"$f":"'「志願先」欄  選択一覧'!B86","v":"修士課程"},{"$f":"'「志願先」欄  選択一覧'!C86","v":"政治学研究科"},{"$f":"'「志願先」欄  選択一覧'!D86","v":"国際政治学専攻"},{"$f":"'「志願先」欄  選択一覧'!E86","v":"社会人入試"},{"$f":"'「志願先」欄  選択一覧'!F86","v":"なし"},"修士課程政治学研究科国際政治学専攻社会人入試",{"$f":"'「志願先」欄  選択一覧'!G86","v":"併願不可"}]
[null,{"$f":"'「志願先」欄  選択一覧'!B87","v":"修士課程"},{"$f":"'「志願先」欄  選択一覧'!C87","v":"社会学研究科"},{"$f":"'「志願先」欄  選択一覧'!D87","v":"社会学専攻"},{"$f":"'「志願先」欄  選択一覧'!E87","v":"一般入試"},{"$f":"'「志願先」欄  選択一覧'!F87","v":"社会学コース"},"修士課程社会学研究科社会学専攻一般入試",{"$f":"'「志願先」欄  選択一覧'!G87","v":"併願可"}]
[null,{"$f":"'「志願先」欄  選択一覧'!B88","v":"修士課程"},{"$f":"'「志願先」欄  選択一覧'!C88","v":"社会学研究科"},{"$f":"'「志願先」欄  選択一覧'!D88","v":"社会学専攻"},{"$f":"'「志願先」欄  選択一覧'!E88","v":"一般入試"},{"$f":"'「志願先」欄  選択一覧'!F88","v":"メディアコース"},"修士課程社会学研究科社会学専攻一般入試",{"$f":"'「志願先」欄  選択一覧'!G88","v":"併願可"}]
[null,{"$f":"'「志願先」欄  選択一覧'!B89","v":"修士課程"},{"$f":"'「志願先」欄  選択一覧'!C89","v":"社会学研究科"},{"$f":"'「志願先」欄  選択一覧'!D89","v":"社会学専攻"},{"$f":"'「志願先」欄  選択一覧'!E89","v":"外国人入試"},{"$f":"'「志願先」欄  選択一覧'!F89","v":"社会学コース"},"修士課程社会学研究科社会学専攻外国人入試",{"$f":"'「志願先」欄  選択一覧'!G89","v":"併願可"}]
[null,{"$f":"'「志願先」欄  選択一覧'!B90","v":"修士課程"},{"$f":"'「志願先」欄  選択一覧'!C90","v":"社会学研究科"},{"$f":"'「志願先」欄  選択一覧'!D90","v":"社会学専攻"},{"$f":"'「志願先」欄  選択一覧'!E90","v":"外国人入試"},{"$f":"'「志願先」欄  選択一覧'!F90","v":"メディアコース"},"修士課程社会学研究科社会学専攻外国人入試",{"$f":"'「志願先」欄  選択一覧'!G90","v":"併願可"}]
[null,{"$f":"'「志願先」欄  選択一覧'!B91","v":"修士課程"},{"$f":"'「志願先」欄  選択一覧'!C91","v":"社会学研究科"},{"$f":"'「志願先」欄  選択一覧'!D91","v":"社会学専攻"},{"$f":"'「志願先」欄  選択一覧'!E91","v":"社会人入試"},{"$f":"'「志願先」欄  選択一覧'!F91","v":"社会学コース"},"修士課程社会学研究科社会学専攻社会人入試",{"$f":"'「志願先」欄  選択一覧'!G91","v":"併願可"}]
[null,{"$f":"'「志願先」欄  選択一覧'!B92","v":"修士課程"},{"$f":"'「志願先」欄  選択一覧'!C92","v":"社会学研究科"},{"$f":"'「志願先」欄  選択一覧'!D92","v":"社会学専攻"},{"$f":"'「志願先」欄  選択一覧'!E92","v":"社会人入試"},{"$f":"'「志願先」欄  選択一覧'!F92","v":"メディアコース"},"修士課程社会学研究科社会学専攻社会人入試",{"$f":"'「志願先」欄  選択一覧'!G92","v":"併願可"}]
[null,{"$f":"'「志願先」欄  選択一覧'!B93","v":"修士課程"},{"$f":"'「志願先」欄  選択一覧'!C93","v":"経営学研究科"},{"$f":"'「志願先」欄  選択一覧'!D93","v":"経営学専攻"},{"$f":"'「志願先」欄  選択一覧'!E93","v":"一般入試"},{"$f":"'「志願先」欄  選択一覧'!F93","v":"戦略・企業家"},"修士課程経営学研究科経営学専攻一般入試",{"$f":"'「志願先」欄  選択一覧'!G93","v":"併願可"}]
[null,{"$f":"'「志願先」欄  選択一覧'!B94","v":"修士課程"},{"$f":"'「志願先」欄  選択一覧'!C94","v":"経営学研究科"},{"$f":"'「志願先」欄  選択一覧'!D94","v":"経営学専攻"},{"$f":"'「志願先」欄  選択一覧'!E94","v":"一般入試"},{"$f":"'「志願先」欄  選択一覧'!F94","v":"マーケティング"},"修士課程経営学研究科経営学専攻一般入試",{"$f":"'「志願先」欄  選択一覧'!G94","v":"併願可"}]
[null,{"$f":"'「志願先」欄  選択一覧'!B95","v":"修士課程"},{"$f":"'「志願先」欄  選択一覧'!C95","v":"経営学研究科"},{"$f":"'「志願先」欄  選択一覧'!D95","v":"経営学専攻"},{"$f":"'「志願先」欄  選択一覧'!E95","v":"一般入試"},{"$f":"'「志願先」欄  選択一覧'!F95","v":"国際経営"},"修士課程経営学研究科経営学専攻一般入試",{"$f":"'「志願先」欄  選択一覧'!G95","v":"併願可"}]
[null,{"$f":"'「志願先」欄  選択一覧'!B96","v":"修士課程"},{"$f":"'「志願先」欄  選択一覧'!C96","v":"経営学研究科"},{"$f":"'「志願先」欄  選択一覧'!D96","v":"経営学専攻"},{"$f":"'「志願先」欄  選択一覧'!E96","v":"一般入試"},{"$f":"'「志願先」欄  選択一覧'!F96","v":"経営史"},"修士課程経営学研究科経営学専攻一般入試",{"$f":"'「志願先」欄  選択一覧'!G96","v":"併願可"}]
[null,{"$f":"'「志願先」欄  選択一覧'!B97","v":"修士課程"},{"$f":"'「志願先」欄  選択一覧'!C97","v":"経営学研究科"},{"$f":"'「志願先」欄  選択一覧'!D97","v":"経営学専攻"},{"$f":"'「志願先」欄  選択一覧'!E97","v":"一般入試"},{"$f":"'「志願先」欄  選択一覧'!F97","v":"会計"},"修士課程経営学研究科経営学専攻一般入試",{"$f":"'「志願先」欄  選択一覧'!G97","v":"併願可"}]
[null,{"$f":"'「志願先」欄  選択一覧'!B98","v":"修士課程"},{"$f":"'「志願先」欄  選択一覧'!C98","v":"経営学研究科"},{"$f":"'「志願先」欄  選択一覧'!D98","v":"経営学専攻"},{"$f":"'「志願先」欄  選択一覧'!E98","v":"一般入試"},{"$f":"'「志願先」欄  選択一覧'!F98","v":"経済"},"修士課程経営学研究科経営学専攻一般入試",{"$f":"'「志願先」欄  選択一覧'!G98","v":"併願可"}]
[null,{"$f":"'「志願先」欄  選択一覧'!B99","v":"修士課程"},{"$f":"'「志願先」欄  選択一覧'!C99","v":"経営学研究科"},{"$f":"'「志願先」欄  選択一覧'!D99","v":"経営学専攻"},{"$f":"'「志願先」欄  選択一覧'!E99","v":"一般入試"},{"$f":"'「志願先」欄  選択一覧'!F99","v":"組織・人事"},"修士課程経営学研究科経営学専攻一般入試",{"$f":"'「志願先」欄  選択一覧'!G99","v":"併願可"}]
[null,{"$f":"'「志願先」欄  選択一覧'!B100","v":"修士課程"},{"$f":"'「志願先」欄  選択一覧'!C100","v":"経営学研究科"},{"$f":"'「志願先」欄  選択一覧'!D100","v":"経営学専攻"},{"$f":"'「志願先」欄  選択一覧'!E100","v":"一般入試"},{"$f":"'「志願先」欄  選択一覧'!F100","v":"ファイナンス"},"修士課程経営学研究科経営学専攻一般入試",{"$f":"'「志願先」欄  選択一覧'!G100","v":"併願可"}]
[null,{"$f":"'「志願先」欄  選択一覧'!B101","v":"修士課程"},{"$f":"'「志願先」欄  選択一覧'!C101","v":"経営学研究科"},{"$f":"'「志願先」欄  選択一覧'!D101","v":"経営学専攻"},{"$f":"'「志願先」欄  選択一覧'!E101","v":"一般入試"},{"$f":"'「志願先」欄  選択一覧'!F101","v":"AI・データサイエンス"},"修士課程経営学研究科経営学専攻一般入試",{"$f":"'「志願先」欄  選択一覧'!G101","v":"併願可"}]
[null,{"$f":"'「志願先」欄  選択一覧'!B102","v":"修士課程"},{"$f":"'「志願先」欄  選択一覧'!C102","v":"経営学研究科"},{"$f":"'「志願先」欄  選択一覧'!D102","v":"経営学専攻"},{"$f":"'「志願先」欄  選択一覧'!E102","v":"社会人入試"},{"$f":"'「志願先」欄  選択一覧'!F102","v":"企業家養成コース"},"修士課程経営学研究科経営学専攻社会人入試",{"$f":"'「志願先」欄  選択一覧'!G102","v":"併願不可"}]
[null,{"$f":"'「志願先」欄  選択一覧'!B103","v":"修士課程"},{"$f":"'「志願先」欄  選択一覧'!C103","v":"経営学研究科"},{"$f":"'「志願先」欄  選択一覧'!D103","v":"経営学専攻"},{"$f":"'「志願先」欄  選択一覧'!E103","v":"社会人入試"},{"$f":"'「志願先」欄  選択一覧'!F103","v":"人材・組織マネジメントコース"},"修士課程経営学研究科経営学専攻社会人入試",{"$f":"'「志願先」欄  選択一覧'!G103","v":"併願不可"}]
[null,{"$f":"'「志願先」欄  選択一覧'!B104","v":"修士課程"},{"$f":"'「志願先」欄  選択一覧'!C104","v":"経営学研究科"},{"$f":"'「志願先」欄  選択一覧'!D104","v":"経営学専攻"},{"$f":"'「志願先」欄  選択一覧'!E104","v":"社会人入試"},{"$f":"'「志願先」欄  選択一覧'!F104","v":"マーケティングコース"},"修士課程経営学研究科経営学専攻社会人入試",{"$f":"'「志願先」欄  選択一覧'!G104","v":"併願不可"}]
[null,{"$f":"'「志願先」欄  選択一覧'!B105","v":"修士課程"},{"$f":"'「志願先」欄  選択一覧'!C105","v":"経営学研究科"},{"$f":"'「志願先」欄  選択一覧'!D105","v":"経営学専攻"},{"$f":"'「志願先」欄  選択一覧'!E105","v":"社会人入試"},{"$f":"'「志願先」欄  選択一覧'!F105","v":"アカウンティング・ファイナンスコース"},"修士課程経営学研究科経営学専攻社会人入試",{"$f":"'「志願先」欄  選択一覧'!G105","v":"併願不可"}]
[null,{"$f":"'「志願先」欄  選択一覧'!B106","v":"修士課程"},{"$f":"'「志願先」欄  選択一覧'!C106","v":"キャリアデザイン学研究科"},{"$f":"'「志願先」欄  選択一覧'!D106","v":"キャリアデザイン学専攻"},{"$f":"'「志願先」欄  選択一覧'!E106","v":"一般入試"},{"$f":"'「志願先」欄  選択一覧'!F106","v":"キャリア教育・発達プログラム"},"修士課程キャリアデザイン学研究科キャリアデザイン学専攻一般入試",{"$f":"'「志願先」欄  選択一覧'!G106","v":"併願不可"}]
[null,{"$f":"'「志願先」欄  選択一覧'!B107","v":"修士課程"},{"$f":"'「志願先」欄  選択一覧'!C107","v":"キャリアデザイン学研究科"},{"$f":"'「志願先」欄  選択一覧'!D107","v":"キャリアデザイン学専攻"},{"$f":"'「志願先」欄  選択一覧'!E107","v":"一般入試"},{"$f":"'「志願先」欄  選択一覧'!F107","v":"ビジネスキャリアプログラム"},"修士課程キャリアデザイン学研究科キャリアデザイン学専攻一般入試",{"$f":"'「志願先」欄  選択一覧'!G107","v":"併願不可"}]
[null,{"$f":"'「志願先」欄  選択一覧'!B108","v":"修士課程"},{"$f":"'「志願先」欄  選択一覧'!C108","v":"公共政策研究科"},{"$f":"'「志願先」欄  選択一覧'!D108","v":"公共政策学専攻"},{"$f":"'「志願先」欄  選択一覧'!E108","v":"一般入試"},{"$f":"'「志願先」欄  選択一覧'!F108","v":"公共マネジメントコース"},"修士課程公共政策研究科公共政策学専攻一般入試",{"$f":"'「志願先」欄  選択一覧'!G108","v":"併願不可"}]
[null,{"$f":"'「志願先」欄  選択一覧'!B109","v":"修士課程"},{"$f":"'「志願先」欄  選択一覧'!C109","v":"公共政策研究科"},{"$f":"'「志願先」欄  選択一覧'!D109","v":"公共政策学専攻"},{"$f":"'「志願先」欄  選択一覧'!E109","v":"一般入試"},{"$f":"'「志願先」欄  選択一覧'!F109","v":"政策研究コース"},"修士課程公共政策研究科公共政策学専攻一般入試",{"$f":"'「志願先」欄  選択一覧'!G109","v":"併願不可"}]
[null,{"$f":"'「志願先」欄  選択一覧'!B110","v":"修士課程"},{"$f":"'「志願先」欄  選択一覧'!C110","v":"公共政策研究科"},{"$f":"'「志願先」欄  選択一覧'!D110","v":"サステイナビリティ学専攻"},{"$f":"'「志願先」欄  選択一覧'!E110","v":"一般入試"},{"$f":"'「志願先」欄  選択一覧'!F110","v":"なし"},"修士課程公共政策研究科サステイナビリティ学専攻一般入試",{"$f":"'「志願先」欄  選択一覧'!G110","v":"併願不可"}]
[null,{"$f":"'「志願先」欄  選択一覧'!B111","v":"修士課程"},{"$f":"'「志願先」欄  選択一覧'!C111","v":"公共政策研究科"},{"$f":"'「志願先」欄  選択一覧'!D111","v":"公共政策学専攻"},{"$f":"'「志願先」欄  選択一覧'!E111","v":"社会人入試"},{"$f":"'「志願先」欄  選択一覧'!F111","v":"公共マネジメントコース"},"修士課程公共政策研究科公共政策学専攻社会人入試",{"$f":"'「志願先」欄  選択一覧'!G111","v":"併願不可"}]
[null,{"$f":"'「志願先」欄  選択一覧'!B112","v":"修士課程"},{"$f":"'「志願先」欄  選択一覧'!C112","v":"公共政策研究科"},{"$f":"'「志願先」欄  選択一覧'!D112","v":"公共政策学専攻"},{"$f":"'「志願先」欄  選択一覧'!E112","v":"社会人入試"},{"$f":"'「志願先」欄  選択一覧'!F112","v":"政策研究コース"},"修士課程公共政策研究科公共政策学専攻社会人入試",{"$f":"'「志願先」欄  選択一覧'!G112","v":"併願不可"}]
[null,{"$f":"'「志願先」欄  選択一覧'!B113","v":"修士課程"},{"$f":"'「志願先」欄  選択一覧'!C113","v":"公共政策研究科"},{"$f":"'「志願先」欄  選択一覧'!D113","v":"サステイナビリティ学専攻"},{"$f":"'「志願先」欄  選択一覧'!E113","v":"社会人入試"},{"$f":"'「志願先」欄  選択一覧'!F113","v":"なし"},"修士課程公共政策研究科サステイナビリティ学専攻社会人入試",{"$f":"'「志願先」欄  選択一覧'!G113","v":"併願不可"}]
[null,{"$f":"'「志願先」欄  選択一覧'!B114","v":"修士課程"},{"$f":"'「志願先」欄  選択一覧'!C114","v":"連帯社会インスティテュート"},{"$f":"'「志願先」欄  選択一覧'!D114","v":"所属専攻：政治学専攻"},{"$f":"'「志願先」欄  選択一覧'!E114","v":"一般入試"},{"$f":"'「志願先」欄  選択一覧'!F114","v":"労働組合プログラム"},"修士課程連帯社会インスティテュート所属専攻：政治学専攻一般入試",{"$f":"'「志願先」欄  選択一覧'!G114","v":"併願不可"}]
[null,{"$f":"'「志願先」欄  選択一覧'!B115","v":"修士課程"},{"$f":"'「志願先」欄  選択一覧'!C115","v":"連帯社会インスティテュート"},{"$f":"'「志願先」欄  選択一覧'!D115","v":"所属専攻：公共政策学専攻"},{"$f":"'「志願先」欄  選択一覧'!E115","v":"一般入試"},{"$f":"'「志願先」欄  選択一覧'!F115","v":"労働組合プログラム"},"修士課程連帯社会インスティテュート所属専攻：公共政策学専攻一般入試",{"$f":"'「志願先」欄  選択一覧'!G115","v":"併願不可"}]
[null,{"$f":"'「志願先」欄  選択一覧'!B116","v":"修士課程"},{"$f":"'「志願先」欄  選択一覧'!C116","v":"連帯社会インスティテュート"},{"$f":"'「志願先」欄  選択一覧'!D116","v":"所属専攻：政治学専攻"},{"$f":"'「志願先」欄  選択一覧'!E116","v":"一般入試"},{"$f":"'「志願先」欄  選択一覧'!F116","v":"協同組合プログラム"},"修士課程連帯社会インスティテュート所属専攻：政治学専攻一般入試",{"$f":"'「志願先」欄  選択一覧'!G116","v":"併願不可"}]
[null,{"$f":"'「志願先」欄  選択一覧'!B117","v":"修士課程"},{"$f":"'「志願先」欄  選択一覧'!C117","v":"連帯社会インスティテュート"},{"$f":"'「志願先」欄  選択一覧'!D117","v":"所属専攻：公共政策学専攻"},{"$f":"'「志願先」欄  選択一覧'!E117","v":"一般入試"},{"$f":"'「志願先」欄  選択一覧'!F117","v":"協同組合プログラム"},"修士課程連帯社会インスティテュート所属専攻：公共政策学専攻一般入試",{"$f":"'「志願先」欄  選択一覧'!G117","v":"併願不可"}]
[null,{"$f":"'「志願先」欄  選択一覧'!B118","v":"修士課程"},{"$f":"'「志願先」欄  選択一覧'!C118","v":"連帯社会インスティテュート"},{"$f":"'「志願先」欄  選択一覧'!D118","v":"所属専攻：政治学専攻"},{"$f":"'「志願先」欄  選択一覧'!E118","v":"一般入試"},{"$f":"'「志願先」欄  選択一覧'!F118","v":"NPOプログラム"},"修士課程連帯社会インスティテュート所属専攻：政治学専攻一般入試",{"$f":"'「志願先」欄  選択一覧'!G118","v":"併願不可"}]
[null,{"$f":"'「志願先」欄  選択一覧'!B119","v":"修士課程"},{"$f":"'「志願先」欄  選択一覧'!C119","v":"連帯社会インスティテュート"},{"$f":"'「志願先」欄  選択一覧'!D119","v":"所属専攻：公共政策学専攻"},{"$f":"'「志願先」欄  選択一覧'!E119","v":"一般入試"},{"$f":"'「志願先」欄  選択一覧'!F119","v":"NPOプログラム"},"修士課程連帯社会インスティテュート所属専攻：公共政策学専攻一般入試",{"$f":"'「志願先」欄  選択一覧'!G119","v":"併願不可"}]
[null,{"$f":"'「志願先」欄  選択一覧'!B120","v":"修士課程"},{"$f":"'「志願先」欄  選択一覧'!C120","v":"連帯社会インスティテュート"},{"$f":"'「志願先」欄  選択一覧'!D120","v":"所属専攻：政治学専攻"},{"$f":"'「志願先」欄  選択一覧'!E120","v":"社会人入試"},{"$f":"'「志願先」欄  選択一覧'!F120","v":"労働組合プログラム"},"修士課程連帯社会インスティテュート所属専攻：政治学専攻社会人入試",{"$f":"'「志願先」欄  選択一覧'!G120","v":"併願不可"}]
[null,{"$f":"'「志願先」欄  選択一覧'!B121","v":"修士課程"},{"$f":"'「志願先」欄  選択一覧'!C121","v":"連帯社会インスティテュート"},{"$f":"'「志願先」欄  選択一覧'!D121","v":"所属専攻：公共政策学専攻"},{"$f":"'「志願先」欄  選択一覧'!E121","v":"社会人入試"},{"$f":"'「志願先」欄  選択一覧'!F121","v":"労働組合プログラム"},"修士課程連帯社会インスティテュート所属専攻：公共政策学専攻社会人入試",{"$f":"'「志願先」欄  選択一覧'!G121","v":"併願不可"}]
[null,{"$f":"'「志願先」欄  選択一覧'!B122","v":"修士課程"},{"$f":"'「志願先」欄  選択一覧'!C122","v":"連帯社会インスティテュート"},{"$f":"'「志願先」欄  選択一覧'!D122","v":"所属専攻：政治学専攻"},{"$f":"'「志願先」欄  選択一覧'!E122","v":"社会人入試"},{"$f":"'「志願先」欄  選択一覧'!F122","v":"協同組合プログラム"},"修士課程連帯社会インスティテュート所属専攻：政治学専攻社会人入試",{"$f":"'「志願先」欄  選択一覧'!G122","v":"併願不可"}]
[null,{"$f":"'「志願先」欄  選択一覧'!B123","v":"修士課程"},{"$f":"'「志願先」欄  選択一覧'!C123","v":"連帯社会インスティテュート"},{"$f":"'「志願先」欄  選択一覧'!D123","v":"所属専攻：公共政策学専攻"},{"$f":"'「志願先」欄  選択一覧'!E123","v":"社会人入試"},{"$f":"'「志願先」欄  選択一覧'!F123","v":"協同組合プログラム"},"修士課程連帯社会インスティテュート所属専攻：公共政策学専攻社会人入試",{"$f":"'「志願先」欄  選択一覧'!G123","v":"併願不可"}]
[null,{"$f":"'「志願先」欄  選択一覧'!B124","v":"修士課程"},{"$f":"'「志願先」欄  選択一覧'!C124","v":"連帯社会インスティテュート"},{"$f":"'「志願先」欄  選択一覧'!D124","v":"所属専攻：政治学専攻"},{"$f":"'「志願先」欄  選択一覧'!E124","v":"社会人入試"},{"$f":"'「志願先」欄  選択一覧'!F124","v":"NPOプログラム"},"修士課程連帯社会インスティテュート所属専攻：政治学専攻社会人入試",{"$f":"'「志願先」欄  選択一覧'!G124","v":"併願不可"}]
[null,{"$f":"'「志願先」欄  選択一覧'!B125","v":"修士課程"},{"$f":"'「志願先」欄  選択一覧'!C125","v":"連帯社会インスティテュート"},{"$f":"'「志願先」欄  選択一覧'!D125","v":"所属専攻：公共政策学専攻"},{"$f":"'「志願先」欄  選択一覧'!E125","v":"社会人入試"},{"$f":"'「志願先」欄  選択一覧'!F125","v":"NPOプログラム"},"修士課程連帯社会インスティテュート所属専攻：公共政策学専攻社会人入試",{"$f":"'「志願先」欄  選択一覧'!G125","v":"併願不可"}]
[null,{"$f":"'「志願先」欄  選択一覧'!B126","v":"修士課程"},{"$f":"'「志願先」欄  選択一覧'!C126","v":"連帯社会インスティテュート"},{"$f":"'「志願先」欄  選択一覧'!D126","v":"所属専攻：政治学専攻"},{"$f":"'「志願先」欄  選択一覧'!E126","v":"指定団体推薦社会人入試"},{"$f":"'「志願先」欄  選択一覧'!F126","v":"労働組合プログラム"},"修士課程連帯社会インスティテュート所属専攻：政治学専攻指定団体推薦社会人入試",{"$f":"'「志願先」欄  選択一覧'!G126","v":"併願不可"}]
[null,{"$f":"'「志願先」欄  選択一覧'!B127","v":"修士課程"},{"$f":"'「志願先」欄  選択一覧'!C127","v":"連帯社会インスティテュート"},{"$f":"'「志願先」欄  選択一覧'!D127","v":"所属専攻：公共政策学専攻"},{"$f":"'「志願先」欄  選択一覧'!E127","v":"指定団体推薦社会人入試"},{"$f":"'「志願先」欄  選択一覧'!F127","v":"労働組合プログラム"},"修士課程連帯社会インスティテュート所属専攻：公共政策学専攻指定団体推薦社会人入試",{"$f":"'「志願先」欄  選択一覧'!G127","v":"併願不可"}]
[null,{"$f":"'「志願先」欄  選択一覧'!B128","v":"修士課程"},{"$f":"'「志願先」欄  選択一覧'!C128","v":"連帯社会インスティテュート"},{"$f":"'「志願先」欄  選択一覧'!D128","v":"所属専攻：政治学専攻"},{"$f":"'「志願先」欄  選択一覧'!E128","v":"指定団体推薦社会人入試"},{"$f":"'「志願先」欄  選択一覧'!F128","v":"協同組合プログラム"},"修士課程連帯社会インスティテュート所属専攻：政治学専攻指定団体推薦社会人入試",{"$f":"'「志願先」欄  選択一覧'!G128","v":"併願不可"}]
[null,{"$f":"'「志願先」欄  選択一覧'!B129","v":"修士課程"},{"$f":"'「志願先」欄  選択一覧'!C129","v":"連帯社会インスティテュート"},{"$f":"'「志願先」欄  選択一覧'!D129","v":"所属専攻：公共政策学専攻"},{"$f":"'「志願先」欄  選択一覧'!E129","v":"指定団体推薦社会人入試"},{"$f":"'「志願先」欄  選択一覧'!F129","v":"協同組合プログラム"},"修士課程連帯社会インスティテュート所属専攻：公共政策学専攻指定団体推薦社会人入試",{"$f":"'「志願先」欄  選択一覧'!G129","v":"併願不可"}]
[null,{"$f":"'「志願先」欄  選択一覧'!B130","v":"修士課程"},{"$f":"'「志願先」欄  選択一覧'!C130","v":"連帯社会インスティテュート"},{"$f":"'「志願先」欄  選択一覧'!D130","v":"所属専攻：政治学専攻"},{"$f":"'「志願先」欄  選択一覧'!E130","v":"指定団体推薦社会人入試"},{"$f":"'「志願先」欄  選択一覧'!F130","v":"NPOプログラム"},"修士課程連帯社会インスティテュート所属専攻：政治学専攻指定団体推薦社会人入試",{"$f":"'「志願先」欄  選択一覧'!G130","v":"併願不可"}]
[null,{"$f":"'「志願先」欄  選択一覧'!B131","v":"修士課程"},{"$f":"'「志願先」欄  選択一覧'!C131","v":"連帯社会インスティテュート"},{"$f":"'「志願先」欄  選択一覧'!D131","v":"所属専攻：公共政策学専攻"},{"$f":"'「志願先」欄  選択一覧'!E131","v":"指定団体推薦社会人入試"},{"$f":"'「志願先」欄  選択一覧'!F131","v":"NPOプログラム"},{"$f":"B131&C131&D131&E131","v":"修士課程連帯社会インスティテュート所属専攻：公共政策学専攻指定団体推薦社会人入試"},{"$f":"'「志願先」欄  選択一覧'!G131","v":"併願不可"}]
[null,{"$f":"'「志願先」欄  選択一覧'!B132","v":"博士後期課程"},{"$f":"'「志願先」欄  選択一覧'!C132","v":"人文科学研究科"},{"$f":"'「志願先」欄  選択一覧'!D132","v":"哲学専攻"},{"$f":"'「志願先」欄  選択一覧'!E132","v":"一般入試"},{"$f":"'「志願先」欄  選択一覧'!F132","v":"なし"},"博士後期課程人文科学研究科哲学専攻一般入試",{"$f":"'「志願先」欄  選択一覧'!G132","v":"該当なし"}]
[null,{"$f":"'「志願先」欄  選択一覧'!B133","v":"博士後期課程"},{"$f":"'「志願先」欄  選択一覧'!C133","v":"人文科学研究科"},{"$f":"'「志願先」欄  選択一覧'!D133","v":"日本文学専攻"},{"$f":"'「志願先」欄  選択一覧'!E133","v":"一般入試"},{"$f":"'「志願先」欄  選択一覧'!F133","v":"なし"},"博士後期課程人文科学研究科日本文学専攻一般入試",{"$f":"'「志願先」欄  選択一覧'!G133","v":"該当なし"}]
[null,{"$f":"'「志願先」欄  選択一覧'!B134","v":"博士後期課程"},{"$f":"'「志願先」欄  選択一覧'!C134","v":"人文科学研究科"},{"$f":"'「志願先」欄  選択一覧'!D134","v":"英文学専攻"},{"$f":"'「志願先」欄  選択一覧'!E134","v":"一般入試"},{"$f":"'「志願先」欄  選択一覧'!F134","v":"なし"},"博士後期課程人文科学研究科英文学専攻一般入試",{"$f":"'「志願先」欄  選択一覧'!G134","v":"該当なし"}]
[null,{"$f":"'「志願先」欄  選択一覧'!B135","v":"博士後期課程"},{"$f":"'「志願先」欄  選択一覧'!C135","v":"人文科学研究科"},{"$f":"'「志願先」欄  選択一覧'!D135","v":"史学専攻"},{"$f":"'「志願先」欄  選択一覧'!E135","v":"一般入試"},{"$f":"'「志願先」欄  選択一覧'!F135","v":"なし"},"博士後期課程人文科学研究科史学専攻一般入試",{"$f":"'「志願先」欄  選択一覧'!G135","v":"該当なし"}]
[null,{"$f":"'「志願先」欄  選択一覧'!B136","v":"博士後期課程"},{"$f":"'「志願先」欄  選択一覧'!C136","v":"人文科学研究科"},{"$f":"'「志願先」欄  選択一覧'!D136","v":"史学専攻"},{"$f":"'「志願先」欄  選択一覧'!E136","v":"社会人入試"},{"$f":"'「志願先」欄  選択一覧'!F136","v":"なし"},"博士後期課程人文科学研究科史学専攻社会人入試",{"$f":"'「志願先」欄  選択一覧'!G136","v":"該当なし"}]
[null,{"$f":"'「志願先」欄  選択一覧'!B137","v":"博士後期課程"},{"$f":"'「志願先」欄  選択一覧'!C137","v":"人文科学研究科"},{"$f":"'「志願先」欄  選択一覧'!D137","v":"地理学専攻"},{"$f":"'「志願先」欄  選択一覧'!E137","v":"一般入試"},{"$f":"'「志願先」欄  選択一覧'!F137","v":"なし"},"博士後期課程人文科学研究科地理学専攻一般入試",{"$f":"'「志願先」欄  選択一覧'!G137","v":"該当なし"}]
[null,{"$f":"'「志願先」欄  選択一覧'!B138","v":"博士後期課程"},{"$f":"'「志願先」欄  選択一覧'!C138","v":"人文科学研究科"},{"$f":"'「志願先」欄  選択一覧'!D138","v":"心理学専攻"},{"$f":"'「志願先」欄  選択一覧'!E138","v":"一般入試"},{"$f":"'「志願先」欄  選択一覧'!F138","v":"なし"},"博士後期課程人文科学研究科心理学専攻一般入試",{"$f":"'「志願先」欄  選択一覧'!G138","v":"該当なし"}]
[null,{"$f":"'「志願先」欄  選択一覧'!B139","v":"博士後期課程"},{"$f":"'「志願先」欄  選択一覧'!C139","v":"人文科学研究科"},{"$f":"'「志願先」欄  選択一覧'!D139","v":"国際日本学インスティテュート"},{"$f":"'「志願先」欄  選択一覧'!E139","v":"一般入試"},{"$f":"'「志願先」欄  選択一覧'!F139","v":"所属専攻：哲学"},"博士後期課程人文科学研究科国際日本学インスティテュート一般入試",{"$f":"'「志願先」欄  選択一覧'!G139","v":"該当なし"}]
[null,{"$f":"'「志願先」欄  選択一覧'!B140","v":"博士後期課程"},{"$f":"'「志願先」欄  選択一覧'!C140","v":"人文科学研究科"},{"$f":"'「志願先」欄  選択一覧'!D140","v":"国際日本学インスティテュート"},{"$f":"'「志願先」欄  選択一覧'!E140","v":"一般入試"},{"$f":"'「志願先」欄  選択一覧'!F140","v":"所属専攻：日本文学"},"博士後期課程人文科学研究科国際日本学インスティテュート一般入試",{"$f":"'「志願先」欄  選択一覧'!G140","v":"該当なし"}]
[null,{"$f":"'「志願先」欄  選択一覧'!B141","v":"博士後期課程"},{"$f":"'「志願先」欄  選択一覧'!C141","v":"人文科学研究科"},{"$f":"'「志願先」欄  選択一覧'!D141","v":"国際日本学インスティテュート"},{"$f":"'「志願先」欄  選択一覧'!E141","v":"一般入試"},{"$f":"'「志願先」欄  選択一覧'!F141","v":"所属専攻：英文学"},"博士後期課程人文科学研究科国際日本学インスティテュート一般入試",{"$f":"'「志願先」欄  選択一覧'!G141","v":"該当なし"}]
[null,{"$f":"'「志願先」欄  選択一覧'!B142","v":"博士後期課程"},{"$f":"'「志願先」欄  選択一覧'!C142","v":"人文科学研究科"},{"$f":"'「志願先」欄  選択一覧'!D142","v":"国際日本学インスティテュート"},{"$f":"'「志願先」欄  選択一覧'!E142","v":"一般入試"},{"$f":"'「志願先」欄  選択一覧'!F142","v":"所属専攻：史学"},"博士後期課程人文科学研究科国際日本学インスティテュート一般入試",{"$f":"'「志願先」欄  選択一覧'!G142","v":"該当なし"}]
[null,{"$f":"'「志願先」欄  選択一覧'!B143","v":"博士後期課程"},{"$f":"'「志願先」欄  選択一覧'!C143","v":"人文科学研究科"},{"$f":"'「志願先」欄  選択一覧'!D143","v":"国際日本学インスティテュート"},{"$f":"'「志願先」欄  選択一覧'!E143","v":"一般入試"},{"$f":"'「志願先」欄  選択一覧'!F143","v":"所属専攻：地理学"},"博士後期課程人文科学研究科国際日本学インスティテュート一般入試",{"$f":"'「志願先」欄  選択一覧'!G143","v":"該当なし"}]
[null,{"$f":"'「志願先」欄  選択一覧'!B144","v":"博士後期課程"},{"$f":"'「志願先」欄  選択一覧'!C144","v":"国際文化研究科"},{"$f":"'「志願先」欄  選択一覧'!D144","v":"国際文化専攻"},{"$f":"'「志願先」欄  選択一覧'!E144","v":"一般入試"},{"$f":"'「志願先」欄  選択一覧'!F144","v":"なし"},"博士後期課程国際文化研究科国際文化専攻一般入試",{"$f":"'「志願先」欄  選択一覧'!G144","v":"該当なし"}]
[null,{"$f":"'「志願先」欄  選択一覧'!B145","v":"博士後期課程"},{"$f":"'「志願先」欄  選択一覧'!C145","v":"国際文化研究科"},{"$f":"'「志願先」欄  選択一覧'!D145","v":"国際文化専攻"},{"$f":"'「志願先」欄  選択一覧'!E145","v":"外国人入試"},{"$f":"'「志願先」欄  選択一覧'!F145","v":"なし"},"博士後期課程国際文化研究科国際文化専攻外国人入試",{"$f":"'「志願先」欄  選択一覧'!G145","v":"該当なし"}]
[null,{"$f":"'「志願先」欄  選択一覧'!B146","v":"博士後期課程"},{"$f":"'「志願先」欄  選択一覧'!C146","v":"国際文化研究科"},{"$f":"'「志願先」欄  選択一覧'!D146","v":"国際文化専攻"},{"$f":"'「志願先」欄  選択一覧'!E146","v":"社会人入試"},{"$f":"'「志願先」欄  選択一覧'!F146","v":"なし"},"博士後期課程国際文化研究科国際文化専攻社会人入試",{"$f":"'「志願先」欄  選択一覧'!G146","v":"該当なし"}]
[null,{"$f":"'「志願先」欄  選択一覧'!B147","v":"博士後期課程"},{"$f":"'「志願先」欄  選択一覧'!C147","v":"経済学研究科"},{"$f":"'「志願先」欄  選択一覧'!D147","v":"経済学専攻"},{"$f":"'「志願先」欄  選択一覧'!E147","v":"一般入試"},{"$f":"'「志願先」欄  選択一覧'!F147","v":"歴史・思想・制度"},"博士後期課程経済学研究科経済学専攻一般入試",{"$f":"'「志願先」欄  選択一覧'!G147","v":"該当なし"}]
[null,{"$f":"'「志願先」欄  選択一覧'!B148","v":"博士後期課程"},{"$f":"'「志願先」欄  選択一覧'!C148","v":"経済学研究科"},{"$f":"'「志願先」欄  選択一覧'!D148","v":"経済学専攻"},{"$f":"'「志願先」欄  選択一覧'!E148","v":"一般入試"},{"$f":"'「志願先」欄  選択一覧'!F148","v":"金融・企業"},"博士後期課程経済学研究科経済学専攻一般入試",{"$f":"'「志願先」欄  選択一覧'!G148","v":"該当なし"}]
[null,{"$f":"'「志願先」欄  選択一覧'!B149","v":"博士後期課程"},{"$f":"'「志願先」欄  選択一覧'!C149","v":"経済学研究科"},{"$f":"'「志願先」欄  選択一覧'!D149","v":"経済学専攻"},{"$f":"'「志願先」欄  選択一覧'!E149","v":"一般入試"},{"$f":"'「志願先」欄  選択一覧'!F149","v":"政策・環境"},"博士後期課程経済学研究科経済学専攻一般入試",{"$f":"'「志願先」欄  選択一覧'!G149","v":"該当なし"}]
[null,{"$f":"'「志願先」欄  選択一覧'!B150","v":"博士後期課程"},{"$f":"'「志願先」欄  選択一覧'!C150","v":"経済学研究科"},{"$f":"'「志願先」欄  選択一覧'!D150","v":"経済学専攻"},{"$f":"'「志願先」欄  選択一覧'!E150","v":"一般入試"},{"$f":"'「志願先」欄  選択一覧'!F150","v":"国際・地域"},"博士後期課程経済学研究科経済学専攻一般入試",{"$f":"'「志願先」欄  選択一覧'!G150","v":"該当なし"}]
[null,{"$f":"'「志願先」欄  選択一覧'!B151","v":"博士後期課程"},{"$f":"'「志願先」欄  選択一覧'!C151","v":"経済学研究科"},{"$f":"'「志願先」欄  選択一覧'!D151","v":"経済学専攻"},{"$f":"'「志願先」欄  選択一覧'!E151","v":"一般入試"},{"$f":"'「志願先」欄  選択一覧'!F151","v":"応用ミクロ・応用マクロ・計量"},"博士後期課程経済学研究科経済学専攻一般入試",{"$f":"'「志願先」欄  選択一覧'!G151","v":"該当なし"}]
[null,{"$f":"'「志願先」欄  選択一覧'!B152","v":"博士後期課程"},{"$f":"'「志願先」欄  選択一覧'!C152","v":"経済学研究科"},{"$f":"'「志願先」欄  選択一覧'!D152","v":"経済学専攻"},{"$f":"'「志願先」欄  選択一覧'!E152","v":"社会人入試"},{"$f":"'「志願先」欄  選択一覧'!F152","v":"歴史・思想・制度"},"博士後期課程経済学研究科経済学専攻社会人入試",{"$f":"'「志願先」欄  選択一覧'!G152","v":"該当なし"}]
[null,{"$f":"'「志願先」欄  選択一覧'!B153","v":"博士後期課程"},{"$f":"'「志願先」欄  選択一覧'!C153","v":"経済学研究科"},{"$f":"'「志願先」欄  選択一覧'!D153","v":"経済学専攻"},{"$f":"'「志願先」欄  選択一覧'!E153","v":"社会人入試"},{"$f":"'「志願先」欄  選択一覧'!F153","v":"金融・企業"},"博士後期課程経済学研究科経済学専攻社会人入試",{"$f":"'「志願先」欄  選択一覧'!G153","v":"該当なし"}]
[null,{"$f":"'「志願先」欄  選択一覧'!B154","v":"博士後期課程"},{"$f":"'「志願先」欄  選択一覧'!C154","v":"経済学研究科"},{"$f":"'「志願先」欄  選択一覧'!D154","v":"経済学専攻"},{"$f":"'「志願先」欄  選択一覧'!E154","v":"社会人入試"},{"$f":"'「志願先」欄  選択一覧'!F154","v":"政策・環境"},"博士後期課程経済学研究科経済学専攻社会人入試",{"$f":"'「志願先」欄  選択一覧'!G154","v":"該当なし"}]
[null,{"$f":"'「志願先」欄  選択一覧'!B155","v":"博士後期課程"},{"$f":"'「志願先」欄  選択一覧'!C155","v":"経済学研究科"},{"$f":"'「志願先」欄  選択一覧'!D155","v":"経済学専攻"},{"$f":"'「志願先」欄  選択一覧'!E155","v":"社会人入試"},{"$f":"'「志願先」欄  選択一覧'!F155","v":"国際・地域"},"博士後期課程経済学研究科経済学専攻社会人入試",{"$f":"'「志願先」欄  選択一覧'!G155","v":"該当なし"}]
[null,{"$f":"'「志願先」欄  選択一覧'!B156","v":"博士後期課程"},{"$f":"'「志願先」欄  選択一覧'!C156","v":"経済学研究科"},{"$f":"'「志願先」欄  選択一覧'!D156","v":"経済学専攻"},{"$f":"'「志願先」欄  選択一覧'!E156","v":"社会人入試"},{"$f":"'「志願先」欄  選択一覧'!F156","v":"応用ミクロ・応用マクロ・計量"},"博士後期課程経済学研究科経済学専攻社会人入試",{"$f":"'「志願先」欄  選択一覧'!G156","v":"該当なし"}]
[null,{"$f":"'「志願先」欄  選択一覧'!B157","v":"博士後期課程"},{"$f":"'「志願先」欄  選択一覧'!C157","v":"法学研究科"},{"$f":"'「志願先」欄  選択一覧'!D157","v":"法律学専攻"},{"$f":"'「志願先」欄  選択一覧'!E157","v":"一般入試"},{"$f":"'「志願先」欄  選択一覧'!F157","v":"なし"},"博士後期課程法学研究科法律学専攻一般入試",{"$f":"'「志願先」欄  選択一覧'!G157","v":"該当なし"}]
[null,{"$f":"'「志願先」欄  選択一覧'!B158","v":"博士後期課程"},{"$f":"'「志願先」欄  選択一覧'!C158","v":"政治学研究科"},{"$f":"'「志願先」欄  選択一覧'!D158","v":"政治学専攻"},{"$f":"'「志願先」欄  選択一覧'!E158","v":"一般入試"},{"$f":"'「志願先」欄  選択一覧'!F158","v":"なし"},"博士後期課程政治学研究科政治学専攻一般入試",{"$f":"'「志願先」欄  選択一覧'!G158","v":"該当なし"}]
[null,{"$f":"'「志願先」欄  選択一覧'!B159","v":"博士後期課程"},{"$f":"'「志願先」欄  選択一覧'!C159","v":"社会学研究科"},{"$f":"'「志願先」欄  選択一覧'!D159","v":"社会学専攻"},{"$f":"'「志願先」欄  選択一覧'!E159","v":"一般入試"},{"$f":"'「志願先」欄  選択一覧'!F159","v":"なし"},"博士後期課程社会学研究科社会学専攻一般入試",{"$f":"'「志願先」欄  選択一覧'!G159","v":"該当なし"}]
[null,{"$f":"'「志願先」欄  選択一覧'!B160","v":"博士後期課程"},{"$f":"'「志願先」欄  選択一覧'!C160","v":"経営学研究科"},{"$f":"'「志願先」欄  選択一覧'!D160","v":"経営学専攻"},{"$f":"'「志願先」欄  選択一覧'!E160","v":"一般入試"},{"$f":"'「志願先」欄  選択一覧'!F160","v":"なし"},"博士後期課程経営学研究科経営学専攻一般入試",{"$f":"'「志願先」欄  選択一覧'!G160","v":"該当なし"}]
[null,{"$f":"'「志願先」欄  選択一覧'!B161","v":"博士後期課程"},{"$f":"'「志願先」欄  選択一覧'!C161","v":"経営学研究科"},{"$f":"'「志願先」欄  選択一覧'!D161","v":"経営学専攻"},{"$f":"'「志願先」欄  選択一覧'!E161","v":"社会人入試"},{"$f":"'「志願先」欄  選択一覧'!F161","v":"なし"},"博士後期課程経営学研究科経営学専攻社会人入試",{"$f":"'「志願先」欄  選択一覧'!G161","v":"該当なし"}]
[null,{"$f":"'「志願先」欄  選択一覧'!B162","v":"博士後期課程"},{"$f":"'「志願先」欄  選択一覧'!C162","v":"公共政策研究科"},{"$f":"'「志願先」欄  選択一覧'!D162","v":"公共政策学専攻"},{"$f":"'「志願先」欄  選択一覧'!E162","v":"一般入試"},{"$f":"'「志願先」欄  選択一覧'!F162","v":"なし"},"博士後期課程公共政策研究科公共政策学専攻一般入試",{"$f":"'「志願先」欄  選択一覧'!G162","v":"該当なし"}]
[null,{"$f":"'「志願先」欄  選択一覧'!B163","v":"博士後期課程"},{"$f":"'「志願先」欄  選択一覧'!C163","v":"公共政策研究科"},{"$f":"'「志願先」欄  選択一覧'!D163","v":"サステイナビリティ学専攻"},{"$f":"'「志願先」欄  選択一覧'!E163","v":"一般入試"},{"$f":"'「志願先」欄  選択一覧'!F163","v":"なし"},"博士後期課程公共政策研究科サステイナビリティ学専攻一般入試",{"$f":"'「志願先」欄  選択一覧'!G163","v":"該当なし"}]
[null,{"$f":"'「志願先」欄  選択一覧'!B164","v":"博士後期課程"},{"$f":"'「志願先」欄  選択一覧'!C164","v":"公共政策研究科"},{"$f":"'「志願先」欄  選択一覧'!D164","v":"公共政策学専攻"},{"$f":"'「志願先」欄  選択一覧'!E164","v":"社会人入試"},{"$f":"'「志願先」欄  選択一覧'!F164","v":"なし"},"博士後期課程公共政策研究科公共政策学専攻社会人入試",{"$f":"'「志願先」欄  選択一覧'!G164","v":"該当なし"}]
[null,{"$f":"'「志願先」欄  選択一覧'!B165","v":"博士後期課程"},{"$f":"'「志願先」欄  選択一覧'!C165","v":"公共政策研究科"},{"$f":"'「志願先」欄  選択一覧'!D165","v":"サステイナビリティ学専攻"},{"$f":"'「志願先」欄  選択一覧'!E165","v":"社会人入試"},{"$f":"'「志願先」欄  選択一覧'!F165","v":"なし"},"博士後期課程公共政策研究科サステイナビリティ学専攻社会人入試",{"$f":"'「志願先」欄  選択一覧'!G165","v":"該当なし"}]
[null,{"$f":"'「志願先」欄  選択一覧'!B166","v":"研修生"},{"$f":"'「志願先」欄  選択一覧'!C166","v":"人文科学研究科"},{"$f":"'「志願先」欄  選択一覧'!D166","v":"哲学専攻"},{"$f":"'「志願先」欄  選択一覧'!E166","v":"研修生入試（単願）"},{"$f":"'「志願先」欄  選択一覧'!F166","v":"なし"},"研修生人文科学研究科哲学専攻研修生入試（単願）",{"$f":"'「志願先」欄  選択一覧'!G166","v":"該当なし"}]
[null,{"$f":"'「志願先」欄  選択一覧'!B167","v":"研修生"},{"$f":"'「志願先」欄  選択一覧'!C167","v":"人文科学研究科"},{"$f":"'「志願先」欄  選択一覧'!D167","v":"日本文学専攻"},{"$f":"'「志願先」欄  選択一覧'!E167","v":"研修生入試（単願）"},{"$f":"'「志願先」欄  選択一覧'!F167","v":"なし"},"研修生人文科学研究科日本文学専攻研修生入試（単願）",{"$f":"'「志願先」欄  選択一覧'!G167","v":"該当なし"}]
[null,{"$f":"'「志願先」欄  選択一覧'!B168","v":"研修生"},{"$f":"'「志願先」欄  選択一覧'!C168","v":"人文科学研究科"},{"$f":"'「志願先」欄  選択一覧'!D168","v":"英文学専攻"},{"$f":"'「志願先」欄  選択一覧'!E168","v":"研修生入試（単願）"},{"$f":"'「志願先」欄  選択一覧'!F168","v":"なし"},"研修生人文科学研究科英文学専攻研修生入試（単願）",{"$f":"'「志願先」欄  選択一覧'!G168","v":"該当なし"}]
[null,{"$f":"'「志願先」欄  選択一覧'!B169","v":"研修生"},{"$f":"'「志願先」欄  選択一覧'!C169","v":"人文科学研究科"},{"$f":"'「志願先」欄  選択一覧'!D169","v":"史学専攻"},{"$f":"'「志願先」欄  選択一覧'!E169","v":"研修生入試（単願）"},{"$f":"'「志願先」欄  選択一覧'!F169","v":"なし"},"研修生人文科学研究科史学専攻研修生入試（単願）",{"$f":"'「志願先」欄  選択一覧'!G169","v":"該当なし"}]
[null,{"$f":"'「志願先」欄  選択一覧'!B170","v":"研修生"},{"$f":"'「志願先」欄  選択一覧'!C170","v":"人文科学研究科"},{"$f":"'「志願先」欄  選択一覧'!D170","v":"地理学専攻"},{"$f":"'「志願先」欄  選択一覧'!E170","v":"研修生入試（単願）"},{"$f":"'「志願先」欄  選択一覧'!F170","v":"なし"},"研修生人文科学研究科地理学専攻研修生入試（単願）",{"$f":"'「志願先」欄  選択一覧'!G170","v":"該当なし"}]
[null,{"$f":"'「志願先」欄  選択一覧'!B171","v":"研修生"},{"$f":"'「志願先」欄  選択一覧'!C171","v":"人文科学研究科"},{"$f":"'「志願先」欄  選択一覧'!D171","v":"心理学専攻"},{"$f":"'「志願先」欄  選択一覧'!E171","v":"研修生入試（単願）"},{"$f":"'「志願先」欄  選択一覧'!F171","v":"なし"},"研修生人文科学研究科心理学専攻研修生入試（単願）",{"$f":"'「志願先」欄  選択一覧'!G171","v":"該当なし"}]
[null,{"$f":"'「志願先」欄  選択一覧'!B172","v":"研修生"},{"$f":"'「志願先」欄  選択一覧'!C172","v":"人文科学研究科"},{"$f":"'「志願先」欄  選択一覧'!D172","v":"国際日本学インスティテュート"},{"$f":"'「志願先」欄  選択一覧'!E172","v":"研修生入試（単願）"},{"$f":"'「志願先」欄  選択一覧'!F172","v":"所属専攻：哲学"},"研修生人文科学研究科国際日本学インスティテュート研修生入試（単願）",{"$f":"'「志願先」欄  選択一覧'!G172","v":"該当なし"}]
[null,{"$f":"'「志願先」欄  選択一覧'!B173","v":"研修生"},{"$f":"'「志願先」欄  選択一覧'!C173","v":"人文科学研究科"},{"$f":"'「志願先」欄  選択一覧'!D173","v":"国際日本学インスティテュート"},{"$f":"'「志願先」欄  選択一覧'!E173","v":"研修生入試（単願）"},{"$f":"'「志願先」欄  選択一覧'!F173","v":"所属専攻：日本文学"},"研修生人文科学研究科国際日本学インスティテュート研修生入試（単願）",{"$f":"'「志願先」欄  選択一覧'!G173","v":"該当なし"}]
[null,{"$f":"'「志願先」欄  選択一覧'!B174","v":"研修生"},{"$f":"'「志願先」欄  選択一覧'!C174","v":"人文科学研究科"},{"$f":"'「志願先」欄  選択一覧'!D174","v":"国際日本学インスティテュート"},{"$f":"'「志願先」欄  選択一覧'!E174","v":"研修生入試（単願）"},{"$f":"'「志願先」欄  選択一覧'!F174","v":"所属専攻：英文学"},"研修生人文科学研究科国際日本学インスティテュート研修生入試（単願）",{"$f":"'「志願先」欄  選択一覧'!G174","v":"該当なし"}]
[null,{"$f":"'「志願先」欄  選択一覧'!B175","v":"研修生"},{"$f":"'「志願先」欄  選択一覧'!C175","v":"人文科学研究科"},{"$f":"'「志願先」欄  選択一覧'!D175","v":"国際日本学インスティテュート"},{"$f":"'「志願先」欄  選択一覧'!E175","v":"研修生入試（単願）"},{"$f":"'「志願先」欄  選択一覧'!F175","v":"所属専攻：史学"},"研修生人文科学研究科国際日本学インスティテュート研修生入試（単願）",{"$f":"'「志願先」欄  選択一覧'!G175","v":"該当なし"}]
[null,{"$f":"'「志願先」欄  選択一覧'!B176","v":"研修生"},{"$f":"'「志願先」欄  選択一覧'!C176","v":"人文科学研究科"},{"$f":"'「志願先」欄  選択一覧'!D176","v":"国際日本学インスティテュート"},{"$f":"'「志願先」欄  選択一覧'!E176","v":"研修生入試（単願）"},{"$f":"'「志願先」欄  選択一覧'!F176","v":"所属専攻：地理学"},"研修生人文科学研究科国際日本学インスティテュート研修生入試（単願）",{"$f":"'「志願先」欄  選択一覧'!G176","v":"該当なし"}]
[null,{"$f":"'「志願先」欄  選択一覧'!B177","v":"研修生"},{"$f":"'「志願先」欄  選択一覧'!C177","v":"国際文化研究科"},{"$f":"'「志願先」欄  選択一覧'!D177","v":"国際文化専攻"},{"$f":"'「志願先」欄  選択一覧'!E177","v":"研修生入試（単願）"},{"$f":"'「志願先」欄  選択一覧'!F177","v":"なし"},"研修生国際文化研究科国際文化専攻研修生入試（単願）",{"$f":"'「志願先」欄  選択一覧'!G177","v":"該当なし"}]
[null,{"$f":"'「志願先」欄  選択一覧'!B178","v":"研修生"},{"$f":"'「志願先」欄  選択一覧'!C178","v":"経済学研究科"},{"$f":"'「志願先」欄  選択一覧'!D178","v":"経済学専攻"},{"$f":"'「志願先」欄  選択一覧'!E178","v":"研修生入試（単願）"},{"$f":"'「志願先」欄  選択一覧'!F178","v":"歴史・思想・制度"},"研修生経済学研究科経済学専攻研修生入試（単願）",{"$f":"'「志願先」欄  選択一覧'!G178","v":"該当なし"}]
[null,{"$f":"'「志願先」欄  選択一覧'!B179","v":"研修生"},{"$f":"'「志願先」欄  選択一覧'!C179","v":"経済学研究科"},{"$f":"'「志願先」欄  選択一覧'!D179","v":"経済学専攻"},{"$f":"'「志願先」欄  選択一覧'!E179","v":"研修生入試（単願）"},{"$f":"'「志願先」欄  選択一覧'!F179","v":"金融・企業"},"研修生経済学研究科経済学専攻研修生入試（単願）",{"$f":"'「志願先」欄  選択一覧'!G179","v":"該当なし"}]
[null,{"$f":"'「志願先」欄  選択一覧'!B180","v":"研修生"},{"$f":"'「志願先」欄  選択一覧'!C180","v":"経済学研究科"},{"$f":"'「志願先」欄  選択一覧'!D180","v":"経済学専攻"},{"$f":"'「志願先」欄  選択一覧'!E180","v":"研修生入試（単願）"},{"$f":"'「志願先」欄  選択一覧'!F180","v":"政策・環境"},"研修生経済学研究科経済学専攻研修生入試（単願）",{"$f":"'「志願先」欄  選択一覧'!G180","v":"該当なし"}]
[null,{"$f":"'「志願先」欄  選択一覧'!B181","v":"研修生"},{"$f":"'「志願先」欄  選択一覧'!C181","v":"経済学研究科"},{"$f":"'「志願先」欄  選択一覧'!D181","v":"経済学専攻"},{"$f":"'「志願先」欄  選択一覧'!E181","v":"研修生入試（単願）"},{"$f":"'「志願先」欄  選択一覧'!F181","v":"国際・地域"},"研修生経済学研究科経済学専攻研修生入試（単願）",{"$f":"'「志願先」欄  選択一覧'!G181","v":"該当なし"}]
[null,{"$f":"'「志願先」欄  選択一覧'!B182","v":"研修生"},{"$f":"'「志願先」欄  選択一覧'!C182","v":"経済学研究科"},{"$f":"'「志願先」欄  選択一覧'!D182","v":"経済学専攻"},{"$f":"'「志願先」欄  選択一覧'!E182","v":"研修生入試（単願）"},{"$f":"'「志願先」欄  選択一覧'!F182","v":"応用ミクロ・応用マクロ・計量"},"研修生経済学研究科経済学専攻研修生入試（単願）",{"$f":"'「志願先」欄  選択一覧'!G182","v":"該当なし"}]
[null,{"$f":"'「志願先」欄  選択一覧'!B183","v":"研修生"},{"$f":"'「志願先」欄  選択一覧'!C183","v":"法学研究科"},{"$f":"'「志願先」欄  選択一覧'!D183","v":"法律学専攻"},{"$f":"'「志願先」欄  選択一覧'!E183","v":"研修生入試（単願）"},{"$f":"'「志願先」欄  選択一覧'!F183","v":"なし"},"研修生法学研究科法律学専攻研修生入試（単願）",{"$f":"'「志願先」欄  選択一覧'!G183","v":"該当なし"}]
[null,{"$f":"'「志願先」欄  選択一覧'!B184","v":"研修生"},{"$f":"'「志願先」欄  選択一覧'!C184","v":"政治学研究科"},{"$f":"'「志願先」欄  選択一覧'!D184","v":"政治学専攻"},{"$f":"'「志願先」欄  選択一覧'!E184","v":"研修生入試（単願）"},{"$f":"'「志願先」欄  選択一覧'!F184","v":"なし"},"研修生政治学研究科政治学専攻研修生入試（単願）",{"$f":"'「志願先」欄  選択一覧'!G184","v":"該当なし"}]
[null,{"$f":"'「志願先」欄  選択一覧'!B185","v":"研修生"},{"$f":"'「志願先」欄  選択一覧'!C185","v":"政治学研究科"},{"$f":"'「志願先」欄  選択一覧'!D185","v":"国際政治学専攻"},{"$f":"'「志願先」欄  選択一覧'!E185","v":"研修生入試（単願）"},{"$f":"'「志願先」欄  選択一覧'!F185","v":"なし"},"研修生政治学研究科国際政治学専攻研修生入試（単願）",{"$f":"'「志願先」欄  選択一覧'!G185","v":"該当なし"}]
[null,{"$f":"'「志願先」欄  選択一覧'!B186","v":"研修生"},{"$f":"'「志願先」欄  選択一覧'!C186","v":"社会学研究科"},{"$f":"'「志願先」欄  選択一覧'!D186","v":"社会学専攻"},{"$f":"'「志願先」欄  選択一覧'!E186","v":"研修生入試（単願）"},{"$f":"'「志願先」欄  選択一覧'!F186","v":"社会学コース"},"研修生社会学研究科社会学専攻研修生入試（単願）",{"$f":"'「志願先」欄  選択一覧'!G186","v":"該当なし"}]
[null,{"$f":"'「志願先」欄  選択一覧'!B187","v":"研修生"},{"$f":"'「志願先」欄  選択一覧'!C187","v":"社会学研究科"},{"$f":"'「志願先」欄  選択一覧'!D187","v":"社会学専攻"},{"$f":"'「志願先」欄  選択一覧'!E187","v":"研修生入試（単願）"},{"$f":"'「志願先」欄  選択一覧'!F187","v":"メディアコース"},"研修生社会学研究科社会学専攻研修生入試（単願）",{"$f":"'「志願先」欄  選択一覧'!G187","v":"該当なし"}]
[null,{"$f":"'「志願先」欄  選択一覧'!B188","v":"研修生"},{"$f":"'「志願先」欄  選択一覧'!C188","v":"経営学研究科"},{"$f":"'「志願先」欄  選択一覧'!D188","v":"経営学専攻"},{"$f":"'「志願先」欄  選択一覧'!E188","v":"研修生入試（単願）"},{"$f":"'「志願先」欄  選択一覧'!F188","v":"戦略・企業家"},"研修生経営学研究科経営学専攻研修生入試（単願）",{"$f":"'「志願先」欄  選択一覧'!G188","v":"該当なし"}]
[null,{"$f":"'「志願先」欄  選択一覧'!B189","v":"研修生"},{"$f":"'「志願先」欄  選択一覧'!C189","v":"経営学研究科"},{"$f":"'「志願先」欄  選択一覧'!D189","v":"経営学専攻"},{"$f":"'「志願先」欄  選択一覧'!E189","v":"研修生入試（単願）"},{"$f":"'「志願先」欄  選択一覧'!F189","v":"マーケティング"},"研修生経営学研究科経営学専攻研修生入試（単願）",{"$f":"'「志願先」欄  選択一覧'!G189","v":"該当なし"}]
[null,{"$f":"'「志願先」欄  選択一覧'!B190","v":"研修生"},{"$f":"'「志願先」欄  選択一覧'!C190","v":"経営学研究科"},{"$f":"'「志願先」欄  選択一覧'!D190","v":"経営学専攻"},{"$f":"'「志願先」欄  選択一覧'!E190","v":"研修生入試（単願）"},{"$f":"'「志願先」欄  選択一覧'!F190","v":"国際経営"},"研修生経営学研究科経営学専攻研修生入試（単願）",{"$f":"'「志願先」欄  選択一覧'!G190","v":"該当なし"}]
[null,{"$f":"'「志願先」欄  選択一覧'!B191","v":"研修生"},{"$f":"'「志願先」欄  選択一覧'!C191","v":"経営学研究科"},{"$f":"'「志願先」欄  選択一覧'!D191","v":"経営学専攻"},{"$f":"'「志願先」欄  選択一覧'!E191","v":"研修生入試（単願）"},{"$f":"'「志願先」欄  選択一覧'!F191","v":"経営史"},"研修生経営学研究科経営学専攻研修生入試（単願）",{"$f":"'「志願先」欄  選択一覧'!G191","v":"該当なし"}]
[null,{"$f":"'「志願先」欄  選択一覧'!B192","v":"研修生"},{"$f":"'「志願先」欄  選択一覧'!C192","v":"経営学研究科"},{"$f":"'「志願先」欄  選択一覧'!D192","v":"経営学専攻"},{"$f":"'「志願先」欄  選択一覧'!E192","v":"研修生入試（単願）"},{"$f":"'「志願先」欄  選択一覧'!F192","v":"会計"},"研修生経営学研究科経営学専攻研修生入試（単願）",{"$f":"'「志願先」欄  選択一覧'!G192","v":"該当なし"}]
[null,{"$f":"'「志願先」欄  選択一覧'!B193","v":"研修生"},{"$f":"'「志願先」欄  選択一覧'!C193","v":"経営学研究科"},{"$f":"'「志願先」欄  選択一覧'!D193","v":"経営学専攻"},{"$f":"'「志願先」欄  選択一覧'!E193","v":"研修生入試（単願）"},{"$f":"'「志願先」欄  選択一覧'!F193","v":"経済"},"研修生経営学研究科経営学専攻研修生入試（単願）",{"$f":"'「志願先」欄  選択一覧'!G193","v":"該当なし"}]
[null,{"$f":"'「志願先」欄  選択一覧'!B194","v":"研修生"},{"$f":"'「志願先」欄  選択一覧'!C194","v":"経営学研究科"},{"$f":"'「志願先」欄  選択一覧'!D194","v":"経営学専攻"},{"$f":"'「志願先」欄  選択一覧'!E194","v":"研修生入試（単願）"},{"$f":"'「志願先」欄  選択一覧'!F194","v":"組織・人事"},"研修生経営学研究科経営学専攻研修生入試（単願）",{"$f":"'「志願先」欄  選択一覧'!G194","v":"該当なし"}]
[null,{"$f":"'「志願先」欄  選択一覧'!B195","v":"研修生"},{"$f":"'「志願先」欄  選択一覧'!C195","v":"経営学研究科"},{"$f":"'「志願先」欄  選択一覧'!D195","v":"経営学専攻"},{"$f":"'「志願先」欄  選択一覧'!E195","v":"研修生入試（単願）"},{"$f":"'「志願先」欄  選択一覧'!F195","v":"ファイナンス"},{"$f":"B195&C195&D195&E195","v":"研修生経営学研究科経営学専攻研修生入試（単願）"},{"$f":"'「志願先」欄  選択一覧'!G195","v":"該当なし"}]
[null,{"$f":"'「志願先」欄  選択一覧'!B196","v":"研修生"},{"$f":"'「志願先」欄  選択一覧'!C196","v":"経営学研究科"},{"$f":"'「志願先」欄  選択一覧'!D196","v":"経営学専攻"},{"$f":"'「志願先」欄  選択一覧'!E196","v":"研修生入試（単願）"},{"$f":"'「志願先」欄  選択一覧'!F196","v":"AI・データサイエンス"},"研修生経営学研究科経営学専攻研修生入試（単願）",{"$f":"'「志願先」欄  選択一覧'!G196","v":"該当なし"}]
[null,{"$f":"'「志願先」欄  選択一覧'!B197","v":"修士課程"},{"$f":"'「志願先」欄  選択一覧'!C197","v":"人文科学研究科"},{"$f":"'「志願先」欄  選択一覧'!D197","v":"英文学専攻"},{"$f":"'「志願先」欄  選択一覧'!E197","v":"推薦枠入試"},{"$f":"'「志願先」欄  選択一覧'!F197","v":"なし"},"修士課程人文科学研究科英文学専攻推薦枠入試",{"$f":"'「志願先」欄  選択一覧'!G197","v":"併願不可"}]
[null,{"$f":"'「志願先」欄  選択一覧'!B198","v":"修士課程"},{"$f":"'「志願先」欄  選択一覧'!C198","v":"人文科学研究科"},{"$f":"'「志願先」欄  選択一覧'!D198","v":"地理学専攻"},{"$f":"'「志願先」欄  選択一覧'!E198","v":"学内入試"},{"$f":"'「志願先」欄  選択一覧'!F198","v":"なし"},"修士課程人文科学研究科地理学専攻学内入試",{"$f":"'「志願先」欄  選択一覧'!G198","v":"併願不可"}]
[null,{"$f":"'「志願先」欄  選択一覧'!B199","v":"修士課程"},{"$f":"'「志願先」欄  選択一覧'!C199","v":"人文科学研究科"},{"$f":"'「志願先」欄  選択一覧'!D199","v":"心理学専攻"},{"$f":"'「志願先」欄  選択一覧'!E199","v":"学内入試"},{"$f":"'「志願先」欄  選択一覧'!F199","v":"なし"},"修士課程人文科学研究科心理学専攻学内入試",{"$f":"'「志願先」欄  選択一覧'!G199","v":"併願不可"}]
[null,{"$f":"'「志願先」欄  選択一覧'!B200","v":"修士課程"},{"$f":"'「志願先」欄  選択一覧'!C200","v":"国際文化研究科"},{"$f":"'「志願先」欄  選択一覧'!D200","v":"国際文化専攻"},{"$f":"'「志願先」欄  選択一覧'!E200","v":"学内入試"},{"$f":"'「志願先」欄  選択一覧'!F200","v":"なし"},"修士課程国際文化研究科国際文化専攻学内入試",{"$f":"'「志願先」欄  選択一覧'!G200","v":"併願可"}]
[null,{"$f":"'「志願先」欄  選択一覧'!B201","v":"修士課程"},{"$f":"'「志願先」欄  選択一覧'!C201","v":"経済学研究科"},{"$f":"'「志願先」欄  選択一覧'!D201","v":"経済学専攻"},{"$f":"'「志願先」欄  選択一覧'!E201","v":"学部内入試"},{"$f":"'「志願先」欄  選択一覧'!F201","v":"修士M.A.（歴史・思想・制度）"},"修士課程経済学研究科経済学専攻学部内入試",{"$f":"'「志願先」欄  選択一覧'!G201","v":"併願不可"}]
[null,{"$f":"'「志願先」欄  選択一覧'!B202","v":"修士課程"},{"$f":"'「志願先」欄  選択一覧'!C202","v":"経済学研究科"},{"$f":"'「志願先」欄  選択一覧'!D202","v":"経済学専攻"},{"$f":"'「志願先」欄  選択一覧'!E202","v":"学部内入試"},{"$f":"'「志願先」欄  選択一覧'!F202","v":"修士M.A.（金融・企業）"},"修士課程経済学研究科経済学専攻学部内入試",{"$f":"'「志願先」欄  選択一覧'!G202","v":"併願不可"}]
[null,{"$f":"'「志願先」欄  選択一覧'!B203","v":"修士課程"},{"$f":"'「志願先」欄  選択一覧'!C203","v":"経済学研究科"},{"$f":"'「志願先」欄  選択一覧'!D203","v":"経済学専攻"},{"$f":"'「志願先」欄  選択一覧'!E203","v":"学部内入試"},{"$f":"'「志願先」欄  選択一覧'!F203","v":"修士M.A.（政策・環境）"},"修士課程経済学研究科経済学専攻学部内入試",{"$f":"'「志願先」欄  選択一覧'!G203","v":"併願不可"}]
[null,{"$f":"'「志願先」欄  選択一覧'!B204","v":"修士課程"},{"$f":"'「志願先」欄  選択一覧'!C204","v":"経済学研究科"},{"$f":"'「志願先」欄  選択一覧'!D204","v":"経済学専攻"},{"$f":"'「志願先」欄  選択一覧'!E204","v":"学部内入試"},{"$f":"'「志願先」欄  選択一覧'!F204","v":"修士M.A.（国際・地域）"},"修士課程経済学研究科経済学専攻学部内入試",{"$f":"'「志願先」欄  選択一覧'!G204","v":"併願不可"}]
[null,{"$f":"'「志願先」欄  選択一覧'!B205","v":"修士課程"},{"$f":"'「志願先」欄  選択一覧'!C205","v":"経済学研究科"},{"$f":"'「志願先」欄  選択一覧'!D205","v":"経済学専攻"},{"$f":"'「志願先」欄  選択一覧'!E205","v":"学部内入試"},{"$f":"'「志願先」欄  選択一覧'!F205","v":"修士M.A.（応用ミクロ・応用マクロ・計量）"},"修士課程経済学研究科経済学専攻学部内入試",{"$f":"'「志願先」欄  選択一覧'!G205","v":"併願不可"}]
[null,{"$f":"'「志願先」欄  選択一覧'!B206","v":"修士課程"},{"$f":"'「志願先」欄  選択一覧'!C206","v":"経済学研究科"},{"$f":"'「志願先」欄  選択一覧'!D206","v":"経済学専攻"},{"$f":"'「志願先」欄  選択一覧'!E206","v":"学部内入試"},{"$f":"'「志願先」欄  選択一覧'!F206","v":"博士5年Ph.D.（歴史・思想・制度）"},"修士課程経済学研究科経済学専攻学部内入試",{"$f":"'「志願先」欄  選択一覧'!G206","v":"併願不可"}]
[null,{"$f":"'「志願先」欄  選択一覧'!B207","v":"修士課程"},{"$f":"'「志願先」欄  選択一覧'!C207","v":"経済学研究科"},{"$f":"'「志願先」欄  選択一覧'!D207","v":"経済学専攻"},{"$f":"'「志願先」欄  選択一覧'!E207","v":"学部内入試"},{"$f":"'「志願先」欄  選択一覧'!F207","v":"博士5年Ph.D.（金融・企業）"},"修士課程経済学研究科経済学専攻学部内入試",{"$f":"'「志願先」欄  選択一覧'!G207","v":"併願不可"}]
[null,{"$f":"'「志願先」欄  選択一覧'!B208","v":"修士課程"},{"$f":"'「志願先」欄  選択一覧'!C208","v":"経済学研究科"},{"$f":"'「志願先」欄  選択一覧'!D208","v":"経済学専攻"},{"$f":"'「志願先」欄  選択一覧'!E208","v":"学部内入試"},{"$f":"'「志願先」欄  選択一覧'!F208","v":"博士5年Ph.D.（政策・環境）"},"修士課程経済学研究科経済学専攻学部内入試",{"$f":"'「志願先」欄  選択一覧'!G208","v":"併願不可"}]
[null,{"$f":"'「志願先」欄  選択一覧'!B209","v":"修士課程"},{"$f":"'「志願先」欄  選択一覧'!C209","v":"経済学研究科"},{"$f":"'「志願先」欄  選択一覧'!D209","v":"経済学専攻"},{"$f":"'「志願先」欄  選択一覧'!E209","v":"学部内入試"},{"$f":"'「志願先」欄  選択一覧'!F209","v":"博士5年Ph.D.（国際・地域）"},"修士課程経済学研究科経済学専攻学部内入試",{"$f":"'「志願先」欄  選択一覧'!G209","v":"併願不可"}]
[null,{"$f":"'「志願先」欄  選択一覧'!B210","v":"修士課程"},{"$f":"'「志願先」欄  選択一覧'!C210","v":"経済学研究科"},{"$f":"'「志願先」欄  選択一覧'!D210","v":"経済学専攻"},{"$f":"'「志願先」欄  選択一覧'!E210","v":"学部内入試"},{"$f":"'「志願先」欄  選択一覧'!F210","v":"博士5年Ph.D.（応用ミクロ・応用マクロ・計量）"},"修士課程経済学研究科経済学専攻学部内入試",{"$f":"'「志願先」欄  選択一覧'!G210","v":"併願不可"}]
[null,{"$f":"'「志願先」欄  選択一覧'!B211","v":"修士課程"},{"$f":"'「志願先」欄  選択一覧'!C211","v":"経済学研究科"},{"$f":"'「志願先」欄  選択一覧'!D211","v":"経済学専攻"},{"$f":"'「志願先」欄  選択一覧'!E211","v":"学部内入試"},{"$f":"'「志願先」欄  選択一覧'!F211","v":"1年制"},"修士課程経済学研究科経済学専攻学部内入試",{"$f":"'「志願先」欄  選択一覧'!G211","v":"併願不可"}]
[null,{"$f":"'「志願先」欄  選択一覧'!B212","v":"修士課程"},{"$f":"'「志願先」欄  選択一覧'!C212","v":"経済学研究科"},{"$f":"'「志願先」欄  選択一覧'!D212","v":"経済学専攻"},{"$f":"'「志願先」欄  選択一覧'!E212","v":"学部内入試"},{"$f":"'「志願先」欄  選択一覧'!F212","v":"1年制"},"修士課程経済学研究科経済学専攻学部内入試",{"$f":"'「志願先」欄  選択一覧'!G212","v":"併願不可"}]
[null,{"$f":"'「志願先」欄  選択一覧'!B213","v":"修士課程"},{"$f":"'「志願先」欄  選択一覧'!C213","v":"経済学研究科"},{"$f":"'「志願先」欄  選択一覧'!D213","v":"経済学専攻"},{"$f":"'「志願先」欄  選択一覧'!E213","v":"学部内入試"},{"$f":"'「志願先」欄  選択一覧'!F213","v":"1年制"},"修士課程経済学研究科経済学専攻学部内入試",{"$f":"'「志願先」欄  選択一覧'!G213","v":"併願不可"}]
[null,{"$f":"'「志願先」欄  選択一覧'!B214","v":"修士課程"},{"$f":"'「志願先」欄  選択一覧'!C214","v":"経済学研究科"},{"$f":"'「志願先」欄  選択一覧'!D214","v":"経済学専攻"},{"$f":"'「志願先」欄  選択一覧'!E214","v":"学部内入試"},{"$f":"'「志願先」欄  選択一覧'!F214","v":"1年制"},"修士課程経済学研究科経済学専攻学部内入試",{"$f":"'「志願先」欄  選択一覧'!G214","v":"併願不可"}]
[null,{"$f":"'「志願先」欄  選択一覧'!B215","v":"修士課程"},{"$f":"'「志願先」欄  選択一覧'!C215","v":"経済学研究科"},{"$f":"'「志願先」欄  選択一覧'!D215","v":"経済学専攻"},{"$f":"'「志願先」欄  選択一覧'!E215","v":"学部内入試"},{"$f":"'「志願先」欄  選択一覧'!F215","v":"1年制"},"修士課程経済学研究科経済学専攻学部内入試",{"$f":"'「志願先」欄  選択一覧'!G215","v":"併願不可"}]
[null,{"$f":"'「志願先」欄  選択一覧'!B216","v":"修士課程"},{"$f":"'「志願先」欄  選択一覧'!C216","v":"経済学研究科"},{"$f":"'「志願先」欄  選択一覧'!D216","v":"経済学専攻"},{"$f":"'「志願先」欄  選択一覧'!E216","v":"学部内入試"},{"$f":"'「志願先」欄  選択一覧'!F216","v":"1年制"},"修士課程経済学研究科経済学専攻学部内入試",{"$f":"'「志願先」欄  選択一覧'!G216","v":"併願不可"}]
[null,{"$f":"'「志願先」欄  選択一覧'!B217","v":"修士課程"},{"$f":"'「志願先」欄  選択一覧'!C217","v":"経済学研究科"},{"$f":"'「志願先」欄  選択一覧'!D217","v":"経済学専攻"},{"$f":"'「志願先」欄  選択一覧'!E217","v":"学部内入試"},{"$f":"'「志願先」欄  選択一覧'!F217","v":"1年制"},"修士課程経済学研究科経済学専攻学部内入試",{"$f":"'「志願先」欄  選択一覧'!G217","v":"併願不可"}]
[null,{"$f":"'「志願先」欄  選択一覧'!B218","v":"修士課程"},{"$f":"'「志願先」欄  選択一覧'!C218","v":"経済学研究科"},{"$f":"'「志願先」欄  選択一覧'!D218","v":"経済学専攻"},{"$f":"'「志願先」欄  選択一覧'!E218","v":"学部内入試"},{"$f":"'「志願先」欄  選択一覧'!F218","v":"1年制"},"修士課程経済学研究科経済学専攻学部内入試",{"$f":"'「志願先」欄  選択一覧'!G218","v":"併願不可"}]
[null,{"$f":"'「志願先」欄  選択一覧'!B219","v":"修士課程"},{"$f":"'「志願先」欄  選択一覧'!C219","v":"経済学研究科"},{"$f":"'「志願先」欄  選択一覧'!D219","v":"経済学専攻"},{"$f":"'「志願先」欄  選択一覧'!E219","v":"学部内入試"},{"$f":"'「志願先」欄  選択一覧'!F219","v":"1年制"},"修士課程経済学研究科経済学専攻学部内入試",{"$f":"'「志願先」欄  選択一覧'!G219","v":"併願不可"}]
[null,{"$f":"'「志願先」欄  選択一覧'!B220","v":"修士課程"},{"$f":"'「志願先」欄  選択一覧'!C220","v":"経済学研究科"},{"$f":"'「志願先」欄  選択一覧'!D220","v":"経済学専攻"},{"$f":"'「志願先」欄  選択一覧'!E220","v":"学部内入試"},{"$f":"'「志願先」欄  選択一覧'!F220","v":"1年制"},"修士課程経済学研究科経済学専攻学部内入試",{"$f":"'「志願先」欄  選択一覧'!G220","v":"併願不可"}]
[null,{"$f":"'「志願先」欄  選択一覧'!B221","v":"修士課程"},{"$f":"'「志願先」欄  選択一覧'!C221","v":"法学研究科"},{"$f":"'「志願先」欄  選択一覧'!D221","v":"法律学専攻"},{"$f":"'「志願先」欄  選択一覧'!E221","v":"学科内入試"},{"$f":"'「志願先」欄  選択一覧'!F221","v":"なし"},"修士課程法学研究科法律学専攻学科内入試",{"$f":"'「志願先」欄  選択一覧'!G221","v":"併願不可"}]
[null,{"$f":"'「志願先」欄  選択一覧'!B222","v":"修士課程"},{"$f":"'「志願先」欄  選択一覧'!C222","v":"政治学研究科"},{"$f":"'「志願先」欄  選択一覧'!D222","v":"政治学専攻"},{"$f":"'「志願先」欄  選択一覧'!E222","v":"学内入試"},{"$f":"'「志願先」欄  選択一覧'!F222","v":"なし"},"修士課程政治学研究科政治学専攻学内入試",{"$f":"'「志願先」欄  選択一覧'!G222","v":"併願不可"}]
[null,{"$f":"'「志願先」欄  選択一覧'!B223","v":"修士課程"},{"$f":"'「志願先」欄  選択一覧'!C223","v":"政治学研究科"},{"$f":"'「志願先」欄  選択一覧'!D223","v":"国際政治学専攻"},{"$f":"'「志願先」欄  選択一覧'!E223","v":"学内入試"},{"$f":"'「志願先」欄  選択一覧'!F223","v":"なし"},"修士課程政治学研究科国際政治学専攻学内入試",{"$f":"'「志願先」欄  選択一覧'!G223","v":"併願不可"}]
[null,{"$f":"'「志願先」欄  選択一覧'!B224","v":"修士課程"},{"$f":"'「志願先」欄  選択一覧'!C224","v":"社会学研究科"},{"$f":"'「志願先」欄  選択一覧'!D224","v":"社会学専攻"},{"$f":"'「志願先」欄  選択一覧'!E224","v":"学内入試"},{"$f":"'「志願先」欄  選択一覧'!F224","v":"社会学コース"},"修士課程社会学研究科社会学専攻学内入試",{"$f":"'「志願先」欄  選択一覧'!G224","v":"併願不可"}]
[null,{"$f":"'「志願先」欄  選択一覧'!B225","v":"修士課程"},{"$f":"'「志願先」欄  選択一覧'!C225","v":"社会学研究科"},{"$f":"'「志願先」欄  選択一覧'!D225","v":"社会学専攻"},{"$f":"'「志願先」欄  選択一覧'!E225","v":"学内入試"},{"$f":"'「志願先」欄  選択一覧'!F225","v":"メディアコース"},"修士課程社会学研究科社会学専攻学内入試",{"$f":"'「志願先」欄  選択一覧'!G225","v":"併願不可"}]
[null,{"$f":"'「志願先」欄  選択一覧'!B226","v":"修士課程"},{"$f":"'「志願先」欄  選択一覧'!C226","v":"経営学研究科"},{"$f":"'「志願先」欄  選択一覧'!D226","v":"経営学専攻"},{"$f":"'「志願先」欄  選択一覧'!E226","v":"学内入試"},{"$f":"'「志願先」欄  選択一覧'!F226","v":"戦略・企業家"},"修士課程経営学研究科経営学専攻学内入試",{"$f":"'「志願先」欄  選択一覧'!G226","v":"併願不可"}]
[null,{"$f":"'「志願先」欄  選択一覧'!B227","v":"修士課程"},{"$f":"'「志願先」欄  選択一覧'!C227","v":"経営学研究科"},{"$f":"'「志願先」欄  選択一覧'!D227","v":"経営学専攻"},{"$f":"'「志願先」欄  選択一覧'!E227","v":"学内入試"},{"$f":"'「志願先」欄  選択一覧'!F227","v":"マーケティング"},"修士課程経営学研究科経営学専攻学内入試",{"$f":"'「志願先」欄  選択一覧'!G227","v":"併願不可"}]
[null,{"$f":"'「志願先」欄  選択一覧'!B228","v":"修士課程"},{"$f":"'「志願先」欄  選択一覧'!C228","v":"経営学研究科"},{"$f":"'「志願先」欄  選択一覧'!D228","v":"経営学専攻"},{"$f":"'「志願先」欄  選択一覧'!E228","v":"学内入試"},{"$f":"'「志願先」欄  選択一覧'!F228","v":"国際経営"},"修士課程経営学研究科経営学専攻学内入試",{"$f":"'「志願先」欄  選択一覧'!G228","v":"併願不可"}]
[null,{"$f":"'「志願先」欄  選択一覧'!B229","v":"修士課程"},{"$f":"'「志願先」欄  選択一覧'!C229","v":"経営学研究科"},{"$f":"'「志願先」欄  選択一覧'!D229","v":"経営学専攻"},{"$f":"'「志願先」欄  選択一覧'!E229","v":"学内入試"},{"$f":"'「志願先」欄  選択一覧'!F229","v":"経営史"},"修士課程経営学研究科経営学専攻学内入試",{"$f":"'「志願先」欄  選択一覧'!G229","v":"併願不可"}]
[null,{"$f":"'「志願先」欄  選択一覧'!B230","v":"修士課程"},{"$f":"'「志願先」欄  選択一覧'!C230","v":"経営学研究科"},{"$f":"'「志願先」欄  選択一覧'!D230","v":"経営学専攻"},{"$f":"'「志願先」欄  選択一覧'!E230","v":"学内入試"},{"$f":"'「志願先」欄  選択一覧'!F230","v":"会計"},"修士課程経営学研究科経営学専攻学内入試",{"$f":"'「志願先」欄  選択一覧'!G230","v":"併願不可"}]
[null,{"$f":"'「志願先」欄  選択一覧'!B231","v":"修士課程"},{"$f":"'「志願先」欄  選択一覧'!C231","v":"経営学研究科"},{"$f":"'「志願先」欄  選択一覧'!D231","v":"経営学専攻"},{"$f":"'「志願先」欄  選択一覧'!E231","v":"学内入試"},{"$f":"'「志願先」欄  選択一覧'!F231","v":"経済"},"修士課程経営学研究科経営学専攻学内入試",{"$f":"'「志願先」欄  選択一覧'!G231","v":"併願不可"}]
[null,{"$f":"'「志願先」欄  選択一覧'!B232","v":"修士課程"},{"$f":"'「志願先」欄  選択一覧'!C232","v":"経営学研究科"},{"$f":"'「志願先」欄  選択一覧'!D232","v":"経営学専攻"},{"$f":"'「志願先」欄  選択一覧'!E232","v":"学内入試"},{"$f":"'「志願先」欄  選択一覧'!F232","v":"組織・人事"},"修士課程経営学研究科経営学専攻学内入試",{"$f":"'「志願先」欄  選択一覧'!G232","v":"併願不可"}]
[null,{"$f":"'「志願先」欄  選択一覧'!B233","v":"修士課程"},{"$f":"'「志願先」欄  選択一覧'!C233","v":"経営学研究科"},{"$f":"'「志願先」欄  選択一覧'!D233","v":"経営学専攻"},{"$f":"'「志願先」欄  選択一覧'!E233","v":"学内入試"},{"$f":"'「志願先」欄  選択一覧'!F233","v":"ファイナンス"},"修士課程経営学研究科経営学専攻学内入試",{"$f":"'「志願先」欄  選択一覧'!G233","v":"併願不可"}]
[null,{"$f":"'「志願先」欄  選択一覧'!B234","v":"修士課程"},{"$f":"'「志願先」欄  選択一覧'!C234","v":"経営学研究科"},{"$f":"'「志願先」欄  選択一覧'!D234","v":"経営学専攻"},{"$f":"'「志願先」欄  選択一覧'!E234","v":"学内入試"},{"$f":"'「志願先」欄  選択一覧'!F234","v":"AI・データサイエンス"},"修士課程経営学研究科経営学専攻学内入試",{"$f":"'「志願先」欄  選択一覧'!G234","v":"併願不可"}]